{"text_format":"1","workbook":"xlsx","n_sheets":13,"sheets":["Skriveni","Upute","RefStr","PRRAS","NT","RasF","PVRIO","Bil","Obv","SPRRAS","Kont","Sifre","Prom"],"not_rendered":{"charts":0,"images":0,"macros":0,"external_links":0,"defined_names":28,"comments":2,"pivot_tables":0},"unopened":[],"bounds":{"document_bytes":16777216,"sheet_cells":100000,"rows_first":2000,"rows_last":500,"rows_between":2000,"halvings":0,"cell_chars":16384,"cell_head_chars":4096},"cells_cut":0,"cells_raw":0,"read":"whole","date_system":"1900"}

{"sheet":"Skriveni","index":0,"n_rows":1975,"n_cols":12,"rows_kept":1975,"cut":false,"hidden":true,"merged":[]}
["VP","AOP","IZNOS01","IZNOS02","IZNOS03","IZNOS04","KONTRBR","RAZLIKA","RAZLIKA1","POLJE","TEKST","BROJ"]
[151,{"$f":"PRRAS!C12","v":1},{"$f":"PRRAS!D12","v":11037394},{"$f":"PRRAS!E12","v":12004529},null,null,{"$f":"(B2/1000)*(C2*1+D2*2)","v":35046.451999999997},{"$f":"ABS(C2-ROUND(C2,0))+ABS(D2-ROUND(D2,0))","v":0},0,"VP151",{"$f":"RefStr!B25","v":"DA"},{"$f":"IF(RefStr!B25=\"DA\",1,0)","v":1}]
[151,{"$f":"PRRAS!C13","v":2},{"$f":"PRRAS!D13","v":0},{"$f":"PRRAS!E13","v":0},null,null,{"$f":"(B3/1000)*(C3*1+D3*2)","v":0},{"$f":"ABS(C3-ROUND(C3,0))+ABS(D3-ROUND(D3,0))","v":0},0,"VP153",{"$f":"RefStr!B27","v":"NE"},{"$f":"IF(RefStr!B27=\"DA\",1,0)","v":0}]
[151,{"$f":"PRRAS!C14","v":3},{"$f":"PRRAS!D14","v":0},{"$f":"PRRAS!E14","v":0},null,null,{"$f":"(B4/1000)*(C4*1+D4*2)","v":0},{"$f":"ABS(C4-ROUND(C4,0))+ABS(D4-ROUND(D4,0))","v":0},0,"VP154",{"$f":"RefStr!B29","v":"NE"},{"$f":"IF(RefStr!B29=\"DA\",1,0)","v":0}]
[151,{"$f":"PRRAS!C15","v":4},{"$f":"PRRAS!D15","v":0},{"$f":"PRRAS!E15","v":0},null,null,{"$f":"(B5/1000)*(C5*1+D5*2)","v":0},{"$f":"ABS(C5-ROUND(C5,0))+ABS(D5-ROUND(D5,0))","v":0},0,"VP156",{"$f":"IF(RefStr!B31<>\"\",RefStr!B31, \"NE\")","v":"DA"},{"$f":"IF(RefStr!B31=\"DA\",1,0)","v":1}]
[151,{"$f":"PRRAS!C16","v":5},{"$f":"PRRAS!D16","v":0},{"$f":"PRRAS!E16","v":0},null,null,0,0,0,"VP158",{"$f":"RefStr!B33","v":"DA"},{"$f":"IF(RefStr!B33=\"DA\",1,0)","v":1}]
[151,{"$f":"PRRAS!C17","v":6},{"$f":"PRRAS!D17","v":0},{"$f":"PRRAS!E17","v":0},null,null,0,0,0,"VP159",{"$f":"IF(A1756=159,RefStr!B35,\"NE\")","v":"NE"},0]
[151,{"$f":"PRRAS!C18","v":7},{"$f":"PRRAS!D18","v":0},{"$f":"PRRAS!E18","v":0},null,null,0,0,0,"VP160",{"$f":"IF(A1756=160,RefStr!B35,\"NE\")","v":"NE"},0]
[151,{"$f":"PRRAS!C19","v":8},{"$f":"PRRAS!D19","v":0},{"$f":"PRRAS!E19","v":0},null,null,0,0,0,"VP161",{"$f":"RefStr!B37","v":"NE"},{"$f":"IF(RefStr!B37=\"DA\",1,0)","v":0}]
[151,{"$f":"PRRAS!C20","v":9},{"$f":"PRRAS!D20","v":0},{"$f":"PRRAS!E20","v":0},null,null,0,0,0,"VP162","NE",{"$f":"IF(AND(RefStr!B35=\"DA\",A1756=162),1,0)","v":0}]
[151,{"$f":"PRRAS!C21","v":10},{"$f":"PRRAS!D21","v":0},{"$f":"PRRAS!E21","v":0},null,null,0,0,0,"VP163","NE",{"$f":"IF(AND(RefStr!B35=\"DA\",A1756=163),1,0)","v":0}]
[151,{"$f":"PRRAS!C22","v":11},{"$f":"PRRAS!D22","v":0},{"$f":"PRRAS!E22","v":0},null,null,0,0,0,"RAZDOBLJE",{"$f":"TRIM(RefStr!F6)","v":"2014-12"},{"$f":"IF(RefStr!F6<>0,100*INT(VALUE(MID(RefStr!F6,1,4)))+INT(VALUE(MID(RefStr!F6,6,2))), 0)","v":201412}]
[151,{"$f":"PRRAS!C23","v":12},{"$f":"PRRAS!D23","v":0},{"$f":"PRRAS!E23","v":0},null,null,0,0,0,"DATUMOD",{"$f":"TEXT(RefStr!K10,\"YYYYMMDD\")","v":"20140101"},{"$f":"YEAR(RefStr!K10)*10000+MONTH(RefStr!K10)*100+DAY(RefStr!K10)","v":20140101}]
[151,{"$f":"PRRAS!C24","v":13},{"$f":"PRRAS!D24","v":0},{"$f":"PRRAS!E24","v":0},null,null,0,0,0,"DATUMDO",{"$f":"TEXT(RefStr!K12,\"YYYYMMDD\")","v":"20141231"},{"$f":"YEAR(RefStr!K12)*10000+MONTH(RefStr!K12)*100+DAY(RefStr!K12)","v":20141231}]
[151,{"$f":"PRRAS!C25","v":14},{"$f":"PRRAS!D25","v":0},{"$f":"PRRAS!E25","v":0},null,null,0,0,0,"RKP",{"$f":"TEXT(RefStr!B6,\"00000\")","v":"14402"},{"$f":"INT(VALUE(RefStr!B6))","v":14402}]
[151,{"$f":"PRRAS!C26","v":15},{"$f":"PRRAS!D26","v":0},{"$f":"PRRAS!E26","v":0},null,null,0,0,0,"MATBROJ",{"$f":"TEXT(RefStr!B8,\"00000000\")","v":"03324281"},{"$f":"INT(VALUE(RefStr!B8))","v":3324281}]
[151,{"$f":"PRRAS!C27","v":16},{"$f":"PRRAS!D27","v":0},{"$f":"PRRAS!E27","v":0},null,null,0,0,0,"NAZIV",{"$f":"TRIM(RefStr!B10)","v":"OŠ VUGROVEC - KAŠINA"},{"$f":"LEN(Skriveni!K17)","v":20}]
[151,{"$f":"PRRAS!C28","v":17},{"$f":"PRRAS!D28","v":0},{"$f":"PRRAS!E28","v":0},null,null,0,0,0,"POSTA",{"$f":"TEXT(RefStr!B12,\"00000\")","v":"10362"},{"$f":"INT(VALUE(RefStr!B12))","v":10362}]
[151,{"$f":"PRRAS!C29","v":18},{"$f":"PRRAS!D29","v":0},{"$f":"PRRAS!E29","v":0},null,null,0,0,0,"MJESTO",{"$f":"TRIM(RefStr!C12)","v":"KAŠINA"},{"$f":"LEN(Skriveni!K19)","v":6}]
[151,{"$f":"PRRAS!C30","v":19},{"$f":"PRRAS!D30","v":0},{"$f":"PRRAS!E30","v":0},null,null,0,0,0,"ADRESA",{"$f":"TRIM(RefStr!B14)","v":"IVANA MAŽURANIĆA 43"},{"$f":"LEN(Skriveni!K20)","v":19}]
[151,{"$f":"PRRAS!C31","v":20},{"$f":"PRRAS!D31","v":0},{"$f":"PRRAS!E31","v":0},null,null,0,0,0,"RAZINA",{"$f":"TEXT(RefStr!B16,\"00\")","v":"31"},{"$f":"INT(VALUE(RefStr!B16))","v":31}]
[151,{"$f":"PRRAS!C32","v":21},{"$f":"PRRAS!D32","v":0},{"$f":"PRRAS!E32","v":0},null,null,0,0,0,"DJELAT",{"$f":"TEXT(RefStr!B18,\"0000\")","v":"8520"},{"$f":"INT(VALUE(RefStr!B18))","v":8520}]
[151,{"$f":"PRRAS!C33","v":22},{"$f":"PRRAS!D33","v":0},{"$f":"PRRAS!E33","v":0},null,null,0,0,0,"RAZDJEL",{"$f":"TEXT(RefStr!B20,\"000\")","v":"000"},{"$f":"INT(VALUE(RefStr!B20))","v":0}]
[151,{"$f":"PRRAS!C34","v":23},{"$f":"PRRAS!D34","v":0},{"$f":"PRRAS!E34","v":0},null,null,0,0,0,"OPCINA",{"$f":"TEXT(RefStr!B22,\"000\")","v":"133"},{"$f":"INT(VALUE(RefStr!B22))","v":133}]
[151,{"$f":"PRRAS!C35","v":24},{"$f":"PRRAS!D35","v":0},{"$f":"PRRAS!E35","v":0},null,null,0,0,0,"ZUPANIJA",{"$f":"IF(ISNUMBER(RefStr!N22), TEXT(RefStr!N22, \"00\"),\"00\")","v":"21"},{"$f":"IF(ISERROR(RefStr!N22),0,INT(VALUE(RefStr!N22)))","v":21}]
[151,{"$f":"PRRAS!C36","v":25},{"$f":"PRRAS!D36","v":0},{"$f":"PRRAS!E36","v":0},null,null,0,0,0,"OIB",{"$f":"TEXT(RefStr!K14, \"00000000000\")","v":"43748649227"},{"$f":"INT(VALUE(RefStr!K14))","v":43748649227}]
[151,{"$f":"PRRAS!C37","v":26},{"$f":"PRRAS!D37","v":0},{"$f":"PRRAS!E37","v":0},null,null,0,0,0,"KONTAKT",{"$f":"TRIM(RefStr!H25)","v":"NADA MILEC"},{"$f":"LEN(RefStr!H25)","v":10}]
[151,{"$f":"PRRAS!C38","v":27},{"$f":"PRRAS!D38","v":0},{"$f":"PRRAS!E38","v":0},null,null,0,0,0,"TEL",{"$f":"TRIM(RefStr!H27)","v":"012059256"},{"$f":"LEN(RefStr!H27)","v":9}]
[151,{"$f":"PRRAS!C39","v":28},{"$f":"PRRAS!D39","v":0},{"$f":"PRRAS!E39","v":0},null,null,0,0,0,"FAX",{"$f":"TRIM(RefStr!K27)","v":"012056837"},{"$f":"LEN(RefStr!K27)","v":9}]
[151,{"$f":"PRRAS!C40","v":29},{"$f":"PRRAS!D40","v":0},{"$f":"PRRAS!E40","v":0},null,null,0,0,0,"E_POSTA",{"$f":"TRIM(RefStr!H29)","v":"nadamilec1@gmail.com"},{"$f":"LEN(RefStr!H29)","v":20}]
[151,{"$f":"PRRAS!C41","v":30},{"$f":"PRRAS!D41","v":0},{"$f":"PRRAS!E41","v":0},null,null,0,0,0,"E_POSTAOBV",{"$f":"TRIM(RefStr!H31)","v":"ured@os-vugrovec-kasina.skole.hr"},{"$f":"LEN(RefStr!H31)","v":32}]
[151,{"$f":"PRRAS!C42","v":31},{"$f":"PRRAS!D42","v":0},{"$f":"PRRAS!E42","v":0},null,null,0,0,0,"ZAK_PREDST",{"$f":"TRIM(RefStr!H33)","v":"VLADIMIR VUGER"},{"$f":"LEN(RefStr!H33)","v":14}]
[151,{"$f":"PRRAS!C43","v":32},{"$f":"PRRAS!D43","v":0},{"$f":"PRRAS!E43","v":0},null,null,0,0,0,"KONTBR",{"$f":"SUM(G2:G1975)","v":245300595.83700004},{"$f":"SUM(G2:G1975)","v":245300595.83700004}]
[151,{"$f":"PRRAS!C44","v":33},{"$f":"PRRAS!D44","v":0},{"$f":"PRRAS!E44","v":0},null,null,0,0,0,"RAZLIKA",{"$f":"IF(SUM(H2:H1922)<>0,\"LIPE\",\"NULA\")","v":"NULA"},{"$f":"SUM(H2:H1922)","v":0}]
[151,{"$f":"PRRAS!C45","v":34},{"$f":"PRRAS!D45","v":0},{"$f":"PRRAS!E45","v":0},null,null,0,0,0,"BRKONT",{"$f":"TEXT(Kont!E2, \"000\")","v":"000"},{"$f":"IF(ISERROR(Kont!E2),1,Kont!E2)","v":0}]
[151,{"$f":"PRRAS!C46","v":35},{"$f":"PRRAS!D46","v":0},{"$f":"PRRAS!E46","v":0},null,null,0,0,0,"VER","306",306]
[151,{"$f":"PRRAS!C47","v":36},{"$f":"PRRAS!D47","v":0},{"$f":"PRRAS!E47","v":0},null,null,0,0,0]
[151,{"$f":"PRRAS!C48","v":37},{"$f":"PRRAS!D48","v":0},{"$f":"PRRAS!E48","v":0},null,null,0,0,0]
[151,{"$f":"PRRAS!C49","v":38},{"$f":"PRRAS!D49","v":0},{"$f":"PRRAS!E49","v":0},null,null,0,0,0]
[151,{"$f":"PRRAS!C50","v":39},{"$f":"PRRAS!D50","v":0},{"$f":"PRRAS!E50","v":0},null,null,0,0,0]
[151,{"$f":"PRRAS!C51","v":40},{"$f":"PRRAS!D51","v":0},{"$f":"PRRAS!E51","v":0},null,null,0,0,0]
[151,{"$f":"PRRAS!C52","v":41},{"$f":"PRRAS!D52","v":0},{"$f":"PRRAS!E52","v":0},null,null,0,0,0]
[151,{"$f":"PRRAS!C53","v":42},{"$f":"PRRAS!D53","v":0},{"$f":"PRRAS!E53","v":0},null,null,0,0,0]
[151,{"$f":"PRRAS!C54","v":43},{"$f":"PRRAS!D54","v":0},{"$f":"PRRAS!E54","v":0},null,null,0,0,0]
[151,{"$f":"PRRAS!C55","v":44},{"$f":"PRRAS!D55","v":0},{"$f":"PRRAS!E55","v":0},null,null,0,0,0]
[151,{"$f":"PRRAS!C56","v":45},{"$f":"PRRAS!D56","v":0},{"$f":"PRRAS!E56","v":0},null,null,0,0,0]
[151,{"$f":"PRRAS!C57","v":46},{"$f":"PRRAS!D57","v":0},{"$f":"PRRAS!E57","v":0},null,null,0,0,0]
[151,{"$f":"PRRAS!C58","v":47},{"$f":"PRRAS!D58","v":0},{"$f":"PRRAS!E58","v":0},null,null,0,0,0]
[151,{"$f":"PRRAS!C59","v":48},{"$f":"PRRAS!D59","v":0},{"$f":"PRRAS!E59","v":0},null,null,0,0,0]
[151,{"$f":"PRRAS!C60","v":49},{"$f":"PRRAS!D60","v":0},{"$f":"PRRAS!E60","v":0},null,null,0,0,0]
[151,{"$f":"PRRAS!C61","v":50},{"$f":"PRRAS!D61","v":0},{"$f":"PRRAS!E61","v":0},null,null,0,0,0]
[151,{"$f":"PRRAS!C62","v":51},{"$f":"PRRAS!D62","v":0},{"$f":"PRRAS!E62","v":0},null,null,0,0,0]
[151,{"$f":"PRRAS!C63","v":52},{"$f":"PRRAS!D63","v":0},{"$f":"PRRAS!E63","v":0},null,null,0,0,0]
[151,{"$f":"PRRAS!C64","v":53},{"$f":"PRRAS!D64","v":0},{"$f":"PRRAS!E64","v":0},null,null,0,0,0]
[151,{"$f":"PRRAS!C65","v":54},{"$f":"PRRAS!D65","v":0},{"$f":"PRRAS!E65","v":0},null,null,0,0,0]
[151,{"$f":"PRRAS!C66","v":55},{"$f":"PRRAS!D66","v":0},{"$f":"PRRAS!E66","v":0},null,null,0,0,0]
[151,{"$f":"PRRAS!C67","v":56},{"$f":"PRRAS!D67","v":0},{"$f":"PRRAS!E67","v":0},null,null,0,0,0]
[151,{"$f":"PRRAS!C68","v":57},{"$f":"PRRAS!D68","v":0},{"$f":"PRRAS!E68","v":0},null,null,0,0,0]
[151,{"$f":"PRRAS!C69","v":58},{"$f":"PRRAS!D69","v":0},{"$f":"PRRAS!E69","v":0},null,null,0,0,0]
[151,{"$f":"PRRAS!C70","v":59},{"$f":"PRRAS!D70","v":0},{"$f":"PRRAS!E70","v":0},null,null,0,0,0]
[151,{"$f":"PRRAS!C71","v":60},{"$f":"PRRAS!D71","v":0},{"$f":"PRRAS!E71","v":0},null,null,0,0,0]
[151,{"$f":"PRRAS!C72","v":61},{"$f":"PRRAS!D72","v":0},{"$f":"PRRAS!E72","v":0},null,null,0,0,0]
[151,{"$f":"PRRAS!C73","v":62},{"$f":"PRRAS!D73","v":0},{"$f":"PRRAS!E73","v":0},null,null,0,0,0]
[151,{"$f":"PRRAS!C74","v":63},{"$f":"PRRAS!D74","v":0},{"$f":"PRRAS!E74","v":0},null,null,0,0,0]
[151,{"$f":"PRRAS!C75","v":64},{"$f":"PRRAS!D75","v":0},{"$f":"PRRAS!E75","v":0},null,null,0,0,0]
[151,{"$f":"PRRAS!C76","v":65},{"$f":"PRRAS!D76","v":0},{"$f":"PRRAS!E76","v":0},null,null,0,0,0]
[151,{"$f":"PRRAS!C77","v":66},{"$f":"PRRAS!D77","v":0},{"$f":"PRRAS!E77","v":0},null,null,0,0,0]
[151,{"$f":"PRRAS!C78","v":67},{"$f":"PRRAS!D78","v":491},{"$f":"PRRAS!E78","v":276},null,null,69.881,0,0]
[151,{"$f":"PRRAS!C79","v":68},{"$f":"PRRAS!D79","v":491},{"$f":"PRRAS!E79","v":276},null,null,{"$f":"(B69/1000)*(C69*1+D69*2)","v":70.924000000000007},{"$f":"ABS(C69-ROUND(C69,0))+ABS(D69-ROUND(D69,0))","v":0},0]
[151,{"$f":"PRRAS!C80","v":69},{"$f":"PRRAS!D80","v":0},{"$f":"PRRAS!E80","v":0},null,null,0,0,0]
[151,{"$f":"PRRAS!C81","v":70},{"$f":"PRRAS!D81","v":491},{"$f":"PRRAS!E81","v":276},null,null,73.010000000000005,0,0]
[151,{"$f":"PRRAS!C82","v":71},{"$f":"PRRAS!D82","v":0},{"$f":"PRRAS!E82","v":0},null,null,0,0,0]
[151,{"$f":"PRRAS!C83","v":72},{"$f":"PRRAS!D83","v":0},{"$f":"PRRAS!E83","v":0},null,null,0,0,0]
[151,{"$f":"PRRAS!C84","v":73},{"$f":"PRRAS!D84","v":0},{"$f":"PRRAS!E84","v":0},null,null,0,0,0]
[151,{"$f":"PRRAS!C85","v":74},{"$f":"PRRAS!D85","v":0},{"$f":"PRRAS!E85","v":0},null,null,0,0,0]
[151,{"$f":"PRRAS!C86","v":75},{"$f":"PRRAS!D86","v":0},{"$f":"PRRAS!E86","v":0},null,null,0,0,0]
[151,{"$f":"PRRAS!C87","v":76},{"$f":"PRRAS!D87","v":0},{"$f":"PRRAS!E87","v":0},null,null,0,0,0]
[151,{"$f":"PRRAS!C88","v":77},{"$f":"PRRAS!D88","v":0},{"$f":"PRRAS!E88","v":0},null,null,0,0,0]
[151,{"$f":"PRRAS!C89","v":78},{"$f":"PRRAS!D89","v":0},{"$f":"PRRAS!E89","v":0},null,null,0,0,0]
[151,{"$f":"PRRAS!C90","v":79},{"$f":"PRRAS!D90","v":0},{"$f":"PRRAS!E90","v":0},null,null,0,0,0]
[151,{"$f":"PRRAS!C91","v":80},{"$f":"PRRAS!D91","v":0},{"$f":"PRRAS!E91","v":0},null,null,0,0,0]
[151,{"$f":"PRRAS!C92","v":81},{"$f":"PRRAS!D92","v":0},{"$f":"PRRAS!E92","v":0},null,null,0,0,0]
[151,{"$f":"PRRAS!C93","v":82},{"$f":"PRRAS!D93","v":0},{"$f":"PRRAS!E93","v":0},null,null,0,0,0]
[151,{"$f":"PRRAS!C94","v":83},{"$f":"PRRAS!D94","v":0},{"$f":"PRRAS!E94","v":0},null,null,0,0,0]
[151,{"$f":"PRRAS!C95","v":84},{"$f":"PRRAS!D95","v":0},{"$f":"PRRAS!E95","v":0},null,null,0,0,0]
[151,{"$f":"PRRAS!C96","v":85},{"$f":"PRRAS!D96","v":0},{"$f":"PRRAS!E96","v":0},null,null,0,0,0]
[151,{"$f":"PRRAS!C97","v":86},{"$f":"PRRAS!D97","v":0},{"$f":"PRRAS!E97","v":0},null,null,0,0,0]
[151,{"$f":"PRRAS!C98","v":87},{"$f":"PRRAS!D98","v":0},{"$f":"PRRAS!E98","v":0},null,null,0,0,0]
[151,{"$f":"PRRAS!C99","v":88},{"$f":"PRRAS!D99","v":0},{"$f":"PRRAS!E99","v":0},null,null,0,0,0]
[151,{"$f":"PRRAS!C100","v":89},{"$f":"PRRAS!D100","v":0},{"$f":"PRRAS!E100","v":0},null,null,0,0,0]
[151,{"$f":"PRRAS!C101","v":90},{"$f":"PRRAS!D101","v":626906},{"$f":"PRRAS!E101","v":626425},null,null,169178.04,0,0]
[151,{"$f":"PRRAS!C102","v":91},{"$f":"PRRAS!D102","v":0},{"$f":"PRRAS!E102","v":0},null,null,0,0,0]
[151,{"$f":"PRRAS!C103","v":92},{"$f":"PRRAS!D103","v":0},{"$f":"PRRAS!E103","v":0},null,null,0,0,0]
[151,{"$f":"PRRAS!C104","v":93},{"$f":"PRRAS!D104","v":0},{"$f":"PRRAS!E104","v":0},null,null,0,0,0]
[151,{"$f":"PRRAS!C105","v":94},{"$f":"PRRAS!D105","v":0},{"$f":"PRRAS!E105","v":0},null,null,0,0,0]
[151,{"$f":"PRRAS!C106","v":95},{"$f":"PRRAS!D106","v":0},{"$f":"PRRAS!E106","v":0},null,null,0,0,0]
[151,{"$f":"PRRAS!C107","v":96},{"$f":"PRRAS!D107","v":626906},{"$f":"PRRAS!E107","v":626425},null,null,180456.576,0,0]
[151,{"$f":"PRRAS!C108","v":97},{"$f":"PRRAS!D108","v":0},{"$f":"PRRAS!E108","v":0},null,null,0,0,0]
[151,{"$f":"PRRAS!C109","v":98},{"$f":"PRRAS!D109","v":0},{"$f":"PRRAS!E109","v":0},null,null,0,0,0]
[151,{"$f":"PRRAS!C110","v":99},{"$f":"PRRAS!D110","v":0},{"$f":"PRRAS!E110","v":0},null,null,0,0,0]
[151,{"$f":"PRRAS!C111","v":100},{"$f":"PRRAS!D111","v":0},{"$f":"PRRAS!E111","v":0},null,null,0,0,0]
[151,{"$f":"PRRAS!C112","v":101},{"$f":"PRRAS!D112","v":626906},{"$f":"PRRAS!E112","v":626425},null,null,189855.356,0,0]
[151,{"$f":"PRRAS!C113","v":102},{"$f":"PRRAS!D113","v":0},{"$f":"PRRAS!E113","v":0},null,null,0,0,0]
[151,{"$f":"PRRAS!C114","v":103},{"$f":"PRRAS!D114","v":0},{"$f":"PRRAS!E114","v":0},null,null,0,0,0]
[151,{"$f":"PRRAS!C115","v":104},{"$f":"PRRAS!D115","v":0},{"$f":"PRRAS!E115","v":0},null,null,0,0,0]
[151,{"$f":"PRRAS!C116","v":105},{"$f":"PRRAS!D116","v":0},{"$f":"PRRAS!E116","v":0},null,null,0,0,0]
[151,{"$f":"PRRAS!C117","v":106},{"$f":"PRRAS!D117","v":0},{"$f":"PRRAS!E117","v":0},null,null,0,0,0]
[151,{"$f":"PRRAS!C118","v":107},{"$f":"PRRAS!D118","v":62057},{"$f":"PRRAS!E118","v":42207},null,null,15672.396999999999,0,0]
[151,{"$f":"PRRAS!C119","v":108},{"$f":"PRRAS!D119","v":62057},{"$f":"PRRAS!E119","v":42207},null,null,15818.868,0,0]
[151,{"$f":"PRRAS!C120","v":109},{"$f":"PRRAS!D120","v":0},{"$f":"PRRAS!E120","v":0},null,null,0,0,0]
[151,{"$f":"PRRAS!C121","v":110},{"$f":"PRRAS!D121","v":62057},{"$f":"PRRAS!E121","v":42207},null,null,16111.81,0,0]
[151,{"$f":"PRRAS!C122","v":111},{"$f":"PRRAS!D122","v":0},{"$f":"PRRAS!E122","v":0},null,null,0,0,0]
[151,{"$f":"PRRAS!C123","v":112},{"$f":"PRRAS!D123","v":0},{"$f":"PRRAS!E123","v":0},null,null,0,0,0]
[151,{"$f":"PRRAS!C124","v":113},{"$f":"PRRAS!D124","v":0},{"$f":"PRRAS!E124","v":0},null,null,0,0,0]
[151,{"$f":"PRRAS!C125","v":114},{"$f":"PRRAS!D125","v":10342492},{"$f":"PRRAS!E125","v":11308266},null,null,3757328.736,0,0]
[151,{"$f":"PRRAS!C126","v":115},{"$f":"PRRAS!D126","v":10342492},{"$f":"PRRAS!E126","v":11308266},null,null,3790287.7600000002,0,0]
[151,{"$f":"PRRAS!C127","v":116},{"$f":"PRRAS!D127","v":10258407},{"$f":"PRRAS!E127","v":11081580},null,null,3760901.7720000003,0,0]
[151,{"$f":"PRRAS!C128","v":117},{"$f":"PRRAS!D128","v":84085},{"$f":"PRRAS!E128","v":226686},null,null,62882.469000000005,0,0]
[151,{"$f":"PRRAS!C129","v":118},{"$f":"PRRAS!D129","v":0},{"$f":"PRRAS!E129","v":0},null,null,0,0,0]
[151,{"$f":"PRRAS!C130","v":119},{"$f":"PRRAS!D130","v":5448},{"$f":"PRRAS!E130","v":27355},null,null,7158.8019999999997,0,0]
[151,{"$f":"PRRAS!C131","v":120},{"$f":"PRRAS!D131","v":0},{"$f":"PRRAS!E131","v":0},null,null,0,0,0]
[151,{"$f":"PRRAS!C132","v":121},{"$f":"PRRAS!D132","v":0},{"$f":"PRRAS!E132","v":0},null,null,0,0,0]
[151,{"$f":"PRRAS!C133","v":122},{"$f":"PRRAS!D133","v":0},{"$f":"PRRAS!E133","v":0},null,null,0,0,0]
[151,{"$f":"PRRAS!C134","v":123},{"$f":"PRRAS!D134","v":0},{"$f":"PRRAS!E134","v":0},null,null,0,0,0]
[151,{"$f":"PRRAS!C135","v":124},{"$f":"PRRAS!D135","v":0},{"$f":"PRRAS!E135","v":0},null,null,0,0,0]
[151,{"$f":"PRRAS!C136","v":125},{"$f":"PRRAS!D136","v":0},{"$f":"PRRAS!E136","v":0},null,null,0,0,0]
[151,{"$f":"PRRAS!C137","v":126},{"$f":"PRRAS!D137","v":0},{"$f":"PRRAS!E137","v":0},null,null,0,0,0]
[151,{"$f":"PRRAS!C138","v":127},{"$f":"PRRAS!D138","v":0},{"$f":"PRRAS!E138","v":0},null,null,0,0,0]
[151,{"$f":"PRRAS!C139","v":128},{"$f":"PRRAS!D139","v":0},{"$f":"PRRAS!E139","v":0},null,null,0,0,0]
[151,{"$f":"PRRAS!C140","v":129},{"$f":"PRRAS!D140","v":0},{"$f":"PRRAS!E140","v":0},null,null,0,0,0]
[151,{"$f":"PRRAS!C141","v":130},{"$f":"PRRAS!D141","v":5448},{"$f":"PRRAS!E141","v":27355},null,null,7820.54,0,0]
[151,{"$f":"PRRAS!C142","v":131},{"$f":"PRRAS!D142","v":5448},{"$f":"PRRAS!E142","v":27355},null,null,7880.6980000000003,0,0]
[151,{"$f":"PRRAS!C143","v":132},{"$f":"PRRAS!D143","v":10990856},{"$f":"PRRAS!E143","v":11572861},null,null,{"$f":"(B133/1000)*(C133*1+D133*2)","v":4506028.2960000001},{"$f":"ABS(C133-ROUND(C133,0))+ABS(D133-ROUND(D133,0))","v":0},0]
[151,{"$f":"PRRAS!C144","v":133},{"$f":"PRRAS!D144","v":7856688},{"$f":"PRRAS!E144","v":8220529},null,null,3231600.2180000003,0,0]
[151,{"$f":"PRRAS!C145","v":134},{"$f":"PRRAS!D145","v":5422763},{"$f":"PRRAS!E145","v":5585972},null,null,2223690.7380000004,0,0]
[151,{"$f":"PRRAS!C146","v":135},{"$f":"PRRAS!D146","v":5232265},{"$f":"PRRAS!E146","v":5365884},null,null,2155144.4550000001,0,0]
[151,{"$f":"PRRAS!C147","v":136},{"$f":"PRRAS!D147","v":0},{"$f":"PRRAS!E147","v":0},null,null,0,0,0]
[151,{"$f":"PRRAS!C148","v":137},{"$f":"PRRAS!D148","v":56244},{"$f":"PRRAS!E148","v":71226},null,null,27221.352000000003,0,0]
[151,{"$f":"PRRAS!C149","v":138},{"$f":"PRRAS!D149","v":134254},{"$f":"PRRAS!E149","v":148862},null,null,59612.964000000007,0,0]
[151,{"$f":"PRRAS!C150","v":139},{"$f":"PRRAS!D150","v":85981},{"$f":"PRRAS!E150","v":62578},null,null,29348.043000000001,0,0]
[151,{"$f":"PRRAS!C151","v":140},{"$f":"PRRAS!D151","v":85981},{"$f":"PRRAS!E151","v":62578},null,null,29559.180000000004,0,0]
[151,{"$f":"PRRAS!C152","v":141},{"$f":"PRRAS!D152","v":2347944},{"$f":"PRRAS!E152","v":2571979},null,null,1056358.1819999998,0,0]
[151,{"$f":"PRRAS!C153","v":142},{"$f":"PRRAS!D153","v":1352552},{"$f":"PRRAS!E153","v":1404437},null,null,590922.49199999997,0,0]
[151,{"$f":"PRRAS!C154","v":143},{"$f":"PRRAS!D154","v":890245},{"$f":"PRRAS!E154","v":1050262},null,null,427679.96699999995,0,0]
[151,{"$f":"PRRAS!C155","v":144},{"$f":"PRRAS!D155","v":105147},{"$f":"PRRAS!E155","v":117280},null,null,48917.807999999997,0,0]
[151,{"$f":"PRRAS!C156","v":145},{"$f":"PRRAS!D156","v":2599075},{"$f":"PRRAS!E156","v":2725050},null,null,1167130.375,0,0]
[151,{"$f":"PRRAS!C157","v":146},{"$f":"PRRAS!D157","v":307030},{"$f":"PRRAS!E157","v":358091},null,null,149388.95199999999,0,0]
[151,{"$f":"PRRAS!C158","v":147},{"$f":"PRRAS!D158","v":25063},{"$f":"PRRAS!E158","v":33474},null,null,13525.616999999998,0,0]
[151,{"$f":"PRRAS!C159","v":148},{"$f":"PRRAS!D159","v":268583},{"$f":"PRRAS!E159","v":294073},null,null,126795.89199999999,0,0]
[151,{"$f":"PRRAS!C160","v":149},{"$f":"PRRAS!D160","v":9736},{"$f":"PRRAS!E160","v":21920},null,null,7982.8239999999996,0,0]
[151,{"$f":"PRRAS!C161","v":150},{"$f":"PRRAS!D161","v":3648},{"$f":"PRRAS!E161","v":8624},null,null,3134.4,0,0]
[151,{"$f":"PRRAS!C162","v":151},{"$f":"PRRAS!D162","v":1361856},{"$f":"PRRAS!E162","v":1206912},null,null,570127.67999999993,0,0]
[151,{"$f":"PRRAS!C163","v":152},{"$f":"PRRAS!D163","v":119353},{"$f":"PRRAS!E163","v":105908},null,null,50337.688000000002,0,0]
[151,{"$f":"PRRAS!C164","v":153},{"$f":"PRRAS!D164","v":597155},{"$f":"PRRAS!E164","v":504873},null,null,245855.853,0,0]
[151,{"$f":"PRRAS!C165","v":154},{"$f":"PRRAS!D165","v":600159},{"$f":"PRRAS!E165","v":521637},null,null,253088.682,0,0]
[151,{"$f":"PRRAS!C166","v":155},{"$f":"PRRAS!D166","v":30228},{"$f":"PRRAS!E166","v":34577},null,null,15404.21,0,0]
[151,{"$f":"PRRAS!C167","v":156},{"$f":"PRRAS!D167","v":13018},{"$f":"PRRAS!E167","v":35017},null,null,12956.111999999999,0,0]
[151,{"$f":"PRRAS!C168","v":157},{"$f":"PRRAS!D168","v":0},{"$f":"PRRAS!E168","v":0},null,null,0,0,0]
[151,{"$f":"PRRAS!C169","v":158},{"$f":"PRRAS!D169","v":1943},{"$f":"PRRAS!E169","v":4900},null,null,1855.394,0,0]
[151,{"$f":"PRRAS!C170","v":159},{"$f":"PRRAS!D170","v":679882},{"$f":"PRRAS!E170","v":748902},null,null,346252.07400000002,0,0]
[151,{"$f":"PRRAS!C171","v":160},{"$f":"PRRAS!D171","v":254507},{"$f":"PRRAS!E171","v":294797},null,null,135056.16,0,0]
[151,{"$f":"PRRAS!C172","v":161},{"$f":"PRRAS!D172","v":74037},{"$f":"PRRAS!E172","v":88186},null,null,40315.849000000002,0,0]
[151,{"$f":"PRRAS!C173","v":162},{"$f":"PRRAS!D173","v":3539},{"$f":"PRRAS!E173","v":4196},null,null,1932.8220000000001,0,0]
[151,{"$f":"PRRAS!C174","v":163},{"$f":"PRRAS!D174","v":141065},{"$f":"PRRAS!E174","v":137037},null,null,67667.657000000007,0,0]
[151,{"$f":"PRRAS!C175","v":164},{"$f":"PRRAS!D175","v":0},{"$f":"PRRAS!E175","v":0},null,null,0,0,0]
[151,{"$f":"PRRAS!C176","v":165},{"$f":"PRRAS!D176","v":44490},{"$f":"PRRAS!E176","v":43005},null,null,21532.5,0,0]
[151,{"$f":"PRRAS!C177","v":166},{"$f":"PRRAS!D177","v":121157},{"$f":"PRRAS!E177","v":140731},null,null,66834.754000000001,0,0]
[151,{"$f":"PRRAS!C178","v":167},{"$f":"PRRAS!D178","v":14099},{"$f":"PRRAS!E178","v":15381},null,null,7491.7870000000003,0,0]
[151,{"$f":"PRRAS!C179","v":168},{"$f":"PRRAS!D179","v":26988},{"$f":"PRRAS!E179","v":25569},null,null,13125.168000000001,0,0]
[151,{"$f":"PRRAS!C180","v":169},{"$f":"PRRAS!D180","v":0},{"$f":"PRRAS!E180","v":0},null,null,0,0,0]
[151,{"$f":"PRRAS!C181","v":170},{"$f":"PRRAS!D181","v":0},{"$f":"PRRAS!E181","v":0},null,null,0,0,0]
[151,{"$f":"PRRAS!C182","v":171},{"$f":"PRRAS!D182","v":250307},{"$f":"PRRAS!E182","v":411145},null,null,183414.087,0,0]
[151,{"$f":"PRRAS!C183","v":172},{"$f":"PRRAS!D183","v":41694},{"$f":"PRRAS!E183","v":107969},null,null,44312.703999999998,0,0]
[151,{"$f":"PRRAS!C184","v":173},{"$f":"PRRAS!D184","v":30908},{"$f":"PRRAS!E184","v":29216},null,null,15455.82,0,0]
[151,{"$f":"PRRAS!C185","v":174},{"$f":"PRRAS!D185","v":883},{"$f":"PRRAS!E185","v":2580},null,null,1051.482,0,0]
[151,{"$f":"PRRAS!C186","v":175},{"$f":"PRRAS!D186","v":1950},{"$f":"PRRAS!E186","v":2350},null,null,1163.75,0,0]
[151,{"$f":"PRRAS!C187","v":176},{"$f":"PRRAS!D187","v":0},{"$f":"PRRAS!E187","v":30},null,null,10.559999999999999,0,0]
[151,{"$f":"PRRAS!C188","v":177},{"$f":"PRRAS!D188","v":174872},{"$f":"PRRAS!E188","v":269000},null,null,126178.344,0,0]
[151,{"$f":"PRRAS!C189","v":178},{"$f":"PRRAS!D189","v":6338},{"$f":"PRRAS!E189","v":5295},null,null,3013.1839999999997,0,0]
[151,{"$f":"PRRAS!C190","v":179},{"$f":"PRRAS!D190","v":0},{"$f":"PRRAS!E190","v":0},null,null,0,0,0]
[151,{"$f":"PRRAS!C191","v":180},{"$f":"PRRAS!D191","v":0},{"$f":"PRRAS!E191","v":0},null,null,0,0,0]
[151,{"$f":"PRRAS!C192","v":181},{"$f":"PRRAS!D192","v":0},{"$f":"PRRAS!E192","v":0},null,null,0,0,0]
[151,{"$f":"PRRAS!C193","v":182},{"$f":"PRRAS!D193","v":0},{"$f":"PRRAS!E193","v":0},null,null,0,0,0]
[151,{"$f":"PRRAS!C194","v":183},{"$f":"PRRAS!D194","v":0},{"$f":"PRRAS!E194","v":0},null,null,0,0,0]
[151,{"$f":"PRRAS!C195","v":184},{"$f":"PRRAS!D195","v":0},{"$f":"PRRAS!E195","v":0},null,null,0,0,0]
[151,{"$f":"PRRAS!C196","v":185},{"$f":"PRRAS!D196","v":0},{"$f":"PRRAS!E196","v":0},null,null,0,0,0]
[151,{"$f":"PRRAS!C197","v":186},{"$f":"PRRAS!D197","v":0},{"$f":"PRRAS!E197","v":0},null,null,0,0,0]
[151,{"$f":"PRRAS!C198","v":187},{"$f":"PRRAS!D198","v":0},{"$f":"PRRAS!E198","v":0},null,null,0,0,0]
[151,{"$f":"PRRAS!C199","v":188},{"$f":"PRRAS!D199","v":0},{"$f":"PRRAS!E199","v":0},null,null,0,0,0]
[151,{"$f":"PRRAS!C200","v":189},{"$f":"PRRAS!D200","v":0},{"$f":"PRRAS!E200","v":0},null,null,0,0,0]
[151,{"$f":"PRRAS!C201","v":190},{"$f":"PRRAS!D201","v":0},{"$f":"PRRAS!E201","v":0},null,null,0,0,0]
[151,{"$f":"PRRAS!C202","v":191},{"$f":"PRRAS!D202","v":0},{"$f":"PRRAS!E202","v":0},null,null,0,0,0]
[151,{"$f":"PRRAS!C203","v":192},{"$f":"PRRAS!D203","v":6338},{"$f":"PRRAS!E203","v":5295},null,null,3250.1759999999999,0,0]
[151,{"$f":"PRRAS!C204","v":193},{"$f":"PRRAS!D204","v":4707},{"$f":"PRRAS!E204","v":5295},null,null,2952.3209999999999,0,0]
[151,{"$f":"PRRAS!C205","v":194},{"$f":"PRRAS!D205","v":0},{"$f":"PRRAS!E205","v":0},null,null,0,0,0]
[151,{"$f":"PRRAS!C206","v":195},{"$f":"PRRAS!D206","v":1631},{"$f":"PRRAS!E206","v":0},null,null,318.04500000000002,0,0]
[151,{"$f":"PRRAS!C207","v":196},{"$f":"PRRAS!D207","v":0},{"$f":"PRRAS!E207","v":0},null,null,{"$f":"(B197/1000)*(C197*1+D197*2)","v":0},{"$f":"ABS(C197-ROUND(C197,0))+ABS(D197-ROUND(D197,0))","v":0},0]
[151,{"$f":"PRRAS!C208","v":197},{"$f":"PRRAS!D208","v":0},{"$f":"PRRAS!E208","v":0},null,null,0,0,0]
[151,{"$f":"PRRAS!C209","v":198},{"$f":"PRRAS!D209","v":0},{"$f":"PRRAS!E209","v":0},null,null,0,0,0]
[151,{"$f":"PRRAS!C210","v":199},{"$f":"PRRAS!D210","v":0},{"$f":"PRRAS!E210","v":0},null,null,0,0,0]
[151,{"$f":"PRRAS!C211","v":200},{"$f":"PRRAS!D211","v":0},{"$f":"PRRAS!E211","v":0},null,null,0,0,0]
[151,{"$f":"PRRAS!C212","v":201},{"$f":"PRRAS!D212","v":0},{"$f":"PRRAS!E212","v":0},null,null,0,0,0]
[151,{"$f":"PRRAS!C213","v":202},{"$f":"PRRAS!D213","v":0},{"$f":"PRRAS!E213","v":0},null,null,0,0,0]
[151,{"$f":"PRRAS!C214","v":203},{"$f":"PRRAS!D214","v":0},{"$f":"PRRAS!E214","v":0},null,null,0,0,0]
[151,{"$f":"PRRAS!C215","v":204},{"$f":"PRRAS!D215","v":0},{"$f":"PRRAS!E215","v":0},null,null,0,0,0]
[151,{"$f":"PRRAS!C216","v":205},{"$f":"PRRAS!D216","v":0},{"$f":"PRRAS!E216","v":0},null,null,0,0,0]
[151,{"$f":"PRRAS!C217","v":206},{"$f":"PRRAS!D217","v":0},{"$f":"PRRAS!E217","v":0},null,null,0,0,0]
[151,{"$f":"PRRAS!C218","v":207},{"$f":"PRRAS!D218","v":0},{"$f":"PRRAS!E218","v":0},null,null,0,0,0]
[151,{"$f":"PRRAS!C219","v":208},{"$f":"PRRAS!D219","v":0},{"$f":"PRRAS!E219","v":0},null,null,0,0,0]
[151,{"$f":"PRRAS!C220","v":209},{"$f":"PRRAS!D220","v":0},{"$f":"PRRAS!E220","v":0},null,null,0,0,0]
[151,{"$f":"PRRAS!C221","v":210},{"$f":"PRRAS!D221","v":0},{"$f":"PRRAS!E221","v":0},null,null,0,0,0]
[151,{"$f":"PRRAS!C222","v":211},{"$f":"PRRAS!D222","v":0},{"$f":"PRRAS!E222","v":0},null,null,0,0,0]
[151,{"$f":"PRRAS!C223","v":212},{"$f":"PRRAS!D223","v":0},{"$f":"PRRAS!E223","v":0},null,null,0,0,0]
[151,{"$f":"PRRAS!C224","v":213},{"$f":"PRRAS!D224","v":0},{"$f":"PRRAS!E224","v":0},null,null,0,0,0]
[151,{"$f":"PRRAS!C225","v":214},{"$f":"PRRAS!D225","v":0},{"$f":"PRRAS!E225","v":0},null,null,0,0,0]
[151,{"$f":"PRRAS!C226","v":215},{"$f":"PRRAS!D226","v":0},{"$f":"PRRAS!E226","v":0},null,null,0,0,0]
[151,{"$f":"PRRAS!C227","v":216},{"$f":"PRRAS!D227","v":0},{"$f":"PRRAS!E227","v":0},null,null,0,0,0]
[151,{"$f":"PRRAS!C228","v":217},{"$f":"PRRAS!D228","v":528755},{"$f":"PRRAS!E228","v":621987},null,null,384682.19299999997,0,0]
[151,{"$f":"PRRAS!C229","v":218},{"$f":"PRRAS!D229","v":0},{"$f":"PRRAS!E229","v":0},null,null,0,0,0]
[151,{"$f":"PRRAS!C230","v":219},{"$f":"PRRAS!D230","v":0},{"$f":"PRRAS!E230","v":0},null,null,0,0,0]
[151,{"$f":"PRRAS!C231","v":220},{"$f":"PRRAS!D231","v":0},{"$f":"PRRAS!E231","v":0},null,null,0,0,0]
[151,{"$f":"PRRAS!C232","v":221},{"$f":"PRRAS!D232","v":528755},{"$f":"PRRAS!E232","v":621987},null,null,391773.109,0,0]
[151,{"$f":"PRRAS!C233","v":222},{"$f":"PRRAS!D233","v":0},{"$f":"PRRAS!E233","v":0},null,null,0,0,0]
[151,{"$f":"PRRAS!C234","v":223},{"$f":"PRRAS!D234","v":528755},{"$f":"PRRAS!E234","v":621987},null,null,395318.56699999998,0,0]
[151,{"$f":"PRRAS!C235","v":224},{"$f":"PRRAS!D235","v":0},{"$f":"PRRAS!E235","v":0},null,null,0,0,0]
[151,{"$f":"PRRAS!C236","v":225},{"$f":"PRRAS!D236","v":0},{"$f":"PRRAS!E236","v":0},null,null,0,0,0]
[151,{"$f":"PRRAS!C237","v":226},{"$f":"PRRAS!D237","v":0},{"$f":"PRRAS!E237","v":0},null,null,0,0,0]
[151,{"$f":"PRRAS!C238","v":227},{"$f":"PRRAS!D238","v":0},{"$f":"PRRAS!E238","v":0},null,null,0,0,0]
[151,{"$f":"PRRAS!C239","v":228},{"$f":"PRRAS!D239","v":0},{"$f":"PRRAS!E239","v":0},null,null,0,0,0]
[151,{"$f":"PRRAS!C240","v":229},{"$f":"PRRAS!D240","v":0},{"$f":"PRRAS!E240","v":0},null,null,0,0,0]
[151,{"$f":"PRRAS!C241","v":230},{"$f":"PRRAS!D241","v":0},{"$f":"PRRAS!E241","v":0},null,null,0,0,0]
[151,{"$f":"PRRAS!C242","v":231},{"$f":"PRRAS!D242","v":0},{"$f":"PRRAS!E242","v":0},null,null,0,0,0]
[151,{"$f":"PRRAS!C243","v":232},{"$f":"PRRAS!D243","v":0},{"$f":"PRRAS!E243","v":0},null,null,0,0,0]
[151,{"$f":"PRRAS!C244","v":233},{"$f":"PRRAS!D244","v":0},{"$f":"PRRAS!E244","v":0},null,null,0,0,0]
[151,{"$f":"PRRAS!C245","v":234},{"$f":"PRRAS!D245","v":0},{"$f":"PRRAS!E245","v":0},null,null,0,0,0]
[151,{"$f":"PRRAS!C246","v":235},{"$f":"PRRAS!D246","v":0},{"$f":"PRRAS!E246","v":0},null,null,0,0,0]
[151,{"$f":"PRRAS!C247","v":236},{"$f":"PRRAS!D247","v":0},{"$f":"PRRAS!E247","v":0},null,null,0,0,0]
[151,{"$f":"PRRAS!C248","v":237},{"$f":"PRRAS!D248","v":0},{"$f":"PRRAS!E248","v":0},null,null,0,0,0]
[151,{"$f":"PRRAS!C249","v":238},{"$f":"PRRAS!D249","v":0},{"$f":"PRRAS!E249","v":0},null,null,0,0,0]
[151,{"$f":"PRRAS!C250","v":239},{"$f":"PRRAS!D250","v":0},{"$f":"PRRAS!E250","v":0},null,null,0,0,0]
[151,{"$f":"PRRAS!C251","v":240},{"$f":"PRRAS!D251","v":0},{"$f":"PRRAS!E251","v":0},null,null,0,0,0]
[151,{"$f":"PRRAS!C252","v":241},{"$f":"PRRAS!D252","v":0},{"$f":"PRRAS!E252","v":0},null,null,0,0,0]
[151,{"$f":"PRRAS!C253","v":242},{"$f":"PRRAS!D253","v":0},{"$f":"PRRAS!E253","v":0},null,null,0,0,0]
[151,{"$f":"PRRAS!C254","v":243},{"$f":"PRRAS!D254","v":0},{"$f":"PRRAS!E254","v":0},null,null,0,0,0]
[151,{"$f":"PRRAS!C255","v":244},{"$f":"PRRAS!D255","v":10990856},{"$f":"PRRAS!E255","v":11572861},null,null,8329325.0319999997,0,0]
[151,{"$f":"PRRAS!C256","v":245},{"$f":"PRRAS!D256","v":46538},{"$f":"PRRAS!E256","v":431668},null,null,222919.13,0,0]
[151,{"$f":"PRRAS!C257","v":246},{"$f":"PRRAS!D257","v":0},{"$f":"PRRAS!E257","v":0},null,null,0,0,0]
[151,{"$f":"PRRAS!C258","v":247},{"$f":"PRRAS!D258","v":8716},{"$f":"PRRAS!E258","v":0},null,null,2152.8519999999999,0,0]
[151,{"$f":"PRRAS!C259","v":248},{"$f":"PRRAS!D259","v":0},{"$f":"PRRAS!E259","v":42116},null,null,20889.536,0,0]
[151,{"$f":"PRRAS!C260","v":249},{"$f":"PRRAS!D260","v":0},{"$f":"PRRAS!E260","v":0},null,null,0,0,0]
[151,{"$f":"PRRAS!C261","v":250},{"$f":"PRRAS!D261","v":0},{"$f":"PRRAS!E261","v":0},null,null,0,0,0]
[151,{"$f":"PRRAS!C263","v":251},{"$f":"PRRAS!D263","v":0},{"$f":"PRRAS!E263","v":0},null,null,0,0,0]
[151,{"$f":"PRRAS!C264","v":252},{"$f":"PRRAS!D264","v":0},{"$f":"PRRAS!E264","v":0},null,null,0,0,0]
[151,{"$f":"PRRAS!C265","v":253},{"$f":"PRRAS!D265","v":0},{"$f":"PRRAS!E265","v":0},null,null,0,0,0]
[151,{"$f":"PRRAS!C266","v":254},{"$f":"PRRAS!D266","v":0},{"$f":"PRRAS!E266","v":0},null,null,0,0,0]
[151,{"$f":"PRRAS!C267","v":255},{"$f":"PRRAS!D267","v":0},{"$f":"PRRAS!E267","v":0},null,null,0,0,0]
[151,{"$f":"PRRAS!C268","v":256},{"$f":"PRRAS!D268","v":0},{"$f":"PRRAS!E268","v":0},null,null,0,0,0]
[151,{"$f":"PRRAS!C269","v":257},{"$f":"PRRAS!D269","v":0},{"$f":"PRRAS!E269","v":0},null,null,0,0,0]
[151,{"$f":"PRRAS!C270","v":258},{"$f":"PRRAS!D270","v":0},{"$f":"PRRAS!E270","v":0},null,null,0,0,0]
[151,{"$f":"PRRAS!C271","v":259},{"$f":"PRRAS!D271","v":0},{"$f":"PRRAS!E271","v":0},null,null,{"$f":"(B260/1000)*(C260*1+D260*2)","v":0},{"$f":"ABS(C260-ROUND(C260,0))+ABS(D260-ROUND(D260,0))","v":0},0]
[151,{"$f":"PRRAS!C272","v":260},{"$f":"PRRAS!D272","v":0},{"$f":"PRRAS!E272","v":0},null,null,0,0,0]
[151,{"$f":"PRRAS!C273","v":261},{"$f":"PRRAS!D273","v":0},{"$f":"PRRAS!E273","v":0},null,null,0,0,0]
[151,{"$f":"PRRAS!C274","v":262},{"$f":"PRRAS!D274","v":0},{"$f":"PRRAS!E274","v":0},null,null,0,0,0]
[151,{"$f":"PRRAS!C275","v":263},{"$f":"PRRAS!D275","v":0},{"$f":"PRRAS!E275","v":0},null,null,0,0,0]
[151,{"$f":"PRRAS!C276","v":264},{"$f":"PRRAS!D276","v":0},{"$f":"PRRAS!E276","v":0},null,null,0,0,0]
[151,{"$f":"PRRAS!C277","v":265},{"$f":"PRRAS!D277","v":0},{"$f":"PRRAS!E277","v":0},null,null,0,0,0]
[151,{"$f":"PRRAS!C278","v":266},{"$f":"PRRAS!D278","v":0},{"$f":"PRRAS!E278","v":0},null,null,0,0,0]
[151,{"$f":"PRRAS!C279","v":267},{"$f":"PRRAS!D279","v":0},{"$f":"PRRAS!E279","v":0},null,null,0,0,0]
[151,{"$f":"PRRAS!C280","v":268},{"$f":"PRRAS!D280","v":0},{"$f":"PRRAS!E280","v":0},null,null,0,0,0]
[151,{"$f":"PRRAS!C281","v":269},{"$f":"PRRAS!D281","v":0},{"$f":"PRRAS!E281","v":0},null,null,0,0,0]
[151,{"$f":"PRRAS!C282","v":270},{"$f":"PRRAS!D282","v":0},{"$f":"PRRAS!E282","v":0},null,null,0,0,0]
[151,{"$f":"PRRAS!C283","v":271},{"$f":"PRRAS!D283","v":0},{"$f":"PRRAS!E283","v":0},null,null,0,0,0]
[151,{"$f":"PRRAS!C284","v":272},{"$f":"PRRAS!D284","v":0},{"$f":"PRRAS!E284","v":0},null,null,0,0,0]
[151,{"$f":"PRRAS!C285","v":273},{"$f":"PRRAS!D285","v":0},{"$f":"PRRAS!E285","v":0},null,null,0,0,0]
[151,{"$f":"PRRAS!C286","v":274},{"$f":"PRRAS!D286","v":0},{"$f":"PRRAS!E286","v":0},null,null,0,0,0]
[151,{"$f":"PRRAS!C287","v":275},{"$f":"PRRAS!D287","v":0},{"$f":"PRRAS!E287","v":0},null,null,0,0,0]
[151,{"$f":"PRRAS!C288","v":276},{"$f":"PRRAS!D288","v":0},{"$f":"PRRAS!E288","v":0},null,null,0,0,0]
[151,{"$f":"PRRAS!C289","v":277},{"$f":"PRRAS!D289","v":0},{"$f":"PRRAS!E289","v":0},null,null,0,0,0]
[151,{"$f":"PRRAS!C290","v":278},{"$f":"PRRAS!D290","v":0},{"$f":"PRRAS!E290","v":0},null,null,0,0,0]
[151,{"$f":"PRRAS!C291","v":279},{"$f":"PRRAS!D291","v":0},{"$f":"PRRAS!E291","v":0},null,null,0,0,0]
[151,{"$f":"PRRAS!C292","v":280},{"$f":"PRRAS!D292","v":0},{"$f":"PRRAS!E292","v":0},null,null,0,0,0]
[151,{"$f":"PRRAS!C293","v":281},{"$f":"PRRAS!D293","v":0},{"$f":"PRRAS!E293","v":0},null,null,0,0,0]
[151,{"$f":"PRRAS!C294","v":282},{"$f":"PRRAS!D294","v":0},{"$f":"PRRAS!E294","v":0},null,null,0,0,0]
[151,{"$f":"PRRAS!C295","v":283},{"$f":"PRRAS!D295","v":0},{"$f":"PRRAS!E295","v":0},null,null,0,0,0]
[151,{"$f":"PRRAS!C296","v":284},{"$f":"PRRAS!D296","v":0},{"$f":"PRRAS!E296","v":0},null,null,0,0,0]
[151,{"$f":"PRRAS!C297","v":285},{"$f":"PRRAS!D297","v":0},{"$f":"PRRAS!E297","v":0},null,null,0,0,0]
[151,{"$f":"PRRAS!C298","v":286},{"$f":"PRRAS!D298","v":0},{"$f":"PRRAS!E298","v":0},null,null,0,0,0]
[151,{"$f":"PRRAS!C299","v":287},{"$f":"PRRAS!D299","v":0},{"$f":"PRRAS!E299","v":0},null,null,0,0,0]
[151,{"$f":"PRRAS!C300","v":288},{"$f":"PRRAS!D300","v":0},{"$f":"PRRAS!E300","v":0},null,null,0,0,0]
[151,{"$f":"PRRAS!C301","v":289},{"$f":"PRRAS!D301","v":0},{"$f":"PRRAS!E301","v":0},null,null,0,0,0]
[151,{"$f":"PRRAS!C302","v":290},{"$f":"PRRAS!D302","v":0},{"$f":"PRRAS!E302","v":0},null,null,0,0,0]
[151,{"$f":"PRRAS!C303","v":291},{"$f":"PRRAS!D303","v":0},{"$f":"PRRAS!E303","v":0},null,null,0,0,0]
[151,{"$f":"PRRAS!C304","v":292},{"$f":"PRRAS!D304","v":0},{"$f":"PRRAS!E304","v":0},null,null,0,0,0]
[151,{"$f":"PRRAS!C305","v":293},{"$f":"PRRAS!D305","v":0},{"$f":"PRRAS!E305","v":0},null,null,0,0,0]
[151,{"$f":"PRRAS!C306","v":294},{"$f":"PRRAS!D306","v":0},{"$f":"PRRAS!E306","v":0},null,null,0,0,0]
[151,{"$f":"PRRAS!C307","v":295},{"$f":"PRRAS!D307","v":0},{"$f":"PRRAS!E307","v":0},null,null,0,0,0]
[151,{"$f":"PRRAS!C308","v":296},{"$f":"PRRAS!D308","v":0},{"$f":"PRRAS!E308","v":0},null,null,0,0,0]
[151,{"$f":"PRRAS!C309","v":297},{"$f":"PRRAS!D309","v":0},{"$f":"PRRAS!E309","v":0},null,null,0,0,0]
[151,{"$f":"PRRAS!C310","v":298},{"$f":"PRRAS!D310","v":0},{"$f":"PRRAS!E310","v":0},null,null,0,0,0]
[151,{"$f":"PRRAS!C311","v":299},{"$f":"PRRAS!D311","v":0},{"$f":"PRRAS!E311","v":0},null,null,0,0,0]
[151,{"$f":"PRRAS!C312","v":300},{"$f":"PRRAS!D312","v":0},{"$f":"PRRAS!E312","v":0},null,null,0,0,0]
[151,{"$f":"PRRAS!C313","v":301},{"$f":"PRRAS!D313","v":0},{"$f":"PRRAS!E313","v":0},null,null,0,0,0]
[151,{"$f":"PRRAS!C314","v":302},{"$f":"PRRAS!D314","v":0},{"$f":"PRRAS!E314","v":0},null,null,0,0,0]
[151,{"$f":"PRRAS!C315","v":303},{"$f":"PRRAS!D315","v":97370},{"$f":"PRRAS!E315","v":226503},null,null,166763.92799999999,0,0]
[151,{"$f":"PRRAS!C316","v":304},{"$f":"PRRAS!D316","v":0},{"$f":"PRRAS!E316","v":0},null,null,0,0,0]
[151,{"$f":"PRRAS!C317","v":305},{"$f":"PRRAS!D317","v":0},{"$f":"PRRAS!E317","v":0},null,null,0,0,0]
[151,{"$f":"PRRAS!C318","v":306},{"$f":"PRRAS!D318","v":0},{"$f":"PRRAS!E318","v":0},null,null,0,0,0]
[151,{"$f":"PRRAS!C319","v":307},{"$f":"PRRAS!D319","v":0},{"$f":"PRRAS!E319","v":0},null,null,0,0,0]
[151,{"$f":"PRRAS!C320","v":308},{"$f":"PRRAS!D320","v":0},{"$f":"PRRAS!E320","v":0},null,null,0,0,0]
[151,{"$f":"PRRAS!C321","v":309},{"$f":"PRRAS!D321","v":0},{"$f":"PRRAS!E321","v":0},null,null,0,0,0]
[151,{"$f":"PRRAS!C322","v":310},{"$f":"PRRAS!D322","v":0},{"$f":"PRRAS!E322","v":0},null,null,0,0,0]
[151,{"$f":"PRRAS!C323","v":311},{"$f":"PRRAS!D323","v":0},{"$f":"PRRAS!E323","v":0},null,null,0,0,0]
[151,{"$f":"PRRAS!C324","v":312},{"$f":"PRRAS!D324","v":0},{"$f":"PRRAS!E324","v":0},null,null,0,0,0]
[151,{"$f":"PRRAS!C325","v":313},{"$f":"PRRAS!D325","v":0},{"$f":"PRRAS!E325","v":0},null,null,0,0,0]
[151,{"$f":"PRRAS!C326","v":314},{"$f":"PRRAS!D326","v":0},{"$f":"PRRAS!E326","v":0},null,null,0,0,0]
[151,{"$f":"PRRAS!C327","v":315},{"$f":"PRRAS!D327","v":0},{"$f":"PRRAS!E327","v":0},null,null,0,0,0]
[151,{"$f":"PRRAS!C328","v":316},{"$f":"PRRAS!D328","v":0},{"$f":"PRRAS!E328","v":0},null,null,0,0,0]
[151,{"$f":"PRRAS!C329","v":317},{"$f":"PRRAS!D329","v":0},{"$f":"PRRAS!E329","v":0},null,null,0,0,0]
[151,{"$f":"PRRAS!C330","v":318},{"$f":"PRRAS!D330","v":97370},{"$f":"PRRAS!E330","v":226503},null,null,175019.568,0,0]
[151,{"$f":"PRRAS!C331","v":319},{"$f":"PRRAS!D331","v":0},{"$f":"PRRAS!E331","v":195756},null,null,124892.32800000001,0,0]
[151,{"$f":"PRRAS!C332","v":320},{"$f":"PRRAS!D332","v":0},{"$f":"PRRAS!E332","v":0},null,null,0,0,0]
[151,{"$f":"PRRAS!C333","v":321},{"$f":"PRRAS!D333","v":0},{"$f":"PRRAS!E333","v":195756},null,null,125675.352,0,0]
[151,{"$f":"PRRAS!C334","v":322},{"$f":"PRRAS!D334","v":0},{"$f":"PRRAS!E334","v":0},null,null,0,0,0]
[151,{"$f":"PRRAS!C335","v":323},{"$f":"PRRAS!D335","v":0},{"$f":"PRRAS!E335","v":0},null,null,{"$f":"(B324/1000)*(C324*1+D324*2)","v":0},{"$f":"ABS(C324-ROUND(C324,0))+ABS(D324-ROUND(D324,0))","v":0},0]
[151,{"$f":"PRRAS!C336","v":324},{"$f":"PRRAS!D336","v":93828},{"$f":"PRRAS!E336","v":29028},null,null,49210.416000000005,0,0]
[151,{"$f":"PRRAS!C337","v":325},{"$f":"PRRAS!D337","v":0},{"$f":"PRRAS!E337","v":12059},null,null,7838.35,0,0]
[151,{"$f":"PRRAS!C338","v":326},{"$f":"PRRAS!D338","v":3500},{"$f":"PRRAS!E338","v":0},null,null,1141,0,0]
[151,{"$f":"PRRAS!C339","v":327},{"$f":"PRRAS!D339","v":0},{"$f":"PRRAS!E339","v":0},null,null,0,0,0]
[151,{"$f":"PRRAS!C340","v":328},{"$f":"PRRAS!D340","v":0},{"$f":"PRRAS!E340","v":0},null,null,0,0,0]
[151,{"$f":"PRRAS!C341","v":329},{"$f":"PRRAS!D341","v":0},{"$f":"PRRAS!E341","v":0},null,null,0,0,0]
[151,{"$f":"PRRAS!C342","v":330},{"$f":"PRRAS!D342","v":0},{"$f":"PRRAS!E342","v":0},null,null,0,0,0]
[151,{"$f":"PRRAS!C343","v":331},{"$f":"PRRAS!D343","v":90328},{"$f":"PRRAS!E343","v":16969},null,null,41132.046000000002,0,0]
[151,{"$f":"PRRAS!C344","v":332},{"$f":"PRRAS!D344","v":0},{"$f":"PRRAS!E344","v":0},null,null,0,0,0]
[151,{"$f":"PRRAS!C345","v":333},{"$f":"PRRAS!D345","v":0},{"$f":"PRRAS!E345","v":0},null,null,0,0,0]
[151,{"$f":"PRRAS!C346","v":334},{"$f":"PRRAS!D346","v":0},{"$f":"PRRAS!E346","v":0},null,null,0,0,0]
[151,{"$f":"PRRAS!C347","v":335},{"$f":"PRRAS!D347","v":0},{"$f":"PRRAS!E347","v":0},null,null,0,0,0]
[151,{"$f":"PRRAS!C348","v":336},{"$f":"PRRAS!D348","v":0},{"$f":"PRRAS!E348","v":0},null,null,0,0,0]
[151,{"$f":"PRRAS!C349","v":337},{"$f":"PRRAS!D349","v":3542},{"$f":"PRRAS!E349","v":1719},null,null,2352.2600000000002,0,0]
[151,{"$f":"PRRAS!C350","v":338},{"$f":"PRRAS!D350","v":3542},{"$f":"PRRAS!E350","v":1719},null,null,2359.2400000000002,0,0]
[151,{"$f":"PRRAS!C351","v":339},{"$f":"PRRAS!D351","v":0},{"$f":"PRRAS!E351","v":0},null,null,0,0,0]
[151,{"$f":"PRRAS!C352","v":340},{"$f":"PRRAS!D352","v":0},{"$f":"PRRAS!E352","v":0},null,null,0,0,0]
[151,{"$f":"PRRAS!C353","v":341},{"$f":"PRRAS!D353","v":0},{"$f":"PRRAS!E353","v":0},null,null,0,0,0]
[151,{"$f":"PRRAS!C354","v":342},{"$f":"PRRAS!D354","v":0},{"$f":"PRRAS!E354","v":0},null,null,0,0,0]
[151,{"$f":"PRRAS!C355","v":343},{"$f":"PRRAS!D355","v":0},{"$f":"PRRAS!E355","v":0},null,null,0,0,0]
[151,{"$f":"PRRAS!C356","v":344},{"$f":"PRRAS!D356","v":0},{"$f":"PRRAS!E356","v":0},null,null,0,0,0]
[151,{"$f":"PRRAS!C357","v":345},{"$f":"PRRAS!D357","v":0},{"$f":"PRRAS!E357","v":0},null,null,0,0,0]
[151,{"$f":"PRRAS!C358","v":346},{"$f":"PRRAS!D358","v":0},{"$f":"PRRAS!E358","v":0},null,null,0,0,0]
[151,{"$f":"PRRAS!C359","v":347},{"$f":"PRRAS!D359","v":0},{"$f":"PRRAS!E359","v":0},null,null,0,0,0]
[151,{"$f":"PRRAS!C360","v":348},{"$f":"PRRAS!D360","v":0},{"$f":"PRRAS!E360","v":0},null,null,0,0,0]
[151,{"$f":"PRRAS!C361","v":349},{"$f":"PRRAS!D361","v":0},{"$f":"PRRAS!E361","v":0},null,null,0,0,0]
[151,{"$f":"PRRAS!C362","v":350},{"$f":"PRRAS!D362","v":0},{"$f":"PRRAS!E362","v":0},null,null,0,0,0]
[151,{"$f":"PRRAS!C363","v":351},{"$f":"PRRAS!D363","v":0},{"$f":"PRRAS!E363","v":0},null,null,0,0,0]
[151,{"$f":"PRRAS!C364","v":352},{"$f":"PRRAS!D364","v":0},{"$f":"PRRAS!E364","v":0},null,null,0,0,0]
[151,{"$f":"PRRAS!C365","v":353},{"$f":"PRRAS!D365","v":0},{"$f":"PRRAS!E365","v":0},null,null,0,0,0]
[151,{"$f":"PRRAS!C366","v":354},{"$f":"PRRAS!D366","v":0},{"$f":"PRRAS!E366","v":0},null,null,0,0,0]
[151,{"$f":"PRRAS!C367","v":355},{"$f":"PRRAS!D367","v":0},{"$f":"PRRAS!E367","v":0},null,null,0,0,0]
[151,{"$f":"PRRAS!C368","v":356},{"$f":"PRRAS!D368","v":0},{"$f":"PRRAS!E368","v":0},null,null,0,0,0]
[151,{"$f":"PRRAS!C369","v":357},{"$f":"PRRAS!D369","v":0},{"$f":"PRRAS!E369","v":0},null,null,0,0,0]
[151,{"$f":"PRRAS!C370","v":358},{"$f":"PRRAS!D370","v":0},{"$f":"PRRAS!E370","v":0},null,null,0,0,0]
[151,{"$f":"PRRAS!C371","v":359},{"$f":"PRRAS!D371","v":0},{"$f":"PRRAS!E371","v":0},null,null,0,0,0]
[151,{"$f":"PRRAS!C372","v":360},{"$f":"PRRAS!D372","v":0},{"$f":"PRRAS!E372","v":0},null,null,0,0,0]
[151,{"$f":"PRRAS!C373","v":361},{"$f":"PRRAS!D373","v":0},{"$f":"PRRAS!E373","v":0},null,null,0,0,0]
[151,{"$f":"PRRAS!C374","v":362},{"$f":"PRRAS!D374","v":0},{"$f":"PRRAS!E374","v":0},null,null,0,0,0]
[151,{"$f":"PRRAS!C375","v":363},{"$f":"PRRAS!D375","v":0},{"$f":"PRRAS!E375","v":0},null,null,0,0,0]
[151,{"$f":"PRRAS!C376","v":364},{"$f":"PRRAS!D376","v":0},{"$f":"PRRAS!E376","v":0},null,null,0,0,0]
[151,{"$f":"PRRAS!C377","v":365},{"$f":"PRRAS!D377","v":0},{"$f":"PRRAS!E377","v":0},null,null,0,0,0]
[151,{"$f":"PRRAS!C378","v":366},{"$f":"PRRAS!D378","v":0},{"$f":"PRRAS!E378","v":0},null,null,0,0,0]
[151,{"$f":"PRRAS!C379","v":367},{"$f":"PRRAS!D379","v":0},{"$f":"PRRAS!E379","v":0},null,null,0,0,0]
[151,{"$f":"PRRAS!C380","v":368},{"$f":"PRRAS!D380","v":0},{"$f":"PRRAS!E380","v":0},null,null,0,0,0]
[151,{"$f":"PRRAS!C381","v":369},{"$f":"PRRAS!D381","v":0},{"$f":"PRRAS!E381","v":0},null,null,0,0,0]
[151,{"$f":"PRRAS!C382","v":370},{"$f":"PRRAS!D382","v":0},{"$f":"PRRAS!E382","v":0},null,null,0,0,0]
[151,{"$f":"PRRAS!C383","v":371},{"$f":"PRRAS!D383","v":0},{"$f":"PRRAS!E383","v":0},null,null,0,0,0]
[151,{"$f":"PRRAS!C384","v":372},{"$f":"PRRAS!D384","v":0},{"$f":"PRRAS!E384","v":0},null,null,0,0,0]
[151,{"$f":"PRRAS!C385","v":373},{"$f":"PRRAS!D385","v":97370},{"$f":"PRRAS!E385","v":226503},null,null,205290.24799999999,0,0]
[151,{"$f":"PRRAS!C386","v":374},{"$f":"PRRAS!D386","v":0},{"$f":"PRRAS!E386","v":0},null,null,0,0,0]
[151,{"$f":"PRRAS!C387","v":375},{"$f":"PRRAS!D387","v":0},{"$f":"PRRAS!E387","v":0},null,null,0,0,0]
[151,{"$f":"PRRAS!C388","v":376},{"$f":"PRRAS!D388","v":0},{"$f":"PRRAS!E388","v":0},null,null,0,0,0]
[151,{"$f":"PRRAS!C389","v":377},{"$f":"PRRAS!D389","v":11037394},{"$f":"PRRAS!E389","v":12004529},null,null,13212512.403999999,0,0]
[151,{"$f":"PRRAS!C390","v":378},{"$f":"PRRAS!D390","v":11088226},{"$f":"PRRAS!E390","v":11799364},null,null,13111668.612,0,0]
[151,{"$f":"PRRAS!C391","v":379},{"$f":"PRRAS!D391","v":0},{"$f":"PRRAS!E391","v":205165},null,null,155515.07,0,0]
[151,{"$f":"PRRAS!C392","v":380},{"$f":"PRRAS!D392","v":50832},{"$f":"PRRAS!E392","v":0},null,null,19316.16,0,0]
[151,{"$f":"PRRAS!C393","v":381},{"$f":"PRRAS!D393","v":8716},{"$f":"PRRAS!E393","v":0},null,null,3320.7959999999998,0,0]
[151,{"$f":"PRRAS!C394","v":382},{"$f":"PRRAS!D394","v":0},{"$f":"PRRAS!E394","v":42116},null,null,32176.624,0,0]
[151,{"$f":"PRRAS!C395","v":383},{"$f":"PRRAS!D395","v":0},{"$f":"PRRAS!E395","v":0},null,null,0,0,0]
[151,{"$f":"PRRAS!C397","v":384},{"$f":"PRRAS!D397","v":0},{"$f":"PRRAS!E397","v":0},null,null,0,0,0]
[151,{"$f":"PRRAS!C398","v":385},{"$f":"PRRAS!D398","v":0},{"$f":"PRRAS!E398","v":0},null,null,0,0,0]
[151,{"$f":"PRRAS!C399","v":386},{"$f":"PRRAS!D399","v":0},{"$f":"PRRAS!E399","v":0},null,null,{"$f":"(B387/1000)*(C387*1+D387*2)","v":0},{"$f":"ABS(C387-ROUND(C387,0))+ABS(D387-ROUND(D387,0))","v":0},0]
[151,{"$f":"PRRAS!C400","v":387},{"$f":"PRRAS!D400","v":0},{"$f":"PRRAS!E400","v":0},null,null,0,0,0]
[151,{"$f":"PRRAS!C401","v":388},{"$f":"PRRAS!D401","v":0},{"$f":"PRRAS!E401","v":0},null,null,0,0,0]
[151,{"$f":"PRRAS!C402","v":389},{"$f":"PRRAS!D402","v":0},{"$f":"PRRAS!E402","v":0},null,null,0,0,0]
[151,{"$f":"PRRAS!C403","v":390},{"$f":"PRRAS!D403","v":0},{"$f":"PRRAS!E403","v":0},null,null,0,0,0]
[151,{"$f":"PRRAS!C404","v":391},{"$f":"PRRAS!D404","v":0},{"$f":"PRRAS!E404","v":0},null,null,0,0,0]
[151,{"$f":"PRRAS!C405","v":392},{"$f":"PRRAS!D405","v":0},{"$f":"PRRAS!E405","v":0},null,null,0,0,0]
[151,{"$f":"PRRAS!C406","v":393},{"$f":"PRRAS!D406","v":0},{"$f":"PRRAS!E406","v":0},null,null,0,0,0]
[151,{"$f":"PRRAS!C407","v":394},{"$f":"PRRAS!D407","v":0},{"$f":"PRRAS!E407","v":0},null,null,0,0,0]
[151,{"$f":"PRRAS!C408","v":395},{"$f":"PRRAS!D408","v":0},{"$f":"PRRAS!E408","v":0},null,null,0,0,0]
[151,{"$f":"PRRAS!C409","v":396},{"$f":"PRRAS!D409","v":0},{"$f":"PRRAS!E409","v":0},null,null,0,0,0]
[151,{"$f":"PRRAS!C410","v":397},{"$f":"PRRAS!D410","v":0},{"$f":"PRRAS!E410","v":0},null,null,0,0,0]
[151,{"$f":"PRRAS!C411","v":398},{"$f":"PRRAS!D411","v":0},{"$f":"PRRAS!E411","v":0},null,null,0,0,0]
[151,{"$f":"PRRAS!C412","v":399},{"$f":"PRRAS!D412","v":0},{"$f":"PRRAS!E412","v":0},null,null,0,0,0]
[151,{"$f":"PRRAS!C413","v":400},{"$f":"PRRAS!D413","v":0},{"$f":"PRRAS!E413","v":0},null,null,0,0,0]
[151,{"$f":"PRRAS!C414","v":401},{"$f":"PRRAS!D414","v":0},{"$f":"PRRAS!E414","v":0},null,null,0,0,0]
[151,{"$f":"PRRAS!C415","v":402},{"$f":"PRRAS!D415","v":0},{"$f":"PRRAS!E415","v":0},null,null,0,0,0]
[151,{"$f":"PRRAS!C416","v":403},{"$f":"PRRAS!D416","v":0},{"$f":"PRRAS!E416","v":0},null,null,0,0,0]
[151,{"$f":"PRRAS!C417","v":404},{"$f":"PRRAS!D417","v":0},{"$f":"PRRAS!E417","v":0},null,null,0,0,0]
[151,{"$f":"PRRAS!C418","v":405},{"$f":"PRRAS!D418","v":0},{"$f":"PRRAS!E418","v":0},null,null,0,0,0]
[151,{"$f":"PRRAS!C419","v":406},{"$f":"PRRAS!D419","v":0},{"$f":"PRRAS!E419","v":0},null,null,0,0,0]
[151,{"$f":"PRRAS!C420","v":407},{"$f":"PRRAS!D420","v":0},{"$f":"PRRAS!E420","v":0},null,null,0,0,0]
[151,{"$f":"PRRAS!C421","v":408},{"$f":"PRRAS!D421","v":0},{"$f":"PRRAS!E421","v":0},null,null,0,0,0]
[151,{"$f":"PRRAS!C422","v":409},{"$f":"PRRAS!D422","v":0},{"$f":"PRRAS!E422","v":0},null,null,0,0,0]
[151,{"$f":"PRRAS!C423","v":410},{"$f":"PRRAS!D423","v":0},{"$f":"PRRAS!E423","v":0},null,null,0,0,0]
[151,{"$f":"PRRAS!C424","v":411},{"$f":"PRRAS!D424","v":0},{"$f":"PRRAS!E424","v":0},null,null,0,0,0]
[151,{"$f":"PRRAS!C425","v":412},{"$f":"PRRAS!D425","v":0},{"$f":"PRRAS!E425","v":0},null,null,0,0,0]
[151,{"$f":"PRRAS!C426","v":413},{"$f":"PRRAS!D426","v":0},{"$f":"PRRAS!E426","v":0},null,null,0,0,0]
[151,{"$f":"PRRAS!C427","v":414},{"$f":"PRRAS!D427","v":0},{"$f":"PRRAS!E427","v":0},null,null,0,0,0]
[151,{"$f":"PRRAS!C428","v":415},{"$f":"PRRAS!D428","v":0},{"$f":"PRRAS!E428","v":0},null,null,0,0,0]
[151,{"$f":"PRRAS!C429","v":416},{"$f":"PRRAS!D429","v":0},{"$f":"PRRAS!E429","v":0},null,null,0,0,0]
[151,{"$f":"PRRAS!C430","v":417},{"$f":"PRRAS!D430","v":0},{"$f":"PRRAS!E430","v":0},null,null,0,0,0]
[151,{"$f":"PRRAS!C431","v":418},{"$f":"PRRAS!D431","v":0},{"$f":"PRRAS!E431","v":0},null,null,0,0,0]
[151,{"$f":"PRRAS!C432","v":419},{"$f":"PRRAS!D432","v":0},{"$f":"PRRAS!E432","v":0},null,null,0,0,0]
[151,{"$f":"PRRAS!C433","v":420},{"$f":"PRRAS!D433","v":0},{"$f":"PRRAS!E433","v":0},null,null,0,0,0]
[151,{"$f":"PRRAS!C434","v":421},{"$f":"PRRAS!D434","v":0},{"$f":"PRRAS!E434","v":0},null,null,0,0,0]
[151,{"$f":"PRRAS!C435","v":422},{"$f":"PRRAS!D435","v":0},{"$f":"PRRAS!E435","v":0},null,null,0,0,0]
[151,{"$f":"PRRAS!C436","v":423},{"$f":"PRRAS!D436","v":0},{"$f":"PRRAS!E436","v":0},null,null,0,0,0]
[151,{"$f":"PRRAS!C437","v":424},{"$f":"PRRAS!D437","v":0},{"$f":"PRRAS!E437","v":0},null,null,0,0,0]
[151,{"$f":"PRRAS!C438","v":425},{"$f":"PRRAS!D438","v":0},{"$f":"PRRAS!E438","v":0},null,null,0,0,0]
[151,{"$f":"PRRAS!C439","v":426},{"$f":"PRRAS!D439","v":0},{"$f":"PRRAS!E439","v":0},null,null,0,0,0]
[151,{"$f":"PRRAS!C440","v":427},{"$f":"PRRAS!D440","v":0},{"$f":"PRRAS!E440","v":0},null,null,0,0,0]
[151,{"$f":"PRRAS!C441","v":428},{"$f":"PRRAS!D441","v":0},{"$f":"PRRAS!E441","v":0},null,null,0,0,0]
[151,{"$f":"PRRAS!C442","v":429},{"$f":"PRRAS!D442","v":0},{"$f":"PRRAS!E442","v":0},null,null,0,0,0]
[151,{"$f":"PRRAS!C443","v":430},{"$f":"PRRAS!D443","v":0},{"$f":"PRRAS!E443","v":0},null,null,0,0,0]
[151,{"$f":"PRRAS!C444","v":431},{"$f":"PRRAS!D444","v":0},{"$f":"PRRAS!E444","v":0},null,null,0,0,0]
[151,{"$f":"PRRAS!C445","v":432},{"$f":"PRRAS!D445","v":0},{"$f":"PRRAS!E445","v":0},null,null,0,0,0]
[151,{"$f":"PRRAS!C446","v":433},{"$f":"PRRAS!D446","v":0},{"$f":"PRRAS!E446","v":0},null,null,0,0,0]
[151,{"$f":"PRRAS!C447","v":434},{"$f":"PRRAS!D447","v":0},{"$f":"PRRAS!E447","v":0},null,null,0,0,0]
[151,{"$f":"PRRAS!C448","v":435},{"$f":"PRRAS!D448","v":0},{"$f":"PRRAS!E448","v":0},null,null,0,0,0]
[151,{"$f":"PRRAS!C449","v":436},{"$f":"PRRAS!D449","v":0},{"$f":"PRRAS!E449","v":0},null,null,0,0,0]
[151,{"$f":"PRRAS!C450","v":437},{"$f":"PRRAS!D450","v":0},{"$f":"PRRAS!E450","v":0},null,null,0,0,0]
[151,{"$f":"PRRAS!C451","v":438},{"$f":"PRRAS!D451","v":0},{"$f":"PRRAS!E451","v":0},null,null,0,0,0]
[151,{"$f":"PRRAS!C452","v":439},{"$f":"PRRAS!D452","v":0},{"$f":"PRRAS!E452","v":0},null,null,0,0,0]
[151,{"$f":"PRRAS!C453","v":440},{"$f":"PRRAS!D453","v":0},{"$f":"PRRAS!E453","v":0},null,null,0,0,0]
[151,{"$f":"PRRAS!C454","v":441},{"$f":"PRRAS!D454","v":0},{"$f":"PRRAS!E454","v":0},null,null,0,0,0]
[151,{"$f":"PRRAS!C455","v":442},{"$f":"PRRAS!D455","v":0},{"$f":"PRRAS!E455","v":0},null,null,0,0,0]
[151,{"$f":"PRRAS!C456","v":443},{"$f":"PRRAS!D456","v":0},{"$f":"PRRAS!E456","v":0},null,null,0,0,0]
[151,{"$f":"PRRAS!C457","v":444},{"$f":"PRRAS!D457","v":0},{"$f":"PRRAS!E457","v":0},null,null,0,0,0]
[151,{"$f":"PRRAS!C458","v":445},{"$f":"PRRAS!D458","v":0},{"$f":"PRRAS!E458","v":0},null,null,0,0,0]
[151,{"$f":"PRRAS!C459","v":446},{"$f":"PRRAS!D459","v":0},{"$f":"PRRAS!E459","v":0},null,null,0,0,0]
[151,{"$f":"PRRAS!C460","v":447},{"$f":"PRRAS!D460","v":0},{"$f":"PRRAS!E460","v":0},null,null,0,0,0]
[151,{"$f":"PRRAS!C461","v":448},{"$f":"PRRAS!D461","v":0},{"$f":"PRRAS!E461","v":0},null,null,0,0,0]
[151,{"$f":"PRRAS!C462","v":449},{"$f":"PRRAS!D462","v":0},{"$f":"PRRAS!E462","v":0},null,null,0,0,0]
[151,{"$f":"PRRAS!C463","v":450},{"$f":"PRRAS!D463","v":0},{"$f":"PRRAS!E463","v":0},null,null,{"$f":"(B451/1000)*(C451*1+D451*2)","v":0},{"$f":"ABS(C451-ROUND(C451,0))+ABS(D451-ROUND(D451,0))","v":0},0]
[151,{"$f":"PRRAS!C464","v":451},{"$f":"PRRAS!D464","v":0},{"$f":"PRRAS!E464","v":0},null,null,0,0,0]
[151,{"$f":"PRRAS!C465","v":452},{"$f":"PRRAS!D465","v":0},{"$f":"PRRAS!E465","v":0},null,null,0,0,0]
[151,{"$f":"PRRAS!C466","v":453},{"$f":"PRRAS!D466","v":0},{"$f":"PRRAS!E466","v":0},null,null,0,0,0]
[151,{"$f":"PRRAS!C467","v":454},{"$f":"PRRAS!D467","v":0},{"$f":"PRRAS!E467","v":0},null,null,0,0,0]
[151,{"$f":"PRRAS!C468","v":455},{"$f":"PRRAS!D468","v":0},{"$f":"PRRAS!E468","v":0},null,null,0,0,0]
[151,{"$f":"PRRAS!C469","v":456},{"$f":"PRRAS!D469","v":0},{"$f":"PRRAS!E469","v":0},null,null,0,0,0]
[151,{"$f":"PRRAS!C470","v":457},{"$f":"PRRAS!D470","v":0},{"$f":"PRRAS!E470","v":0},null,null,0,0,0]
[151,{"$f":"PRRAS!C471","v":458},{"$f":"PRRAS!D471","v":0},{"$f":"PRRAS!E471","v":0},null,null,0,0,0]
[151,{"$f":"PRRAS!C472","v":459},{"$f":"PRRAS!D472","v":0},{"$f":"PRRAS!E472","v":0},null,null,0,0,0]
[151,{"$f":"PRRAS!C473","v":460},{"$f":"PRRAS!D473","v":0},{"$f":"PRRAS!E473","v":0},null,null,0,0,0]
[151,{"$f":"PRRAS!C474","v":461},{"$f":"PRRAS!D474","v":0},{"$f":"PRRAS!E474","v":0},null,null,0,0,0]
[151,{"$f":"PRRAS!C475","v":462},{"$f":"PRRAS!D475","v":0},{"$f":"PRRAS!E475","v":0},null,null,0,0,0]
[151,{"$f":"PRRAS!C476","v":463},{"$f":"PRRAS!D476","v":0},{"$f":"PRRAS!E476","v":0},null,null,0,0,0]
[151,{"$f":"PRRAS!C477","v":464},{"$f":"PRRAS!D477","v":0},{"$f":"PRRAS!E477","v":0},null,null,0,0,0]
[151,{"$f":"PRRAS!C478","v":465},{"$f":"PRRAS!D478","v":0},{"$f":"PRRAS!E478","v":0},null,null,0,0,0]
[151,{"$f":"PRRAS!C479","v":466},{"$f":"PRRAS!D479","v":0},{"$f":"PRRAS!E479","v":0},null,null,0,0,0]
[151,{"$f":"PRRAS!C480","v":467},{"$f":"PRRAS!D480","v":0},{"$f":"PRRAS!E480","v":0},null,null,0,0,0]
[151,{"$f":"PRRAS!C481","v":468},{"$f":"PRRAS!D481","v":0},{"$f":"PRRAS!E481","v":0},null,null,0,0,0]
[151,{"$f":"PRRAS!C482","v":469},{"$f":"PRRAS!D482","v":0},{"$f":"PRRAS!E482","v":0},null,null,0,0,0]
[151,{"$f":"PRRAS!C483","v":470},{"$f":"PRRAS!D483","v":0},{"$f":"PRRAS!E483","v":0},null,null,0,0,0]
[151,{"$f":"PRRAS!C484","v":471},{"$f":"PRRAS!D484","v":0},{"$f":"PRRAS!E484","v":0},null,null,0,0,0]
[151,{"$f":"PRRAS!C485","v":472},{"$f":"PRRAS!D485","v":0},{"$f":"PRRAS!E485","v":0},null,null,0,0,0]
[151,{"$f":"PRRAS!C486","v":473},{"$f":"PRRAS!D486","v":0},{"$f":"PRRAS!E486","v":0},null,null,0,0,0]
[151,{"$f":"PRRAS!C487","v":474},{"$f":"PRRAS!D487","v":0},{"$f":"PRRAS!E487","v":0},null,null,0,0,0]
[151,{"$f":"PRRAS!C488","v":475},{"$f":"PRRAS!D488","v":0},{"$f":"PRRAS!E488","v":0},null,null,0,0,0]
[151,{"$f":"PRRAS!C489","v":476},{"$f":"PRRAS!D489","v":0},{"$f":"PRRAS!E489","v":0},null,null,0,0,0]
[151,{"$f":"PRRAS!C490","v":477},{"$f":"PRRAS!D490","v":0},{"$f":"PRRAS!E490","v":0},null,null,0,0,0]
[151,{"$f":"PRRAS!C491","v":478},{"$f":"PRRAS!D491","v":0},{"$f":"PRRAS!E491","v":0},null,null,0,0,0]
[151,{"$f":"PRRAS!C492","v":479},{"$f":"PRRAS!D492","v":0},{"$f":"PRRAS!E492","v":0},null,null,0,0,0]
[151,{"$f":"PRRAS!C493","v":480},{"$f":"PRRAS!D493","v":0},{"$f":"PRRAS!E493","v":0},null,null,0,0,0]
[151,{"$f":"PRRAS!C494","v":481},{"$f":"PRRAS!D494","v":0},{"$f":"PRRAS!E494","v":0},null,null,0,0,0]
[151,{"$f":"PRRAS!C495","v":482},{"$f":"PRRAS!D495","v":0},{"$f":"PRRAS!E495","v":0},null,null,0,0,0]
[151,{"$f":"PRRAS!C496","v":483},{"$f":"PRRAS!D496","v":0},{"$f":"PRRAS!E496","v":0},null,null,0,0,0]
[151,{"$f":"PRRAS!C497","v":484},{"$f":"PRRAS!D497","v":0},{"$f":"PRRAS!E497","v":0},null,null,0,0,0]
[151,{"$f":"PRRAS!C498","v":485},{"$f":"PRRAS!D498","v":0},{"$f":"PRRAS!E498","v":0},null,null,0,0,0]
[151,{"$f":"PRRAS!C499","v":486},{"$f":"PRRAS!D499","v":0},{"$f":"PRRAS!E499","v":0},null,null,0,0,0]
[151,{"$f":"PRRAS!C500","v":487},{"$f":"PRRAS!D500","v":0},{"$f":"PRRAS!E500","v":0},null,null,0,0,0]
[151,{"$f":"PRRAS!C501","v":488},{"$f":"PRRAS!D501","v":0},{"$f":"PRRAS!E501","v":0},null,null,0,0,0]
[151,{"$f":"PRRAS!C502","v":489},{"$f":"PRRAS!D502","v":0},{"$f":"PRRAS!E502","v":0},null,null,0,0,0]
[151,{"$f":"PRRAS!C503","v":490},{"$f":"PRRAS!D503","v":0},{"$f":"PRRAS!E503","v":0},null,null,0,0,0]
[151,{"$f":"PRRAS!C504","v":491},{"$f":"PRRAS!D504","v":0},{"$f":"PRRAS!E504","v":0},null,null,0,0,0]
[151,{"$f":"PRRAS!C505","v":492},{"$f":"PRRAS!D505","v":0},{"$f":"PRRAS!E505","v":0},null,null,0,0,0]
[151,{"$f":"PRRAS!C506","v":493},{"$f":"PRRAS!D506","v":0},{"$f":"PRRAS!E506","v":0},null,null,0,0,0]
[151,{"$f":"PRRAS!C507","v":494},{"$f":"PRRAS!D507","v":0},{"$f":"PRRAS!E507","v":0},null,null,0,0,0]
[151,{"$f":"PRRAS!C508","v":495},{"$f":"PRRAS!D508","v":0},{"$f":"PRRAS!E508","v":0},null,null,0,0,0]
[151,{"$f":"PRRAS!C509","v":496},{"$f":"PRRAS!D509","v":0},{"$f":"PRRAS!E509","v":0},null,null,0,0,0]
[151,{"$f":"PRRAS!C510","v":497},{"$f":"PRRAS!D510","v":0},{"$f":"PRRAS!E510","v":0},null,null,0,0,0]
[151,{"$f":"PRRAS!C511","v":498},{"$f":"PRRAS!D511","v":0},{"$f":"PRRAS!E511","v":0},null,null,0,0,0]
[151,{"$f":"PRRAS!C512","v":499},{"$f":"PRRAS!D512","v":0},{"$f":"PRRAS!E512","v":0},null,null,0,0,0]
[151,{"$f":"PRRAS!C513","v":500},{"$f":"PRRAS!D513","v":0},{"$f":"PRRAS!E513","v":0},null,null,0,0,0]
[151,{"$f":"PRRAS!C514","v":501},{"$f":"PRRAS!D514","v":0},{"$f":"PRRAS!E514","v":0},null,null,0,0,0]
[151,{"$f":"PRRAS!C515","v":502},{"$f":"PRRAS!D515","v":0},{"$f":"PRRAS!E515","v":0},null,null,0,0,0]
[151,{"$f":"PRRAS!C516","v":503},{"$f":"PRRAS!D516","v":0},{"$f":"PRRAS!E516","v":0},null,null,0,0,0]
[151,{"$f":"PRRAS!C517","v":504},{"$f":"PRRAS!D517","v":0},{"$f":"PRRAS!E517","v":0},null,null,0,0,0]
[151,{"$f":"PRRAS!C518","v":505},{"$f":"PRRAS!D518","v":0},{"$f":"PRRAS!E518","v":0},null,null,0,0,0]
[151,{"$f":"PRRAS!C519","v":506},{"$f":"PRRAS!D519","v":0},{"$f":"PRRAS!E519","v":0},null,null,0,0,0]
[151,{"$f":"PRRAS!C520","v":507},{"$f":"PRRAS!D520","v":0},{"$f":"PRRAS!E520","v":0},null,null,0,0,0]
[151,{"$f":"PRRAS!C521","v":508},{"$f":"PRRAS!D521","v":0},{"$f":"PRRAS!E521","v":0},null,null,0,0,0]
[151,{"$f":"PRRAS!C522","v":509},{"$f":"PRRAS!D522","v":0},{"$f":"PRRAS!E522","v":0},null,null,0,0,0]
[151,{"$f":"PRRAS!C523","v":510},{"$f":"PRRAS!D523","v":0},{"$f":"PRRAS!E523","v":0},null,null,0,0,0]
[151,{"$f":"PRRAS!C524","v":511},{"$f":"PRRAS!D524","v":0},{"$f":"PRRAS!E524","v":0},null,null,0,0,0]
[151,{"$f":"PRRAS!C525","v":512},{"$f":"PRRAS!D525","v":0},{"$f":"PRRAS!E525","v":0},null,null,0,0,0]
[151,{"$f":"PRRAS!C526","v":513},{"$f":"PRRAS!D526","v":0},{"$f":"PRRAS!E526","v":0},null,null,0,0,0]
[151,{"$f":"PRRAS!C527","v":514},{"$f":"PRRAS!D527","v":0},{"$f":"PRRAS!E527","v":0},null,null,{"$f":"(B515/1000)*(C515*1+D515*2)","v":0},{"$f":"ABS(C515-ROUND(C515,0))+ABS(D515-ROUND(D515,0))","v":0},0]
[151,{"$f":"PRRAS!C528","v":515},{"$f":"PRRAS!D528","v":0},{"$f":"PRRAS!E528","v":0},null,null,0,0,0]
[151,{"$f":"PRRAS!C529","v":516},{"$f":"PRRAS!D529","v":0},{"$f":"PRRAS!E529","v":0},null,null,0,0,0]
[151,{"$f":"PRRAS!C530","v":517},{"$f":"PRRAS!D530","v":0},{"$f":"PRRAS!E530","v":0},null,null,0,0,0]
[151,{"$f":"PRRAS!C531","v":518},{"$f":"PRRAS!D531","v":0},{"$f":"PRRAS!E531","v":0},null,null,0,0,0]
[151,{"$f":"PRRAS!C532","v":519},{"$f":"PRRAS!D532","v":0},{"$f":"PRRAS!E532","v":0},null,null,0,0,0]
[151,{"$f":"PRRAS!C533","v":520},{"$f":"PRRAS!D533","v":0},{"$f":"PRRAS!E533","v":0},null,null,0,0,0]
[151,{"$f":"PRRAS!C534","v":521},{"$f":"PRRAS!D534","v":0},{"$f":"PRRAS!E534","v":0},null,null,0,0,0]
[151,{"$f":"PRRAS!C535","v":522},{"$f":"PRRAS!D535","v":0},{"$f":"PRRAS!E535","v":0},null,null,0,0,0]
[151,{"$f":"PRRAS!C536","v":523},{"$f":"PRRAS!D536","v":0},{"$f":"PRRAS!E536","v":0},null,null,0,0,0]
[151,{"$f":"PRRAS!C537","v":524},{"$f":"PRRAS!D537","v":0},{"$f":"PRRAS!E537","v":0},null,null,0,0,0]
[151,{"$f":"PRRAS!C538","v":525},{"$f":"PRRAS!D538","v":0},{"$f":"PRRAS!E538","v":0},null,null,0,0,0]
[151,{"$f":"PRRAS!C539","v":526},{"$f":"PRRAS!D539","v":0},{"$f":"PRRAS!E539","v":0},null,null,0,0,0]
[151,{"$f":"PRRAS!C540","v":527},{"$f":"PRRAS!D540","v":0},{"$f":"PRRAS!E540","v":0},null,null,0,0,0]
[151,{"$f":"PRRAS!C541","v":528},{"$f":"PRRAS!D541","v":0},{"$f":"PRRAS!E541","v":0},null,null,0,0,0]
[151,{"$f":"PRRAS!C542","v":529},{"$f":"PRRAS!D542","v":0},{"$f":"PRRAS!E542","v":0},null,null,0,0,0]
[151,{"$f":"PRRAS!C543","v":530},{"$f":"PRRAS!D543","v":0},{"$f":"PRRAS!E543","v":0},null,null,0,0,0]
[151,{"$f":"PRRAS!C544","v":531},{"$f":"PRRAS!D544","v":0},{"$f":"PRRAS!E544","v":0},null,null,0,0,0]
[151,{"$f":"PRRAS!C545","v":532},{"$f":"PRRAS!D545","v":0},{"$f":"PRRAS!E545","v":0},null,null,0,0,0]
[151,{"$f":"PRRAS!C546","v":533},{"$f":"PRRAS!D546","v":0},{"$f":"PRRAS!E546","v":0},null,null,0,0,0]
[151,{"$f":"PRRAS!C547","v":534},{"$f":"PRRAS!D547","v":0},{"$f":"PRRAS!E547","v":0},null,null,0,0,0]
[151,{"$f":"PRRAS!C548","v":535},{"$f":"PRRAS!D548","v":0},{"$f":"PRRAS!E548","v":0},null,null,0,0,0]
[151,{"$f":"PRRAS!C549","v":536},{"$f":"PRRAS!D549","v":0},{"$f":"PRRAS!E549","v":0},null,null,0,0,0]
[151,{"$f":"PRRAS!C550","v":537},{"$f":"PRRAS!D550","v":0},{"$f":"PRRAS!E550","v":0},null,null,0,0,0]
[151,{"$f":"PRRAS!C551","v":538},{"$f":"PRRAS!D551","v":0},{"$f":"PRRAS!E551","v":0},null,null,0,0,0]
[151,{"$f":"PRRAS!C552","v":539},{"$f":"PRRAS!D552","v":0},{"$f":"PRRAS!E552","v":0},null,null,0,0,0]
[151,{"$f":"PRRAS!C553","v":540},{"$f":"PRRAS!D553","v":0},{"$f":"PRRAS!E553","v":0},null,null,0,0,0]
[151,{"$f":"PRRAS!C554","v":541},{"$f":"PRRAS!D554","v":0},{"$f":"PRRAS!E554","v":0},null,null,0,0,0]
[151,{"$f":"PRRAS!C555","v":542},{"$f":"PRRAS!D555","v":0},{"$f":"PRRAS!E555","v":0},null,null,0,0,0]
[151,{"$f":"PRRAS!C556","v":543},{"$f":"PRRAS!D556","v":0},{"$f":"PRRAS!E556","v":0},null,null,0,0,0]
[151,{"$f":"PRRAS!C557","v":544},{"$f":"PRRAS!D557","v":0},{"$f":"PRRAS!E557","v":0},null,null,0,0,0]
[151,{"$f":"PRRAS!C558","v":545},{"$f":"PRRAS!D558","v":0},{"$f":"PRRAS!E558","v":0},null,null,0,0,0]
[151,{"$f":"PRRAS!C559","v":546},{"$f":"PRRAS!D559","v":0},{"$f":"PRRAS!E559","v":0},null,null,0,0,0]
[151,{"$f":"PRRAS!C560","v":547},{"$f":"PRRAS!D560","v":0},{"$f":"PRRAS!E560","v":0},null,null,0,0,0]
[151,{"$f":"PRRAS!C561","v":548},{"$f":"PRRAS!D561","v":0},{"$f":"PRRAS!E561","v":0},null,null,0,0,0]
[151,{"$f":"PRRAS!C562","v":549},{"$f":"PRRAS!D562","v":0},{"$f":"PRRAS!E562","v":0},null,null,0,0,0]
[151,{"$f":"PRRAS!C563","v":550},{"$f":"PRRAS!D563","v":0},{"$f":"PRRAS!E563","v":0},null,null,0,0,0]
[151,{"$f":"PRRAS!C564","v":551},{"$f":"PRRAS!D564","v":0},{"$f":"PRRAS!E564","v":0},null,null,0,0,0]
[151,{"$f":"PRRAS!C565","v":552},{"$f":"PRRAS!D565","v":0},{"$f":"PRRAS!E565","v":0},null,null,0,0,0]
[151,{"$f":"PRRAS!C566","v":553},{"$f":"PRRAS!D566","v":0},{"$f":"PRRAS!E566","v":0},null,null,0,0,0]
[151,{"$f":"PRRAS!C567","v":554},{"$f":"PRRAS!D567","v":0},{"$f":"PRRAS!E567","v":0},null,null,0,0,0]
[151,{"$f":"PRRAS!C568","v":555},{"$f":"PRRAS!D568","v":0},{"$f":"PRRAS!E568","v":0},null,null,0,0,0]
[151,{"$f":"PRRAS!C569","v":556},{"$f":"PRRAS!D569","v":0},{"$f":"PRRAS!E569","v":0},null,null,0,0,0]
[151,{"$f":"PRRAS!C570","v":557},{"$f":"PRRAS!D570","v":0},{"$f":"PRRAS!E570","v":0},null,null,0,0,0]
[151,{"$f":"PRRAS!C571","v":558},{"$f":"PRRAS!D571","v":0},{"$f":"PRRAS!E571","v":0},null,null,0,0,0]
[151,{"$f":"PRRAS!C572","v":559},{"$f":"PRRAS!D572","v":0},{"$f":"PRRAS!E572","v":0},null,null,0,0,0]
[151,{"$f":"PRRAS!C573","v":560},{"$f":"PRRAS!D573","v":0},{"$f":"PRRAS!E573","v":0},null,null,0,0,0]
[151,{"$f":"PRRAS!C574","v":561},{"$f":"PRRAS!D574","v":0},{"$f":"PRRAS!E574","v":0},null,null,0,0,0]
[151,{"$f":"PRRAS!C575","v":562},{"$f":"PRRAS!D575","v":0},{"$f":"PRRAS!E575","v":0},null,null,0,0,0]
[151,{"$f":"PRRAS!C576","v":563},{"$f":"PRRAS!D576","v":0},{"$f":"PRRAS!E576","v":0},null,null,0,0,0]
[151,{"$f":"PRRAS!C577","v":564},{"$f":"PRRAS!D577","v":0},{"$f":"PRRAS!E577","v":0},null,null,0,0,0]
[151,{"$f":"PRRAS!C578","v":565},{"$f":"PRRAS!D578","v":0},{"$f":"PRRAS!E578","v":0},null,null,0,0,0]
[151,{"$f":"PRRAS!C579","v":566},{"$f":"PRRAS!D579","v":0},{"$f":"PRRAS!E579","v":0},null,null,0,0,0]
[151,{"$f":"PRRAS!C580","v":567},{"$f":"PRRAS!D580","v":0},{"$f":"PRRAS!E580","v":0},null,null,0,0,0]
[151,{"$f":"PRRAS!C581","v":568},{"$f":"PRRAS!D581","v":0},{"$f":"PRRAS!E581","v":0},null,null,0,0,0]
[151,{"$f":"PRRAS!C582","v":569},{"$f":"PRRAS!D582","v":0},{"$f":"PRRAS!E582","v":0},null,null,0,0,0]
[151,{"$f":"PRRAS!C583","v":570},{"$f":"PRRAS!D583","v":0},{"$f":"PRRAS!E583","v":0},null,null,0,0,0]
[151,{"$f":"PRRAS!C584","v":571},{"$f":"PRRAS!D584","v":0},{"$f":"PRRAS!E584","v":0},null,null,0,0,0]
[151,{"$f":"PRRAS!C585","v":572},{"$f":"PRRAS!D585","v":0},{"$f":"PRRAS!E585","v":0},null,null,0,0,0]
[151,{"$f":"PRRAS!C586","v":573},{"$f":"PRRAS!D586","v":0},{"$f":"PRRAS!E586","v":0},null,null,0,0,0]
[151,{"$f":"PRRAS!C587","v":574},{"$f":"PRRAS!D587","v":0},{"$f":"PRRAS!E587","v":0},null,null,0,0,0]
[151,{"$f":"PRRAS!C588","v":575},{"$f":"PRRAS!D588","v":0},{"$f":"PRRAS!E588","v":0},null,null,0,0,0]
[151,{"$f":"PRRAS!C589","v":576},{"$f":"PRRAS!D589","v":0},{"$f":"PRRAS!E589","v":0},null,null,0,0,0]
[151,{"$f":"PRRAS!C590","v":577},{"$f":"PRRAS!D590","v":0},{"$f":"PRRAS!E590","v":0},null,null,0,0,0]
[151,{"$f":"PRRAS!C591","v":578},{"$f":"PRRAS!D591","v":0},{"$f":"PRRAS!E591","v":0},null,null,{"$f":"(B579/1000)*(C579*1+D579*2)","v":0},{"$f":"ABS(C579-ROUND(C579,0))+ABS(D579-ROUND(D579,0))","v":0},0]
[151,{"$f":"PRRAS!C592","v":579},{"$f":"PRRAS!D592","v":0},{"$f":"PRRAS!E592","v":0},null,null,0,0,0]
[151,{"$f":"PRRAS!C593","v":580},{"$f":"PRRAS!D593","v":0},{"$f":"PRRAS!E593","v":0},null,null,0,0,0]
[151,{"$f":"PRRAS!C594","v":581},{"$f":"PRRAS!D594","v":0},{"$f":"PRRAS!E594","v":0},null,null,0,0,0]
[151,{"$f":"PRRAS!C595","v":582},{"$f":"PRRAS!D595","v":0},{"$f":"PRRAS!E595","v":0},null,null,0,0,0]
[151,{"$f":"PRRAS!C596","v":583},{"$f":"PRRAS!D596","v":0},{"$f":"PRRAS!E596","v":0},null,null,0,0,0]
[151,{"$f":"PRRAS!C597","v":584},{"$f":"PRRAS!D597","v":0},{"$f":"PRRAS!E597","v":0},null,null,0,0,0]
[151,{"$f":"PRRAS!C598","v":585},{"$f":"PRRAS!D598","v":0},{"$f":"PRRAS!E598","v":0},null,null,0,0,0]
[151,{"$f":"PRRAS!C599","v":586},{"$f":"PRRAS!D599","v":0},{"$f":"PRRAS!E599","v":0},null,null,0,0,0]
[151,{"$f":"PRRAS!C600","v":587},{"$f":"PRRAS!D600","v":0},{"$f":"PRRAS!E600","v":0},null,null,0,0,0]
[151,{"$f":"PRRAS!C601","v":588},{"$f":"PRRAS!D601","v":0},{"$f":"PRRAS!E601","v":0},null,null,0,0,0]
[151,{"$f":"PRRAS!C602","v":589},{"$f":"PRRAS!D602","v":0},{"$f":"PRRAS!E602","v":0},null,null,0,0,0]
[151,{"$f":"PRRAS!C603","v":590},{"$f":"PRRAS!D603","v":0},{"$f":"PRRAS!E603","v":0},null,null,0,0,0]
[151,{"$f":"PRRAS!C604","v":591},{"$f":"PRRAS!D604","v":0},{"$f":"PRRAS!E604","v":0},null,null,0,0,0]
[151,{"$f":"PRRAS!C605","v":592},{"$f":"PRRAS!D605","v":0},{"$f":"PRRAS!E605","v":0},null,null,0,0,0]
[151,{"$f":"PRRAS!C606","v":593},{"$f":"PRRAS!D606","v":0},{"$f":"PRRAS!E606","v":0},null,null,0,0,0]
[151,{"$f":"PRRAS!C607","v":594},{"$f":"PRRAS!D607","v":0},{"$f":"PRRAS!E607","v":0},null,null,0,0,0]
[151,{"$f":"PRRAS!C608","v":595},{"$f":"PRRAS!D608","v":0},{"$f":"PRRAS!E608","v":0},null,null,0,0,0]
[151,{"$f":"PRRAS!C609","v":596},{"$f":"PRRAS!D609","v":0},{"$f":"PRRAS!E609","v":0},null,null,0,0,0]
[151,{"$f":"PRRAS!C610","v":597},{"$f":"PRRAS!D610","v":0},{"$f":"PRRAS!E610","v":0},null,null,0,0,0]
[151,{"$f":"PRRAS!C611","v":598},{"$f":"PRRAS!D611","v":11037394},{"$f":"PRRAS!E611","v":12004529},null,null,20957778.296,0,0]
[151,{"$f":"PRRAS!C612","v":599},{"$f":"PRRAS!D612","v":11088226},{"$f":"PRRAS!E612","v":11799364},null,null,20777485.445999999,0,0]
[151,{"$f":"PRRAS!C613","v":600},{"$f":"PRRAS!D613","v":0},{"$f":"PRRAS!E613","v":205165},null,null,246198,0,0]
[151,{"$f":"PRRAS!C614","v":601},{"$f":"PRRAS!D614","v":50832},{"$f":"PRRAS!E614","v":0},null,null,30550.031999999999,0,0]
[151,{"$f":"PRRAS!C615","v":602},{"$f":"PRRAS!D615","v":8716},{"$f":"PRRAS!E615","v":0},null,null,5247.0320000000002,0,0]
[151,{"$f":"PRRAS!C616","v":603},{"$f":"PRRAS!D616","v":0},{"$f":"PRRAS!E616","v":42116},null,null,50791.896000000001,0,0]
[151,{"$f":"PRRAS!C617","v":604},{"$f":"PRRAS!D617","v":0},{"$f":"PRRAS!E617","v":163049},null,null,196963.19199999998,0,0]
[151,{"$f":"PRRAS!C618","v":605},{"$f":"PRRAS!D618","v":42116},{"$f":"PRRAS!E618","v":0},null,null,25480.18,0,0]
[151,{"$f":"PRRAS!C619","v":606},{"$f":"PRRAS!D619","v":718730},{"$f":"PRRAS!E619","v":673784},null,null,1252176.588,0,0]
[151,{"$f":"PRRAS!C621","v":607},{"$f":"PRRAS!D621","v":109327},{"$f":"PRRAS!E621","v":154873},null,null,254377.31099999999,0,0]
[151,{"$f":"PRRAS!C622","v":608},{"$f":"PRRAS!D622","v":3522963},{"$f":"PRRAS!E622","v":4134756},null,null,7169824.7999999998,0,0]
[151,{"$f":"PRRAS!C623","v":609},{"$f":"PRRAS!D623","v":3511965},{"$f":"PRRAS!E623","v":3938281},null,null,6935612.943,0,0]
[151,{"$f":"PRRAS!C624","v":610},{"$f":"PRRAS!D624","v":120325},{"$f":"PRRAS!E624","v":351348},null,null,502042.81,0,0]
[151,{"$f":"PRRAS!C625","v":611},{"$f":"PRRAS!D625","v":0},{"$f":"PRRAS!E625","v":0},null,null,0,0,0]
[151,{"$f":"PRRAS!C626","v":612},{"$f":"PRRAS!D626","v":82},{"$f":"PRRAS!E626","v":86},null,null,155.44800000000001,0,0]
[151,{"$f":"PRRAS!C627","v":613},{"$f":"PRRAS!D627","v":0},{"$f":"PRRAS!E627","v":0},null,null,0,0,0]
[151,{"$f":"PRRAS!C628","v":614},{"$f":"PRRAS!D628","v":78},{"$f":"PRRAS!E628","v":78},null,null,143.67599999999999,0,0]
[151,{"$f":"PRRAS!C629","v":615},{"$f":"PRRAS!D629","v":0},{"$f":"PRRAS!E629","v":0},null,null,0,0,0]
[151,{"$f":"PRRAS!C630","v":616},{"$f":"PRRAS!D630","v":0},{"$f":"PRRAS!E630","v":0},null,null,0,0,0]
[151,{"$f":"PRRAS!C631","v":617},{"$f":"PRRAS!D631","v":0},{"$f":"PRRAS!E631","v":0},null,null,0,0,0]
[151,{"$f":"PRRAS!C632","v":618},{"$f":"PRRAS!D632","v":0},{"$f":"PRRAS!E632","v":0},null,null,0,0,0]
[151,{"$f":"PRRAS!C633","v":619},{"$f":"PRRAS!D633","v":0},{"$f":"PRRAS!E633","v":0},null,null,0,0,0]
[151,{"$f":"PRRAS!C634","v":620},{"$f":"PRRAS!D634","v":0},{"$f":"PRRAS!E634","v":0},null,null,0,0,0]
[151,{"$f":"PRRAS!C635","v":621},{"$f":"PRRAS!D635","v":0},{"$f":"PRRAS!E635","v":0},null,null,0,0,0]
[151,{"$f":"PRRAS!C636","v":622},{"$f":"PRRAS!D636","v":0},{"$f":"PRRAS!E636","v":0},null,null,0,0,0]
[151,{"$f":"PRRAS!C637","v":623},{"$f":"PRRAS!D637","v":0},{"$f":"PRRAS!E637","v":0},null,null,0,0,0]
[151,{"$f":"PRRAS!C638","v":624},{"$f":"PRRAS!D638","v":0},{"$f":"PRRAS!E638","v":0},null,null,0,0,0]
[151,{"$f":"PRRAS!C639","v":625},{"$f":"PRRAS!D639","v":0},{"$f":"PRRAS!E639","v":0},null,null,0,0,0]
[151,{"$f":"PRRAS!C640","v":626},{"$f":"PRRAS!D640","v":0},{"$f":"PRRAS!E640","v":0},null,null,0,0,0]
[151,{"$f":"PRRAS!C641","v":627},{"$f":"PRRAS!D641","v":0},{"$f":"PRRAS!E641","v":0},null,null,0,0,0]
[151,{"$f":"PRRAS!C642","v":628},{"$f":"PRRAS!D642","v":0},{"$f":"PRRAS!E642","v":0},null,null,0,0,0]
[151,{"$f":"PRRAS!C643","v":629},{"$f":"PRRAS!D643","v":0},{"$f":"PRRAS!E643","v":0},null,null,0,0,0]
[151,{"$f":"PRRAS!C644","v":630},{"$f":"PRRAS!D644","v":0},{"$f":"PRRAS!E644","v":0},null,null,0,0,0]
[151,{"$f":"PRRAS!C645","v":631},{"$f":"PRRAS!D645","v":0},{"$f":"PRRAS!E645","v":0},null,null,0,0,0]
[151,{"$f":"PRRAS!C646","v":632},{"$f":"PRRAS!D646","v":0},{"$f":"PRRAS!E646","v":0},null,null,0,0,0]
[151,{"$f":"PRRAS!C647","v":633},{"$f":"PRRAS!D647","v":0},{"$f":"PRRAS!E647","v":0},null,null,0,0,0]
[151,{"$f":"PRRAS!C648","v":634},{"$f":"PRRAS!D648","v":0},{"$f":"PRRAS!E648","v":0},null,null,0,0,0]
[151,{"$f":"PRRAS!C649","v":635},{"$f":"PRRAS!D649","v":0},{"$f":"PRRAS!E649","v":0},null,null,0,0,0]
[151,{"$f":"PRRAS!C650","v":636},{"$f":"PRRAS!D650","v":0},{"$f":"PRRAS!E650","v":0},null,null,0,0,0]
[151,{"$f":"PRRAS!C651","v":637},{"$f":"PRRAS!D651","v":0},{"$f":"PRRAS!E651","v":0},null,null,0,0,0]
[151,{"$f":"PRRAS!C652","v":638},{"$f":"PRRAS!D652","v":0},{"$f":"PRRAS!E652","v":0},null,null,0,0,0]
[151,{"$f":"PRRAS!C653","v":639},{"$f":"PRRAS!D653","v":0},{"$f":"PRRAS!E653","v":0},null,null,0,0,0]
[151,{"$f":"PRRAS!C654","v":640},{"$f":"PRRAS!D654","v":0},{"$f":"PRRAS!E654","v":0},null,null,0,0,0]
[151,{"$f":"PRRAS!C655","v":641},{"$f":"PRRAS!D655","v":0},{"$f":"PRRAS!E655","v":0},null,null,{"$f":"(B642/1000)*(C642*1+D642*2)","v":0},{"$f":"ABS(C642-ROUND(C642,0))+ABS(D642-ROUND(D642,0))","v":0},0]
[151,{"$f":"PRRAS!C656","v":642},{"$f":"PRRAS!D656","v":0},{"$f":"PRRAS!E656","v":0},null,null,0,0,0]
[151,{"$f":"PRRAS!C657","v":643},{"$f":"PRRAS!D657","v":0},{"$f":"PRRAS!E657","v":0},null,null,0,0,0]
[151,{"$f":"PRRAS!C658","v":644},{"$f":"PRRAS!D658","v":0},{"$f":"PRRAS!E658","v":0},null,null,0,0,0]
[151,{"$f":"PRRAS!C659","v":645},{"$f":"PRRAS!D659","v":497307},{"$f":"PRRAS!E659","v":479657},null,null,939520.54500000004,0,0]
[151,{"$f":"PRRAS!C660","v":646},{"$f":"PRRAS!D660","v":0},{"$f":"PRRAS!E660","v":0},null,null,0,0,0]
[151,{"$f":"PRRAS!C661","v":647},{"$f":"PRRAS!D661","v":7762047},{"$f":"PRRAS!E661","v":9059079},null,null,16744492.635,0,0]
[151,{"$f":"PRRAS!C662","v":648},{"$f":"PRRAS!D662","v":0},{"$f":"PRRAS!E662","v":0},null,null,0,0,0]
[151,{"$f":"PRRAS!C663","v":649},{"$f":"PRRAS!D663","v":7856688},{"$f":"PRRAS!E663","v":8220529},null,null,15769237.154000001,0,0]
[151,{"$f":"PRRAS!C664","v":650},{"$f":"PRRAS!D664","v":0},{"$f":"PRRAS!E664","v":0},null,null,0,0,0]
[151,{"$f":"PRRAS!C665","v":651},{"$f":"PRRAS!D665","v":5570948},{"$f":"PRRAS!E665","v":5585972},null,null,10899622.692,0,0]
[151,{"$f":"PRRAS!C666","v":652},{"$f":"PRRAS!D666","v":0},{"$f":"PRRAS!E666","v":0},null,null,0,0,0]
[151,{"$f":"PRRAS!C667","v":653},{"$f":"PRRAS!D667","v":564010},{"$f":"PRRAS!E667","v":575795},null,null,1120286.8,0,0]
[151,{"$f":"PRRAS!C668","v":654},{"$f":"PRRAS!D668","v":0},{"$f":"PRRAS!E668","v":0},null,null,0,0,0]
[151,{"$f":"PRRAS!C669","v":655},{"$f":"PRRAS!D669","v":28501},{"$f":"PRRAS!E669","v":23285},null,null,49171.505000000005,0,0]
[151,{"$f":"PRRAS!C670","v":656},{"$f":"PRRAS!D670","v":0},{"$f":"PRRAS!E670","v":0},null,null,0,0,0]
[151,{"$f":"PRRAS!C671","v":657},{"$f":"PRRAS!D671","v":2599075},{"$f":"PRRAS!E671","v":2725050},null,null,5288307.9750000006,0,0]
[151,{"$f":"PRRAS!C672","v":658},{"$f":"PRRAS!D672","v":268583},{"$f":"PRRAS!E672","v":294073},null,null,563727.68200000003,0,0]
[151,{"$f":"PRRAS!C673","v":659},{"$f":"PRRAS!D673","v":19177},{"$f":"PRRAS!E673","v":20415},null,null,39544.613000000005,0,0]
[151,{"$f":"PRRAS!C674","v":660},{"$f":"PRRAS!D674","v":0},{"$f":"PRRAS!E674","v":6918},null,null,9131.76,0,0]
[151,{"$f":"PRRAS!C675","v":661},{"$f":"PRRAS!D675","v":22762},{"$f":"PRRAS!E675","v":7572},null,null,25055.866000000002,0,0]
[151,{"$f":"PRRAS!C676","v":662},{"$f":"PRRAS!D676","v":56899},{"$f":"PRRAS!E676","v":42852},null,null,94403.186000000002,0,0]
[151,{"$f":"PRRAS!C677","v":663},{"$f":"PRRAS!D677","v":41694},{"$f":"PRRAS!E677","v":107969},null,null,170810.016,0,0]
[151,{"$f":"PRRAS!C678","v":664},{"$f":"PRRAS!D678","v":3805},{"$f":"PRRAS!E678","v":3882},null,null,7681.8160000000007,0,0]
[151,{"$f":"PRRAS!C679","v":665},{"$f":"PRRAS!D679","v":0},{"$f":"PRRAS!E679","v":0},null,null,0,0,0]
[151,{"$f":"PRRAS!C680","v":666},{"$f":"PRRAS!D680","v":0},{"$f":"PRRAS!E680","v":0},null,null,0,0,0]
[151,{"$f":"PRRAS!C681","v":667},{"$f":"PRRAS!D681","v":0},{"$f":"PRRAS!E681","v":0},null,null,0,0,0]
[151,{"$f":"PRRAS!C682","v":668},{"$f":"PRRAS!D682","v":0},{"$f":"PRRAS!E682","v":0},null,null,0,0,0]
[151,{"$f":"PRRAS!C683","v":669},{"$f":"PRRAS!D683","v":0},{"$f":"PRRAS!E683","v":0},null,null,0,0,0]
[151,{"$f":"PRRAS!C684","v":670},{"$f":"PRRAS!D684","v":0},{"$f":"PRRAS!E684","v":0},null,null,0,0,0]
[151,{"$f":"PRRAS!C685","v":671},{"$f":"PRRAS!D685","v":0},{"$f":"PRRAS!E685","v":0},null,null,0,0,0]
[151,{"$f":"PRRAS!C686","v":672},{"$f":"PRRAS!D686","v":0},{"$f":"PRRAS!E686","v":0},null,null,0,0,0]
[151,{"$f":"PRRAS!C687","v":673},{"$f":"PRRAS!D687","v":0},{"$f":"PRRAS!E687","v":0},null,null,0,0,0]
[151,{"$f":"PRRAS!C688","v":674},{"$f":"PRRAS!D688","v":0},{"$f":"PRRAS!E688","v":0},null,null,0,0,0]
[151,{"$f":"PRRAS!C689","v":675},{"$f":"PRRAS!D689","v":0},{"$f":"PRRAS!E689","v":0},null,null,0,0,0]
[151,{"$f":"PRRAS!C690","v":676},{"$f":"PRRAS!D690","v":0},{"$f":"PRRAS!E690","v":0},null,null,0,0,0]
[151,{"$f":"PRRAS!C691","v":677},{"$f":"PRRAS!D691","v":0},{"$f":"PRRAS!E691","v":0},null,null,0,0,0]
[151,{"$f":"PRRAS!C692","v":678},{"$f":"PRRAS!D692","v":0},{"$f":"PRRAS!E692","v":0},null,null,0,0,0]
[151,{"$f":"PRRAS!C693","v":679},{"$f":"PRRAS!D693","v":0},{"$f":"PRRAS!E693","v":0},null,null,0,0,0]
[151,{"$f":"PRRAS!C694","v":680},{"$f":"PRRAS!D694","v":0},{"$f":"PRRAS!E694","v":0},null,null,0,0,0]
[151,{"$f":"PRRAS!C695","v":681},{"$f":"PRRAS!D695","v":0},{"$f":"PRRAS!E695","v":0},null,null,0,0,0]
[151,{"$f":"PRRAS!C696","v":682},{"$f":"PRRAS!D696","v":0},{"$f":"PRRAS!E696","v":0},null,null,0,0,0]
[151,{"$f":"PRRAS!C697","v":683},{"$f":"PRRAS!D697","v":0},{"$f":"PRRAS!E697","v":0},null,null,0,0,0]
[151,{"$f":"PRRAS!C698","v":684},{"$f":"PRRAS!D698","v":0},{"$f":"PRRAS!E698","v":0},null,null,0,0,0]
[151,{"$f":"PRRAS!C699","v":685},{"$f":"PRRAS!D699","v":0},{"$f":"PRRAS!E699","v":0},null,null,0,0,0]
[151,{"$f":"PRRAS!C700","v":686},{"$f":"PRRAS!D700","v":0},{"$f":"PRRAS!E700","v":0},null,null,0,0,0]
[151,{"$f":"PRRAS!C701","v":687},{"$f":"PRRAS!D701","v":0},{"$f":"PRRAS!E701","v":0},null,null,0,0,0]
[151,{"$f":"PRRAS!C702","v":688},{"$f":"PRRAS!D702","v":0},{"$f":"PRRAS!E702","v":0},null,null,0,0,0]
[151,{"$f":"PRRAS!C703","v":689},{"$f":"PRRAS!D703","v":0},{"$f":"PRRAS!E703","v":0},null,null,0,0,0]
[151,{"$f":"PRRAS!C704","v":690},{"$f":"PRRAS!D704","v":0},{"$f":"PRRAS!E704","v":0},null,null,0,0,0]
[151,{"$f":"PRRAS!C705","v":691},{"$f":"PRRAS!D705","v":0},{"$f":"PRRAS!E705","v":0},null,null,0,0,0]
[151,{"$f":"PRRAS!C706","v":692},{"$f":"PRRAS!D706","v":0},{"$f":"PRRAS!E706","v":0},null,null,0,0,0]
[151,{"$f":"PRRAS!C707","v":693},{"$f":"PRRAS!D707","v":0},{"$f":"PRRAS!E707","v":0},null,null,0,0,0]
[151,{"$f":"PRRAS!C708","v":694},{"$f":"PRRAS!D708","v":0},{"$f":"PRRAS!E708","v":0},null,null,{"$f":"(B695/1000)*(C695*1+D695*2)","v":0},{"$f":"ABS(C695-ROUND(C695,0))+ABS(D695-ROUND(D695,0))","v":0},0]
[151,{"$f":"PRRAS!C709","v":695},{"$f":"PRRAS!D709","v":0},{"$f":"PRRAS!E709","v":0},null,null,0,0,0]
[151,{"$f":"PRRAS!C710","v":696},{"$f":"PRRAS!D710","v":0},{"$f":"PRRAS!E710","v":0},null,null,0,0,0]
[151,{"$f":"PRRAS!C711","v":697},{"$f":"PRRAS!D711","v":0},{"$f":"PRRAS!E711","v":0},null,null,0,0,0]
[151,{"$f":"PRRAS!C712","v":698},{"$f":"PRRAS!D712","v":0},{"$f":"PRRAS!E712","v":0},null,null,0,0,0]
[151,{"$f":"PRRAS!C713","v":699},{"$f":"PRRAS!D713","v":0},{"$f":"PRRAS!E713","v":0},null,null,0,0,0]
[151,{"$f":"PRRAS!C714","v":700},{"$f":"PRRAS!D714","v":0},{"$f":"PRRAS!E714","v":0},null,null,0,0,0]
[151,{"$f":"PRRAS!C715","v":701},{"$f":"PRRAS!D715","v":0},{"$f":"PRRAS!E715","v":0},null,null,0,0,0]
[151,{"$f":"PRRAS!C716","v":702},{"$f":"PRRAS!D716","v":0},{"$f":"PRRAS!E716","v":0},null,null,0,0,0]
[151,{"$f":"PRRAS!C717","v":703},{"$f":"PRRAS!D717","v":0},{"$f":"PRRAS!E717","v":0},null,null,0,0,0]
[151,{"$f":"PRRAS!C718","v":704},{"$f":"PRRAS!D718","v":0},{"$f":"PRRAS!E718","v":0},null,null,0,0,0]
[151,{"$f":"PRRAS!C719","v":705},{"$f":"PRRAS!D719","v":0},{"$f":"PRRAS!E719","v":0},null,null,0,0,0]
[151,{"$f":"PRRAS!C720","v":706},{"$f":"PRRAS!D720","v":0},{"$f":"PRRAS!E720","v":0},null,null,0,0,0]
[151,{"$f":"PRRAS!C721","v":707},{"$f":"PRRAS!D721","v":0},{"$f":"PRRAS!E721","v":0},null,null,0,0,0]
[151,{"$f":"PRRAS!C722","v":708},{"$f":"PRRAS!D722","v":0},{"$f":"PRRAS!E722","v":0},null,null,0,0,0]
[151,{"$f":"PRRAS!C723","v":709},{"$f":"PRRAS!D723","v":0},{"$f":"PRRAS!E723","v":0},null,null,0,0,0]
[151,{"$f":"PRRAS!C724","v":710},{"$f":"PRRAS!D724","v":0},{"$f":"PRRAS!E724","v":0},null,null,0,0,0]
[151,{"$f":"PRRAS!C725","v":711},{"$f":"PRRAS!D725","v":0},{"$f":"PRRAS!E725","v":0},null,null,0,0,0]
[151,{"$f":"PRRAS!C726","v":712},{"$f":"PRRAS!D726","v":0},{"$f":"PRRAS!E726","v":0},null,null,0,0,0]
[151,{"$f":"PRRAS!C727","v":713},{"$f":"PRRAS!D727","v":0},{"$f":"PRRAS!E727","v":0},null,null,0,0,0]
[151,{"$f":"PRRAS!C728","v":714},{"$f":"PRRAS!D728","v":0},{"$f":"PRRAS!E728","v":0},null,null,0,0,0]
[151,{"$f":"PRRAS!C729","v":715},{"$f":"PRRAS!D729","v":0},{"$f":"PRRAS!E729","v":0},null,null,0,0,0]
[151,{"$f":"PRRAS!C730","v":716},{"$f":"PRRAS!D730","v":0},{"$f":"PRRAS!E730","v":0},null,null,0,0,0]
[151,{"$f":"PRRAS!C731","v":717},{"$f":"PRRAS!D731","v":0},{"$f":"PRRAS!E731","v":0},null,null,0,0,0]
[151,{"$f":"PRRAS!C732","v":718},{"$f":"PRRAS!D732","v":0},{"$f":"PRRAS!E732","v":0},null,null,0,0,0]
[151,{"$f":"PRRAS!C733","v":719},{"$f":"PRRAS!D733","v":0},{"$f":"PRRAS!E733","v":0},null,null,0,0,0]
[151,{"$f":"PRRAS!C734","v":720},{"$f":"PRRAS!D734","v":0},{"$f":"PRRAS!E734","v":0},null,null,0,0,0]
[151,{"$f":"PRRAS!C735","v":721},{"$f":"PRRAS!D735","v":0},{"$f":"PRRAS!E735","v":0},null,null,0,0,0]
[151,{"$f":"PRRAS!C736","v":722},{"$f":"PRRAS!D736","v":0},{"$f":"PRRAS!E736","v":0},null,null,0,0,0]
[151,{"$f":"PRRAS!C737","v":723},{"$f":"PRRAS!D737","v":0},{"$f":"PRRAS!E737","v":0},null,null,0,0,0]
[151,{"$f":"PRRAS!C738","v":724},{"$f":"PRRAS!D738","v":0},{"$f":"PRRAS!E738","v":0},null,null,0,0,0]
[151,{"$f":"PRRAS!C739","v":725},{"$f":"PRRAS!D739","v":0},{"$f":"PRRAS!E739","v":0},null,null,0,0,0]
[151,{"$f":"PRRAS!C740","v":726},{"$f":"PRRAS!D740","v":0},{"$f":"PRRAS!E740","v":0},null,null,0,0,0]
[151,{"$f":"PRRAS!C741","v":727},{"$f":"PRRAS!D741","v":0},{"$f":"PRRAS!E741","v":0},null,null,0,0,0]
[151,{"$f":"PRRAS!C742","v":728},{"$f":"PRRAS!D742","v":0},{"$f":"PRRAS!E742","v":0},null,null,0,0,0]
[151,{"$f":"PRRAS!C743","v":729},{"$f":"PRRAS!D743","v":0},{"$f":"PRRAS!E743","v":0},null,null,0,0,0]
[151,{"$f":"PRRAS!C744","v":730},{"$f":"PRRAS!D744","v":0},{"$f":"PRRAS!E744","v":0},null,null,0,0,0]
[151,{"$f":"PRRAS!C745","v":731},{"$f":"PRRAS!D745","v":0},{"$f":"PRRAS!E745","v":0},null,null,0,0,0]
[151,{"$f":"PRRAS!C746","v":732},{"$f":"PRRAS!D746","v":0},{"$f":"PRRAS!E746","v":0},null,null,0,0,0]
[151,{"$f":"PRRAS!C747","v":733},{"$f":"PRRAS!D747","v":0},{"$f":"PRRAS!E747","v":0},null,null,0,0,0]
[151,{"$f":"PRRAS!C748","v":734},{"$f":"PRRAS!D748","v":97369},{"$f":"PRRAS!E748","v":226503},null,null,403975.25,0,0]
[151,{"$f":"PRRAS!C749","v":735},{"$f":"PRRAS!D749","v":0},{"$f":"PRRAS!E749","v":0},null,null,0,0,0]
[151,{"$f":"PRRAS!C750","v":736},{"$f":"PRRAS!D750","v":0},{"$f":"PRRAS!E750","v":0},null,null,0,0,0]
[151,{"$f":"PRRAS!C751","v":737},{"$f":"PRRAS!D751","v":17129511},{"$f":"PRRAS!E751","v":17840815},null,null,38921810.916999996,0,0]
[151,{"$f":"PRRAS!C752","v":738},{"$f":"PRRAS!D752","v":0},{"$f":"PRRAS!E752","v":0},null,null,0,0,0]
[151,{"$f":"PRRAS!C753","v":739},{"$f":"PRRAS!D753","v":0},{"$f":"PRRAS!E753","v":0},null,null,0,0,0]
[151,{"$f":"PRRAS!C754","v":740},{"$f":"PRRAS!D754","v":0},{"$f":"PRRAS!E754","v":0},null,null,0,0,0]
[151,{"$f":"PRRAS!C755","v":741},{"$f":"PRRAS!D755","v":0},{"$f":"PRRAS!E755","v":0},null,null,0,0,0]
[151,{"$f":"PRRAS!C756","v":742},{"$f":"PRRAS!D756","v":0},{"$f":"PRRAS!E756","v":0},null,null,0,0,0]
[151,{"$f":"PRRAS!C757","v":743},{"$f":"PRRAS!D757","v":0},{"$f":"PRRAS!E757","v":0},null,null,0,0,0]
[151,{"$f":"PRRAS!C758","v":744},{"$f":"PRRAS!D758","v":0},{"$f":"PRRAS!E758","v":0},null,null,0,0,0]
[151,{"$f":"PRRAS!C759","v":745},{"$f":"PRRAS!D759","v":0},{"$f":"PRRAS!E759","v":0},null,null,0,0,0]
[151,{"$f":"PRRAS!C760","v":746},{"$f":"PRRAS!D760","v":0},{"$f":"PRRAS!E760","v":0},null,null,0,0,0]
[151,{"$f":"PRRAS!C761","v":747},{"$f":"PRRAS!D761","v":0},{"$f":"PRRAS!E761","v":0},null,null,0,0,0]
[151,{"$f":"PRRAS!C762","v":748},{"$f":"PRRAS!D762","v":0},{"$f":"PRRAS!E762","v":0},null,null,0,0,0]
[151,{"$f":"PRRAS!C763","v":749},{"$f":"PRRAS!D763","v":0},{"$f":"PRRAS!E763","v":0},null,null,0,0,0]
[151,{"$f":"PRRAS!C764","v":750},{"$f":"PRRAS!D764","v":0},{"$f":"PRRAS!E764","v":0},null,null,0,0,0]
[151,{"$f":"PRRAS!C765","v":751},{"$f":"PRRAS!D765","v":0},{"$f":"PRRAS!E765","v":0},null,null,0,0,0]
[151,{"$f":"PRRAS!C766","v":752},{"$f":"PRRAS!D766","v":0},{"$f":"PRRAS!E766","v":0},null,null,0,0,0]
[151,{"$f":"PRRAS!C767","v":753},{"$f":"PRRAS!D767","v":0},{"$f":"PRRAS!E767","v":0},null,null,0,0,0]
[151,{"$f":"PRRAS!C768","v":754},{"$f":"PRRAS!D768","v":0},{"$f":"PRRAS!E768","v":0},null,null,0,0,0]
[151,{"$f":"PRRAS!C769","v":755},{"$f":"PRRAS!D769","v":0},{"$f":"PRRAS!E769","v":0},null,null,0,0,0]
[151,{"$f":"PRRAS!C770","v":756},{"$f":"PRRAS!D770","v":0},{"$f":"PRRAS!E770","v":0},null,null,0,0,0]
[151,{"$f":"PRRAS!C771","v":757},{"$f":"PRRAS!D771","v":0},{"$f":"PRRAS!E771","v":0},null,null,0,0,0]
[151,{"$f":"PRRAS!C772","v":758},{"$f":"PRRAS!D772","v":0},{"$f":"PRRAS!E772","v":0},null,null,{"$f":"(B759/1000)*(C759*1+D759*2)","v":0},{"$f":"ABS(C759-ROUND(C759,0))+ABS(D759-ROUND(D759,0))","v":0},0]
[151,{"$f":"PRRAS!C773","v":759},{"$f":"PRRAS!D773","v":0},{"$f":"PRRAS!E773","v":0},null,null,0,0,0]
[151,{"$f":"PRRAS!C774","v":760},{"$f":"PRRAS!D774","v":0},{"$f":"PRRAS!E774","v":0},null,null,0,0,0]
[151,{"$f":"PRRAS!C775","v":761},{"$f":"PRRAS!D775","v":0},{"$f":"PRRAS!E775","v":0},null,null,0,0,0]
[151,{"$f":"PRRAS!C776","v":762},{"$f":"PRRAS!D776","v":0},{"$f":"PRRAS!E776","v":0},null,null,0,0,0]
[151,{"$f":"PRRAS!C777","v":763},{"$f":"PRRAS!D777","v":0},{"$f":"PRRAS!E777","v":0},null,null,0,0,0]
[151,{"$f":"PRRAS!C778","v":764},{"$f":"PRRAS!D778","v":0},{"$f":"PRRAS!E778","v":0},null,null,0,0,0]
[151,{"$f":"PRRAS!C779","v":765},{"$f":"PRRAS!D779","v":0},{"$f":"PRRAS!E779","v":0},null,null,0,0,0]
[151,{"$f":"PRRAS!C780","v":766},{"$f":"PRRAS!D780","v":0},{"$f":"PRRAS!E780","v":0},null,null,{"$f":"(B767/1000)*(C767*1+D767*2)","v":0},{"$f":"ABS(C767-ROUND(C767,0))+ABS(D767-ROUND(D767,0))","v":0},0]
[151,{"$f":"PRRAS!C781","v":767},{"$f":"PRRAS!D781","v":0},{"$f":"PRRAS!E781","v":0},null,null,0,0,0]
[151,{"$f":"PRRAS!C782","v":768},{"$f":"PRRAS!D782","v":0},{"$f":"PRRAS!E782","v":0},null,null,0,0,0]
[151,{"$f":"PRRAS!C783","v":769},{"$f":"PRRAS!D783","v":0},{"$f":"PRRAS!E783","v":0},null,null,0,0,0]
[151,{"$f":"PRRAS!C784","v":770},{"$f":"PRRAS!D784","v":0},{"$f":"PRRAS!E784","v":0},null,null,0,0,0]
[151,{"$f":"PRRAS!C785","v":771},{"$f":"PRRAS!D785","v":0},{"$f":"PRRAS!E785","v":0},null,null,0,0,0]
[151,{"$f":"PRRAS!C786","v":772},{"$f":"PRRAS!D786","v":0},{"$f":"PRRAS!E786","v":0},null,null,0,0,0]
[151,{"$f":"PRRAS!C787","v":773},{"$f":"PRRAS!D787","v":0},{"$f":"PRRAS!E787","v":0},null,null,0,0,0]
[151,{"$f":"PRRAS!C788","v":774},{"$f":"PRRAS!D788","v":0},{"$f":"PRRAS!E788","v":0},null,null,0,0,0]
[151,{"$f":"PRRAS!C789","v":775},{"$f":"PRRAS!D789","v":0},{"$f":"PRRAS!E789","v":0},null,null,0,0,0]
[151,{"$f":"PRRAS!C790","v":776},{"$f":"PRRAS!D790","v":0},{"$f":"PRRAS!E790","v":0},null,null,0,0,0]
[151,{"$f":"PRRAS!C791","v":777},{"$f":"PRRAS!D791","v":0},{"$f":"PRRAS!E791","v":0},null,null,0,0,0]
[151,{"$f":"PRRAS!C792","v":778},{"$f":"PRRAS!D792","v":0},{"$f":"PRRAS!E792","v":0},null,null,0,0,0]
[151,{"$f":"PRRAS!C793","v":779},{"$f":"PRRAS!D793","v":0},{"$f":"PRRAS!E793","v":0},null,null,0,0,0]
[151,{"$f":"PRRAS!C794","v":780},{"$f":"PRRAS!D794","v":0},{"$f":"PRRAS!E794","v":0},null,null,0,0,0]
[151,{"$f":"PRRAS!C795","v":781},{"$f":"PRRAS!D795","v":0},{"$f":"PRRAS!E795","v":0},null,null,0,0,0]
[151,{"$f":"PRRAS!C796","v":782},{"$f":"PRRAS!D796","v":0},{"$f":"PRRAS!E796","v":0},null,null,0,0,0]
[151,{"$f":"PRRAS!C797","v":783},{"$f":"PRRAS!D797","v":0},{"$f":"PRRAS!E797","v":0},null,null,0,0,0]
[151,{"$f":"PRRAS!C798","v":784},{"$f":"PRRAS!D798","v":0},{"$f":"PRRAS!E798","v":0},null,null,0,0,0]
[151,{"$f":"PRRAS!C799","v":785},{"$f":"PRRAS!D799","v":0},{"$f":"PRRAS!E799","v":0},null,null,0,0,0]
[151,{"$f":"PRRAS!C800","v":786},{"$f":"PRRAS!D800","v":0},{"$f":"PRRAS!E800","v":0},null,null,0,0,0]
[151,{"$f":"PRRAS!C801","v":787},{"$f":"PRRAS!D801","v":0},{"$f":"PRRAS!E801","v":0},null,null,0,0,0]
[151,{"$f":"PRRAS!C802","v":788},{"$f":"PRRAS!D802","v":0},{"$f":"PRRAS!E802","v":0},null,null,0,0,0]
[151,{"$f":"PRRAS!C803","v":789},{"$f":"PRRAS!D803","v":0},{"$f":"PRRAS!E803","v":0},null,null,0,0,0]
[151,{"$f":"PRRAS!C804","v":790},{"$f":"PRRAS!D804","v":0},{"$f":"PRRAS!E804","v":0},null,null,0,0,0]
[151,{"$f":"PRRAS!C805","v":791},{"$f":"PRRAS!D805","v":0},{"$f":"PRRAS!E805","v":0},null,null,0,0,0]
[151,{"$f":"PRRAS!C806","v":792},{"$f":"PRRAS!D806","v":0},{"$f":"PRRAS!E806","v":0},null,null,0,0,0]
[151,{"$f":"PRRAS!C807","v":793},{"$f":"PRRAS!D807","v":0},{"$f":"PRRAS!E807","v":0},null,null,0,0,0]
[151,{"$f":"PRRAS!C808","v":794},{"$f":"PRRAS!D808","v":0},{"$f":"PRRAS!E808","v":0},null,null,0,0,0]
[151,{"$f":"PRRAS!C809","v":795},{"$f":"PRRAS!D809","v":0},{"$f":"PRRAS!E809","v":0},null,null,0,0,0]
[151,{"$f":"PRRAS!C810","v":796},{"$f":"PRRAS!D810","v":0},{"$f":"PRRAS!E810","v":0},null,null,0,0,0]
[151,{"$f":"PRRAS!C811","v":797},{"$f":"PRRAS!D811","v":0},{"$f":"PRRAS!E811","v":0},null,null,0,0,0]
[151,{"$f":"PRRAS!C812","v":798},{"$f":"PRRAS!D812","v":0},{"$f":"PRRAS!E812","v":0},null,null,0,0,0]
[151,{"$f":"PRRAS!C813","v":799},{"$f":"PRRAS!D813","v":0},{"$f":"PRRAS!E813","v":0},null,null,0,0,0]
[151,{"$f":"PRRAS!C814","v":800},{"$f":"PRRAS!D814","v":0},{"$f":"PRRAS!E814","v":0},null,null,0,0,0]
[151,{"$f":"PRRAS!C815","v":801},{"$f":"PRRAS!D815","v":0},{"$f":"PRRAS!E815","v":0},null,null,0,0,0]
[151,{"$f":"PRRAS!C816","v":802},{"$f":"PRRAS!D816","v":0},{"$f":"PRRAS!E816","v":0},null,null,0,0,0]
[151,{"$f":"PRRAS!C817","v":803},{"$f":"PRRAS!D817","v":0},{"$f":"PRRAS!E817","v":0},null,null,0,0,0]
[151,{"$f":"PRRAS!C818","v":804},{"$f":"PRRAS!D818","v":0},{"$f":"PRRAS!E818","v":0},null,null,0,0,0]
[151,{"$f":"PRRAS!C819","v":805},{"$f":"PRRAS!D819","v":0},{"$f":"PRRAS!E819","v":0},null,null,0,0,0]
[151,{"$f":"PRRAS!C820","v":806},{"$f":"PRRAS!D820","v":0},{"$f":"PRRAS!E820","v":0},null,null,0,0,0]
[151,{"$f":"PRRAS!C821","v":807},{"$f":"PRRAS!D821","v":0},{"$f":"PRRAS!E821","v":0},null,null,0,0,0]
[151,{"$f":"PRRAS!C822","v":808},{"$f":"PRRAS!D822","v":0},{"$f":"PRRAS!E822","v":0},null,null,0,0,0]
[151,{"$f":"PRRAS!C823","v":809},{"$f":"PRRAS!D823","v":0},{"$f":"PRRAS!E823","v":0},null,null,0,0,0]
[151,{"$f":"PRRAS!C824","v":810},{"$f":"PRRAS!D824","v":0},{"$f":"PRRAS!E824","v":0},null,null,0,0,0]
[151,{"$f":"PRRAS!C825","v":811},{"$f":"PRRAS!D825","v":0},{"$f":"PRRAS!E825","v":0},null,null,0,0,0]
[151,{"$f":"PRRAS!C826","v":812},{"$f":"PRRAS!D826","v":0},{"$f":"PRRAS!E826","v":0},null,null,0,0,0]
[151,{"$f":"PRRAS!C827","v":813},{"$f":"PRRAS!D827","v":0},{"$f":"PRRAS!E827","v":0},null,null,0,0,0]
[151,{"$f":"PRRAS!C828","v":814},{"$f":"PRRAS!D828","v":0},{"$f":"PRRAS!E828","v":0},null,null,0,0,0]
[151,{"$f":"PRRAS!C829","v":815},{"$f":"PRRAS!D829","v":0},{"$f":"PRRAS!E829","v":0},null,null,0,0,0]
[151,{"$f":"PRRAS!C830","v":816},{"$f":"PRRAS!D830","v":0},{"$f":"PRRAS!E830","v":0},null,null,0,0,0]
[151,{"$f":"PRRAS!C831","v":817},{"$f":"PRRAS!D831","v":0},{"$f":"PRRAS!E831","v":0},null,null,0,0,0]
[151,{"$f":"PRRAS!C832","v":818},{"$f":"PRRAS!D832","v":0},{"$f":"PRRAS!E832","v":0},null,null,0,0,0]
[151,{"$f":"PRRAS!C833","v":819},{"$f":"PRRAS!D833","v":0},{"$f":"PRRAS!E833","v":0},null,null,0,0,0]
[151,{"$f":"PRRAS!C834","v":820},{"$f":"PRRAS!D834","v":0},{"$f":"PRRAS!E834","v":0},null,null,0,0,0]
[151,{"$f":"PRRAS!C835","v":821},{"$f":"PRRAS!D835","v":0},{"$f":"PRRAS!E835","v":0},null,null,0,0,0]
[151,{"$f":"PRRAS!C836","v":822},{"$f":"PRRAS!D836","v":0},{"$f":"PRRAS!E836","v":0},null,null,0,0,0]
[151,{"$f":"PRRAS!C837","v":823},{"$f":"PRRAS!D837","v":0},{"$f":"PRRAS!E837","v":0},null,null,0,0,0]
[151,{"$f":"PRRAS!C838","v":824},{"$f":"PRRAS!D838","v":0},{"$f":"PRRAS!E838","v":0},null,null,0,0,0]
[151,{"$f":"PRRAS!C839","v":825},{"$f":"PRRAS!D839","v":0},{"$f":"PRRAS!E839","v":0},null,null,0,0,0]
[151,{"$f":"PRRAS!C840","v":826},{"$f":"PRRAS!D840","v":0},{"$f":"PRRAS!E840","v":0},null,null,0,0,0]
[151,{"$f":"PRRAS!C841","v":827},{"$f":"PRRAS!D841","v":0},{"$f":"PRRAS!E841","v":0},null,null,0,0,0]
[151,{"$f":"PRRAS!C842","v":828},{"$f":"PRRAS!D842","v":0},{"$f":"PRRAS!E842","v":0},null,null,0,0,0]
[151,{"$f":"PRRAS!C843","v":829},{"$f":"PRRAS!D843","v":0},{"$f":"PRRAS!E843","v":0},null,null,0,0,0]
[151,{"$f":"PRRAS!C844","v":830},{"$f":"PRRAS!D844","v":0},{"$f":"PRRAS!E844","v":0},null,null,{"$f":"(B831/1000)*(C831*1+D831*2)","v":0},{"$f":"ABS(C831-ROUND(C831,0))+ABS(D831-ROUND(D831,0))","v":0},0]
[151,{"$f":"PRRAS!C845","v":831},{"$f":"PRRAS!D845","v":0},{"$f":"PRRAS!E845","v":0},null,null,{"$f":"(B832/1000)*(C832*1+D832*2)","v":0},{"$f":"ABS(C832-ROUND(C832,0))+ABS(D832-ROUND(D832,0))","v":0},0]
[151,{"$f":"PRRAS!C846","v":832},{"$f":"PRRAS!D846","v":0},{"$f":"PRRAS!E846","v":0},null,null,{"$f":"(B833/1000)*(C833*1+D833*2)","v":0},{"$f":"ABS(C833-ROUND(C833,0))+ABS(D833-ROUND(D833,0))","v":0},0]
[151,{"$f":"PRRAS!C847","v":833},{"$f":"PRRAS!D847","v":0},{"$f":"PRRAS!E847","v":0},null,null,{"$f":"(B834/1000)*(C834*1+D834*2)","v":0},{"$f":"ABS(C834-ROUND(C834,0))+ABS(D834-ROUND(D834,0))","v":0},0]
[151,{"$f":"PRRAS!C848","v":834},{"$f":"PRRAS!D848","v":0},{"$f":"PRRAS!E848","v":0},null,null,{"$f":"(B835/1000)*(C835*1+D835*2)","v":0},{"$f":"ABS(C835-ROUND(C835,0))+ABS(D835-ROUND(D835,0))","v":0},0]
[151,{"$f":"PRRAS!C849","v":835},{"$f":"PRRAS!D849","v":0},{"$f":"PRRAS!E849","v":0},null,null,0,0,0]
[151,{"$f":"PRRAS!C850","v":836},{"$f":"PRRAS!D850","v":0},{"$f":"PRRAS!E850","v":0},null,null,0,0,0]
[151,{"$f":"PRRAS!C851","v":837},{"$f":"PRRAS!D851","v":0},{"$f":"PRRAS!E851","v":0},null,null,0,0,0]
[151,{"$f":"PRRAS!C852","v":838},{"$f":"PRRAS!D852","v":0},{"$f":"PRRAS!E852","v":0},null,null,0,0,0]
[151,{"$f":"PRRAS!C853","v":839},{"$f":"PRRAS!D853","v":0},{"$f":"PRRAS!E853","v":0},null,null,0,0,0]
[151,{"$f":"PRRAS!C854","v":840},{"$f":"PRRAS!D854","v":0},{"$f":"PRRAS!E854","v":0},null,null,0,0,0]
[151,{"$f":"PRRAS!C855","v":841},{"$f":"PRRAS!D855","v":0},{"$f":"PRRAS!E855","v":0},null,null,0,0,0]
[151,{"$f":"PRRAS!C856","v":842},{"$f":"PRRAS!D856","v":0},{"$f":"PRRAS!E856","v":0},null,null,0,0,0]
[151,{"$f":"PRRAS!C857","v":843},{"$f":"PRRAS!D857","v":0},{"$f":"PRRAS!E857","v":0},null,null,0,0,0]
[151,{"$f":"PRRAS!C858","v":844},{"$f":"PRRAS!D858","v":0},{"$f":"PRRAS!E858","v":0},null,null,0,0,0]
[151,{"$f":"PRRAS!C859","v":845},{"$f":"PRRAS!D859","v":0},{"$f":"PRRAS!E859","v":0},null,null,0,0,0]
[151,{"$f":"PRRAS!C860","v":846},{"$f":"PRRAS!D860","v":0},{"$f":"PRRAS!E860","v":0},null,null,0,0,0]
[151,{"$f":"PRRAS!C861","v":847},{"$f":"PRRAS!D861","v":0},{"$f":"PRRAS!E861","v":0},null,null,0,0,0]
[151,{"$f":"PRRAS!C862","v":848},{"$f":"PRRAS!D862","v":0},{"$f":"PRRAS!E862","v":0},null,null,0,0,0]
[151,{"$f":"PRRAS!C863","v":849},{"$f":"PRRAS!D863","v":0},{"$f":"PRRAS!E863","v":0},null,null,0,0,0]
[151,{"$f":"PRRAS!C864","v":850},{"$f":"PRRAS!D864","v":0},{"$f":"PRRAS!E864","v":0},null,null,0,0,0]
[151,{"$f":"PRRAS!C865","v":851},{"$f":"PRRAS!D865","v":0},{"$f":"PRRAS!E865","v":0},null,null,0,0,0]
[151,{"$f":"PRRAS!C866","v":852},{"$f":"PRRAS!D866","v":0},{"$f":"PRRAS!E866","v":0},null,null,0,0,0]
[151,{"$f":"PRRAS!C867","v":853},{"$f":"PRRAS!D867","v":0},{"$f":"PRRAS!E867","v":0},null,null,0,0,0]
[151,{"$f":"PRRAS!C868","v":854},{"$f":"PRRAS!D868","v":0},{"$f":"PRRAS!E868","v":0},null,null,0,0,0]
[151,{"$f":"PRRAS!C869","v":855},{"$f":"PRRAS!D869","v":0},{"$f":"PRRAS!E869","v":0},null,null,0,0,0]
[151,{"$f":"PRRAS!C870","v":856},{"$f":"PRRAS!D870","v":0},{"$f":"PRRAS!E870","v":0},null,null,0,0,0]
[151,{"$f":"PRRAS!C871","v":857},{"$f":"PRRAS!D871","v":0},{"$f":"PRRAS!E871","v":0},null,null,0,0,0]
[151,{"$f":"PRRAS!C872","v":858},{"$f":"PRRAS!D872","v":0},{"$f":"PRRAS!E872","v":0},null,null,0,0,0]
[151,{"$f":"PRRAS!C873","v":859},{"$f":"PRRAS!D873","v":0},{"$f":"PRRAS!E873","v":0},null,null,0,0,0]
[151,{"$f":"PRRAS!C874","v":860},{"$f":"PRRAS!D874","v":0},{"$f":"PRRAS!E874","v":0},null,null,0,0,0]
[151,{"$f":"PRRAS!C875","v":861},{"$f":"PRRAS!D875","v":0},{"$f":"PRRAS!E875","v":0},null,null,0,0,0]
[151,{"$f":"PRRAS!C876","v":862},{"$f":"PRRAS!D876","v":0},{"$f":"PRRAS!E876","v":0},null,null,0,0,0]
[151,{"$f":"PRRAS!C877","v":863},{"$f":"PRRAS!D877","v":0},{"$f":"PRRAS!E877","v":0},null,null,0,0,0]
[151,{"$f":"PRRAS!C881","v":864},{"$f":"PRRAS!D881","v":0},{"$f":"PRRAS!E881","v":0},null,null,0,0,0]
[151,{"$f":"PRRAS!C882","v":865},{"$f":"PRRAS!D882","v":0},{"$f":"PRRAS!E882","v":0},null,null,0,0,0]
[151,{"$f":"PRRAS!C883","v":866},{"$f":"PRRAS!D883","v":0},{"$f":"PRRAS!E883","v":0},null,null,0,0,0]
[151,{"$f":"PRRAS!C884","v":867},{"$f":"PRRAS!D884","v":0},{"$f":"PRRAS!E884","v":0},null,null,0,0,0]
[151,{"$f":"PRRAS!C885","v":868},{"$f":"PRRAS!D885","v":0},{"$f":"PRRAS!E885","v":0},null,null,0,0,0]
[151,{"$f":"PRRAS!C886","v":869},{"$f":"PRRAS!D886","v":0},{"$f":"PRRAS!E886","v":0},null,null,0,0,0]
[151,{"$f":"PRRAS!C887","v":870},{"$f":"PRRAS!D887","v":0},{"$f":"PRRAS!E887","v":0},null,null,0,0,0]
[151,{"$f":"PRRAS!C888","v":871},{"$f":"PRRAS!D888","v":0},{"$f":"PRRAS!E888","v":0},null,null,0,0,0]
[151,{"$f":"PRRAS!C889","v":872},{"$f":"PRRAS!D889","v":0},{"$f":"PRRAS!E889","v":0},null,null,0,0,0]
[151,{"$f":"PRRAS!C890","v":873},{"$f":"PRRAS!D890","v":0},{"$f":"PRRAS!E890","v":0},null,null,0,0,0]
[151,{"$f":"PRRAS!C891","v":874},{"$f":"PRRAS!D891","v":0},{"$f":"PRRAS!E891","v":0},null,null,0,0,0]
[151,{"$f":"PRRAS!C892","v":875},{"$f":"PRRAS!D892","v":0},{"$f":"PRRAS!E892","v":0},null,null,0,0,0]
[151,{"$f":"PRRAS!C893","v":876},{"$f":"PRRAS!D893","v":0},{"$f":"PRRAS!E893","v":0},null,null,0,0,0]
[151,{"$f":"PRRAS!C894","v":877},{"$f":"PRRAS!D894","v":0},{"$f":"PRRAS!E894","v":0},null,null,0,0,0]
[151,{"$f":"PRRAS!C895","v":878},{"$f":"PRRAS!D895","v":0},{"$f":"PRRAS!E895","v":0},null,null,0,0,0]
[151,{"$f":"PRRAS!C896","v":879},{"$f":"PRRAS!D896","v":0},{"$f":"PRRAS!E896","v":0},null,null,0,0,0]
[151,{"$f":"PRRAS!C897","v":880},{"$f":"PRRAS!D897","v":0},{"$f":"PRRAS!E897","v":0},null,null,0,0,0]
[151,{"$f":"PRRAS!C898","v":881},{"$f":"PRRAS!D898","v":0},{"$f":"PRRAS!E898","v":0},null,null,0,0,0]
[151,{"$f":"PRRAS!C899","v":882},{"$f":"PRRAS!D899","v":0},{"$f":"PRRAS!E899","v":0},null,null,0,0,0]
[151,{"$f":"PRRAS!C900","v":883},{"$f":"PRRAS!D900","v":0},{"$f":"PRRAS!E900","v":0},null,null,0,0,0]
[151,{"$f":"PRRAS!C901","v":884},{"$f":"PRRAS!D901","v":0},{"$f":"PRRAS!E901","v":0},null,null,0,0,0]
[151,{"$f":"PRRAS!C902","v":885},{"$f":"PRRAS!D902","v":0},{"$f":"PRRAS!E902","v":0},null,null,0,0,0]
[151,{"$f":"PRRAS!C903","v":886},{"$f":"PRRAS!D903","v":0},{"$f":"PRRAS!E903","v":0},null,null,0,0,0]
[151,{"$f":"PRRAS!C904","v":887},{"$f":"PRRAS!D904","v":0},{"$f":"PRRAS!E904","v":0},null,null,0,0,0]
[151,{"$f":"PRRAS!C905","v":888},{"$f":"PRRAS!D905","v":0},{"$f":"PRRAS!E905","v":0},null,null,0,0,0]
[151,{"$f":"PRRAS!C906","v":889},{"$f":"PRRAS!D906","v":0},{"$f":"PRRAS!E906","v":0},null,null,0,0,0]
[151,{"$f":"PRRAS!C907","v":890},{"$f":"PRRAS!D907","v":0},{"$f":"PRRAS!E907","v":0},null,null,0,0,0]
[151,{"$f":"PRRAS!C908","v":891},{"$f":"PRRAS!D908","v":0},{"$f":"PRRAS!E908","v":0},null,null,0,0,0]
[151,{"$f":"PRRAS!C909","v":892},{"$f":"PRRAS!D909","v":0},{"$f":"PRRAS!E909","v":0},null,null,0,0,0]
[151,{"$f":"PRRAS!C910","v":893},{"$f":"PRRAS!D910","v":0},{"$f":"PRRAS!E910","v":0},null,null,0,0,0]
[151,{"$f":"PRRAS!C911","v":894},{"$f":"PRRAS!D911","v":0},{"$f":"PRRAS!E911","v":0},null,null,0,0,0]
[151,{"$f":"PRRAS!C912","v":895},{"$f":"PRRAS!D912","v":0},{"$f":"PRRAS!E912","v":0},null,null,{"$f":"(B896/1000)*(C896*1+D896*2)","v":0},{"$f":"ABS(C896-ROUND(C896,0))+ABS(D896-ROUND(D896,0))","v":0},0]
[151,{"$f":"PRRAS!C913","v":896},{"$f":"PRRAS!D913","v":0},{"$f":"PRRAS!E913","v":0},null,null,{"$f":"(B897/1000)*(C897*1+D897*2)","v":0},{"$f":"ABS(C897-ROUND(C897,0))+ABS(D897-ROUND(D897,0))","v":0},0]
[151,{"$f":"PRRAS!C914","v":897},{"$f":"PRRAS!D914","v":0},{"$f":"PRRAS!E914","v":0},null,null,{"$f":"(B898/1000)*(C898*1+D898*2)","v":0},{"$f":"ABS(C898-ROUND(C898,0))+ABS(D898-ROUND(D898,0))","v":0},0]
[151,{"$f":"PRRAS!C915","v":898},{"$f":"PRRAS!D915","v":0},{"$f":"PRRAS!E915","v":0},null,null,{"$f":"(B899/1000)*(C899*1+D899*2)","v":0},{"$f":"ABS(C899-ROUND(C899,0))+ABS(D899-ROUND(D899,0))","v":0},0]
[151,{"$f":"PRRAS!C916","v":899},{"$f":"PRRAS!D916","v":0},{"$f":"PRRAS!E916","v":0},null,null,{"$f":"(B900/1000)*(C900*1+D900*2)","v":0},{"$f":"ABS(C900-ROUND(C900,0))+ABS(D900-ROUND(D900,0))","v":0},0]
[153,{"$f":"NT!C12","v":1},{"$f":"NT!D12","v":0},0,null,null,{"$f":"B901/1000*C901","v":0},{"$f":"ABS(C901-ROUND(C901,0))","v":0},0]
[153,{"$f":"NT!C13","v":2},{"$f":"NT!D13","v":0},0,null,null,0,0,0]
[153,{"$f":"NT!C14","v":3},{"$f":"NT!D14","v":0},0,null,null,0,0,0]
[153,{"$f":"NT!C15","v":4},{"$f":"NT!D15","v":0},0,null,null,0,0,0]
[153,{"$f":"NT!C16","v":5},{"$f":"NT!D16","v":0},0,null,null,0,0,0]
[153,{"$f":"NT!C17","v":6},{"$f":"NT!D17","v":0},0,null,null,0,0,0]
[153,{"$f":"NT!C18","v":7},{"$f":"NT!D18","v":0},0,null,null,0,0,0]
[153,{"$f":"NT!C19","v":8},{"$f":"NT!D19","v":0},0,null,null,0,0,0]
[153,{"$f":"NT!C20","v":9},{"$f":"NT!D20","v":0},0,null,null,0,0,0]
[153,{"$f":"NT!C21","v":10},{"$f":"NT!D21","v":0},0,null,null,0,0,0]
[153,{"$f":"NT!C22","v":11},{"$f":"NT!D22","v":0},0,null,null,0,0,0]
[153,{"$f":"NT!C23","v":12},{"$f":"NT!D23","v":0},0,null,null,{"$f":"B912/1000*C912","v":0},{"$f":"ABS(C912-ROUND(C912,0))","v":0},0]
[153,{"$f":"NT!C24","v":13},{"$f":"NT!D24","v":0},0,null,null,0,0,0]
[153,{"$f":"NT!C25","v":14},{"$f":"NT!D25","v":0},0,null,null,0,0,0]
[153,{"$f":"NT!C26","v":15},{"$f":"NT!D26","v":0},0,null,null,0,0,0]
[153,{"$f":"NT!C27","v":16},{"$f":"NT!D27","v":0},0,null,null,0,0,0]
[153,{"$f":"NT!C28","v":17},{"$f":"NT!D28","v":0},0,null,null,0,0,0]
[153,{"$f":"NT!C29","v":18},{"$f":"NT!D29","v":0},0,null,null,0,0,0]
[153,{"$f":"NT!C30","v":19},{"$f":"NT!D30","v":0},0,null,null,0,0,0]
[153,{"$f":"NT!C31","v":20},{"$f":"NT!D31","v":0},0,null,null,0,0,0]
[153,{"$f":"NT!C32","v":21},{"$f":"NT!D32","v":0},0,null,null,0,0,0]
[153,{"$f":"NT!C33","v":22},{"$f":"NT!D33","v":0},0,null,null,0,0,0]
[153,{"$f":"NT!C34","v":23},{"$f":"NT!D34","v":0},0,null,null,0,0,0]
[153,{"$f":"NT!C35","v":24},{"$f":"NT!D35","v":0},0,null,null,0,0,0]
[153,{"$f":"NT!C36","v":25},{"$f":"NT!D36","v":0},0,null,null,0,0,0]
[153,{"$f":"NT!C37","v":26},{"$f":"NT!D37","v":0},0,null,null,0,0,0]
[153,{"$f":"NT!C38","v":27},{"$f":"NT!D38","v":0},0,null,null,0,0,0]
[153,{"$f":"NT!C39","v":28},{"$f":"NT!D39","v":0},0,null,null,0,0,0]
[153,{"$f":"NT!C40","v":29},{"$f":"NT!D40","v":0},0,null,null,0,0,0]
[153,{"$f":"NT!C41","v":30},{"$f":"NT!D41","v":0},0,null,null,0,0,0]
[153,{"$f":"NT!C42","v":31},{"$f":"NT!D42","v":0},0,null,null,0,0,0]
[153,{"$f":"NT!C43","v":32},{"$f":"NT!D43","v":0},0,null,null,0,0,0]
[153,{"$f":"NT!C44","v":33},{"$f":"NT!D44","v":0},0,null,null,0,0,0]
[153,{"$f":"NT!C45","v":34},{"$f":"NT!D45","v":0},0,null,null,0,0,0]
[153,{"$f":"NT!C46","v":35},{"$f":"NT!D46","v":0},0,null,null,0,0,0]
[153,{"$f":"NT!C47","v":36},{"$f":"NT!D47","v":0},0,null,null,0,0,0]
[153,{"$f":"NT!C48","v":37},{"$f":"NT!D48","v":0},0,null,null,0,0,0]
[153,{"$f":"NT!C49","v":38},{"$f":"NT!D49","v":0},0,null,null,0,0,0]
[153,{"$f":"NT!C50","v":39},{"$f":"NT!D50","v":0},0,null,null,0,0,0]
[153,{"$f":"NT!C51","v":40},{"$f":"NT!D51","v":0},0,null,null,0,0,0]
[153,{"$f":"NT!C52","v":41},{"$f":"NT!D52","v":0},0,null,null,0,0,0]
[153,{"$f":"NT!C53","v":42},{"$f":"NT!D53","v":0},0,null,null,0,0,0]
[153,{"$f":"NT!C54","v":43},{"$f":"NT!D54","v":0},0,null,null,0,0,0]
[153,{"$f":"NT!C55","v":44},{"$f":"NT!D55","v":0},0,null,null,0,0,0]
[153,{"$f":"NT!C56","v":45},{"$f":"NT!D56","v":0},0,null,null,0,0,0]
[153,{"$f":"NT!C57","v":46},{"$f":"NT!D57","v":0},0,null,null,0,0,0]
[153,{"$f":"NT!C58","v":47},{"$f":"NT!D58","v":0},0,null,null,0,0,0]
[153,{"$f":"NT!C59","v":48},{"$f":"NT!D59","v":0},0,null,null,0,0,0]
[153,{"$f":"NT!C60","v":49},{"$f":"NT!D60","v":0},0,null,null,0,0,0]
[153,{"$f":"NT!C61","v":50},{"$f":"NT!D61","v":0},0,null,null,0,0,0]
[153,{"$f":"NT!C62","v":51},{"$f":"NT!D62","v":0},0,null,null,0,0,0]
[153,{"$f":"NT!C63","v":52},{"$f":"NT!D63","v":0},0,null,null,0,0,0]
[153,{"$f":"NT!C64","v":53},{"$f":"NT!D64","v":0},0,null,null,0,0,0]
[153,{"$f":"NT!C65","v":54},{"$f":"NT!D65","v":0},0,null,null,0,0,0]
[153,{"$f":"NT!C66","v":55},{"$f":"NT!D66","v":0},0,null,null,0,0,0]
[153,{"$f":"NT!C67","v":56},{"$f":"NT!D67","v":0},0,null,null,0,0,0]
[153,{"$f":"NT!C68","v":57},{"$f":"NT!D68","v":0},0,null,null,0,0,0]
[153,{"$f":"NT!C69","v":58},{"$f":"NT!D69","v":0},0,null,null,0,0,0]
[153,{"$f":"NT!C70","v":59},{"$f":"NT!D70","v":0},0,null,null,0,0,0]
[153,{"$f":"NT!C71","v":60},{"$f":"NT!D71","v":0},0,null,null,0,0,0]
[153,{"$f":"NT!C72","v":61},{"$f":"NT!D72","v":0},0,null,null,0,0,0]
[153,{"$f":"NT!C73","v":62},{"$f":"NT!D73","v":0},0,null,null,0,0,0]
[153,{"$f":"NT!C74","v":63},{"$f":"NT!D74","v":0},0,null,null,0,0,0]
[153,{"$f":"NT!C75","v":64},{"$f":"NT!D75","v":0},0,null,null,0,0,0]
[153,{"$f":"NT!C76","v":65},{"$f":"NT!D76","v":0},0,null,null,0,0,0]
[153,{"$f":"NT!C77","v":66},{"$f":"NT!D77","v":0},0,null,null,0,0,0]
[153,{"$f":"NT!C78","v":67},{"$f":"NT!D78","v":0},0,null,null,0,0,0]
[153,{"$f":"NT!C79","v":68},{"$f":"NT!D79","v":0},0,null,null,0,0,0]
[153,{"$f":"NT!C80","v":69},{"$f":"NT!D80","v":0},0,null,null,0,0,0]
[153,{"$f":"NT!C81","v":70},{"$f":"NT!D81","v":0},0,null,null,0,0,0]
[153,{"$f":"NT!C82","v":71},{"$f":"NT!D82","v":0},0,null,null,0,0,0]
[153,{"$f":"NT!C83","v":72},{"$f":"NT!D83","v":0},0,null,null,0,0,0]
[153,{"$f":"NT!C84","v":73},{"$f":"NT!D84","v":0},0,null,null,0,0,0]
[153,{"$f":"NT!C85","v":74},{"$f":"NT!D85","v":0},0,null,null,0,0,0]
[153,{"$f":"NT!C86","v":75},{"$f":"NT!D86","v":0},0,null,null,0,0,0]
[153,{"$f":"NT!C87","v":76},{"$f":"NT!D87","v":0},0,null,null,{"$f":"B976/1000*C976","v":0},{"$f":"ABS(C976-ROUND(C976,0))","v":0},0]
[153,{"$f":"NT!C88","v":77},{"$f":"NT!D88","v":0},0,null,null,0,0,0]
[153,{"$f":"NT!C89","v":78},{"$f":"NT!D89","v":0},0,null,null,0,0,0]
[153,{"$f":"NT!C90","v":79},{"$f":"NT!D90","v":0},0,null,null,0,0,0]
[153,{"$f":"NT!C91","v":80},{"$f":"NT!D91","v":0},0,null,null,0,0,0]
[153,{"$f":"NT!C92","v":81},{"$f":"NT!D92","v":0},0,null,null,0,0,0]
[153,{"$f":"NT!C93","v":82},{"$f":"NT!D93","v":0},0,null,null,0,0,0]
[153,{"$f":"NT!C94","v":83},{"$f":"NT!D94","v":0},0,null,null,0,0,0]
[153,{"$f":"NT!C95","v":84},{"$f":"NT!D95","v":0},0,null,null,0,0,0]
[153,{"$f":"NT!C96","v":85},{"$f":"NT!D96","v":0},0,null,null,0,0,0]
[153,{"$f":"NT!C97","v":86},{"$f":"NT!D97","v":0},0,null,null,0,0,0]
[153,{"$f":"NT!C98","v":87},{"$f":"NT!D98","v":0},0,null,null,0,0,0]
[153,{"$f":"NT!C99","v":88},{"$f":"NT!D99","v":0},0,null,null,0,0,0]
[153,{"$f":"NT!C100","v":89},{"$f":"NT!D100","v":0},0,null,null,0,0,0]
[153,{"$f":"NT!C101","v":90},{"$f":"NT!D101","v":0},0,null,null,0,0,0]
[153,{"$f":"NT!C102","v":91},{"$f":"NT!D102","v":0},0,null,null,0,0,0]
[153,{"$f":"NT!C103","v":92},{"$f":"NT!D103","v":0},0,null,null,0,0,0]
[153,{"$f":"NT!C104","v":93},{"$f":"NT!D104","v":0},0,null,null,0,0,0]
[153,{"$f":"NT!C105","v":94},{"$f":"NT!D105","v":0},0,null,null,0,0,0]
[153,{"$f":"NT!C106","v":95},{"$f":"NT!D106","v":0},0,null,null,0,0,0]
[153,{"$f":"NT!C107","v":96},{"$f":"NT!D107","v":0},0,null,null,0,0,0]
[153,{"$f":"NT!C108","v":97},{"$f":"NT!D108","v":0},0,null,null,0,0,0]
[153,{"$f":"NT!C109","v":98},{"$f":"NT!D109","v":0},0,null,null,0,0,0]
[153,{"$f":"NT!C110","v":99},{"$f":"NT!D110","v":0},0,null,null,0,0,0]
[153,{"$f":"NT!C111","v":100},{"$f":"NT!D111","v":0},0,null,null,0,0,0]
[153,{"$f":"NT!C112","v":101},{"$f":"NT!D112","v":0},0,null,null,0,0,0]
[153,{"$f":"NT!C113","v":102},{"$f":"NT!D113","v":0},0,null,null,0,0,0]
[153,{"$f":"NT!C114","v":103},{"$f":"NT!D114","v":0},0,null,null,0,0,0]
[153,{"$f":"NT!C115","v":104},{"$f":"NT!D115","v":0},0,null,null,0,0,0]
[153,{"$f":"NT!C116","v":105},{"$f":"NT!D116","v":0},0,null,null,0,0,0]
[153,{"$f":"NT!C117","v":106},{"$f":"NT!D117","v":0},0,null,null,0,0,0]
[153,{"$f":"NT!C118","v":107},{"$f":"NT!D118","v":0},0,null,null,0,0,0]
[153,{"$f":"NT!C119","v":108},{"$f":"NT!D119","v":0},0,null,null,0,0,0]
[153,{"$f":"NT!C120","v":109},{"$f":"NT!D120","v":0},0,null,null,0,0,0]
[153,{"$f":"NT!C121","v":110},{"$f":"NT!D121","v":0},0,null,null,0,0,0]
[153,{"$f":"NT!C122","v":111},{"$f":"NT!D122","v":0},0,null,null,0,0,0]
[153,{"$f":"NT!C123","v":112},{"$f":"NT!D123","v":0},0,null,null,0,0,0]
[153,{"$f":"NT!C124","v":113},{"$f":"NT!D124","v":0},0,null,null,0,0,0]
[153,{"$f":"NT!C125","v":114},{"$f":"NT!D125","v":0},0,null,null,0,0,0]
[153,{"$f":"NT!C126","v":115},{"$f":"NT!D126","v":0},0,null,null,0,0,0]
[153,{"$f":"NT!C127","v":116},{"$f":"NT!D127","v":0},0,null,null,0,0,0]
[153,{"$f":"NT!C128","v":117},{"$f":"NT!D128","v":0},0,null,null,0,0,0]
[153,{"$f":"NT!C129","v":118},{"$f":"NT!D129","v":0},0,null,null,0,0,0]
[153,{"$f":"NT!C130","v":119},{"$f":"NT!D130","v":0},0,null,null,0,0,0]
[153,{"$f":"NT!C131","v":120},{"$f":"NT!D131","v":0},0,null,null,0,0,0]
[153,{"$f":"NT!C132","v":121},{"$f":"NT!D132","v":0},0,null,null,0,0,0]
[153,{"$f":"NT!C133","v":122},{"$f":"NT!D133","v":0},0,null,null,0,0,0]
[153,{"$f":"NT!C134","v":123},{"$f":"NT!D134","v":0},0,null,null,0,0,0]
[153,{"$f":"NT!C135","v":124},{"$f":"NT!D135","v":0},0,null,null,0,0,0]
[153,{"$f":"NT!C136","v":125},{"$f":"NT!D136","v":0},0,null,null,0,0,0]
[153,{"$f":"NT!C137","v":126},{"$f":"NT!D137","v":0},0,null,null,0,0,0]
[153,{"$f":"NT!C138","v":127},{"$f":"NT!D138","v":0},0,null,null,0,0,0]
[153,{"$f":"NT!C139","v":128},{"$f":"NT!D139","v":0},0,null,null,0,0,0]
[153,{"$f":"NT!C140","v":129},{"$f":"NT!D140","v":0},0,null,null,0,0,0]
[153,{"$f":"NT!C141","v":130},{"$f":"NT!D141","v":0},0,null,null,0,0,0]
[153,{"$f":"NT!C142","v":131},{"$f":"NT!D142","v":0},0,null,null,0,0,0]
[153,{"$f":"NT!C143","v":132},{"$f":"NT!D143","v":0},0,null,null,0,0,0]
[153,{"$f":"NT!C144","v":133},{"$f":"NT!D144","v":0},0,null,null,0,0,0]
[153,{"$f":"NT!C145","v":134},{"$f":"NT!D145","v":0},0,null,null,0,0,0]
[153,{"$f":"NT!C146","v":135},{"$f":"NT!D146","v":0},0,null,null,0,0,0]
[153,{"$f":"NT!C147","v":136},{"$f":"NT!D147","v":0},0,null,null,0,0,0]
[153,{"$f":"NT!C148","v":137},{"$f":"NT!D148","v":0},0,null,null,0,0,0]
[153,{"$f":"NT!C149","v":138},{"$f":"NT!D149","v":0},0,null,null,0,0,0]
[153,{"$f":"NT!C150","v":139},{"$f":"NT!D150","v":0},0,null,null,0,0,0]
[153,{"$f":"NT!C151","v":140},{"$f":"NT!D151","v":0},0,null,null,{"$f":"B1040/1000*C1040","v":0},{"$f":"ABS(C1040-ROUND(C1040,0))","v":0},0]
[153,{"$f":"NT!C152","v":141},{"$f":"NT!D152","v":0},0,null,null,0,0,0]
[153,{"$f":"NT!C153","v":142},{"$f":"NT!D153","v":0},0,null,null,0,0,0]
[153,{"$f":"NT!C154","v":143},{"$f":"NT!D154","v":0},0,null,null,0,0,0]
[153,{"$f":"NT!C155","v":144},{"$f":"NT!D155","v":0},0,null,null,0,0,0]
[153,{"$f":"NT!C156","v":145},{"$f":"NT!D156","v":0},0,null,null,0,0,0]
[153,{"$f":"NT!C157","v":146},{"$f":"NT!D157","v":0},0,null,null,0,0,0]
[153,{"$f":"NT!C158","v":147},{"$f":"NT!D158","v":0},0,null,null,0,0,0]
[153,{"$f":"NT!C159","v":148},{"$f":"NT!D159","v":0},0,null,null,0,0,0]
[153,{"$f":"NT!C160","v":149},{"$f":"NT!D160","v":0},0,null,null,0,0,0]
[153,{"$f":"NT!C161","v":150},{"$f":"NT!D161","v":0},0,null,null,0,0,0]
[153,{"$f":"NT!C162","v":151},{"$f":"NT!D162","v":0},0,null,null,0,0,0]
[153,{"$f":"NT!C163","v":152},{"$f":"NT!D163","v":0},0,null,null,0,0,0]
[153,{"$f":"NT!C164","v":153},{"$f":"NT!D164","v":0},0,null,null,0,0,0]
[153,{"$f":"NT!C165","v":154},{"$f":"NT!D165","v":0},0,null,null,0,0,0]
[153,{"$f":"NT!C166","v":155},{"$f":"NT!D166","v":0},0,null,null,0,0,0]
[153,{"$f":"NT!C167","v":156},{"$f":"NT!D167","v":0},0,null,null,0,0,0]
[153,{"$f":"NT!C168","v":157},{"$f":"NT!D168","v":0},0,null,null,0,0,0]
[153,{"$f":"NT!C169","v":158},{"$f":"NT!D169","v":0},0,null,null,0,0,0]
[153,{"$f":"NT!C170","v":159},{"$f":"NT!D170","v":0},0,null,null,0,0,0]
[153,{"$f":"NT!C171","v":160},{"$f":"NT!D171","v":0},0,null,null,0,0,0]
[153,{"$f":"NT!C172","v":161},{"$f":"NT!D172","v":0},0,null,null,0,0,0]
[153,{"$f":"NT!C173","v":162},{"$f":"NT!D173","v":0},0,null,null,0,0,0]
[153,{"$f":"NT!C174","v":163},{"$f":"NT!D174","v":0},0,null,null,0,0,0]
[153,{"$f":"NT!C175","v":164},{"$f":"NT!D175","v":0},0,null,null,0,0,0]
[153,{"$f":"NT!C176","v":165},{"$f":"NT!D176","v":0},0,null,null,0,0,0]
[153,{"$f":"NT!C177","v":166},{"$f":"NT!D177","v":0},0,null,null,0,0,0]
[153,{"$f":"NT!C178","v":167},{"$f":"NT!D178","v":0},0,null,null,0,0,0]
[153,{"$f":"NT!C179","v":168},{"$f":"NT!D179","v":0},0,null,null,0,0,0]
[153,{"$f":"NT!C180","v":169},{"$f":"NT!D180","v":0},0,null,null,0,0,0]
[153,{"$f":"NT!C181","v":170},{"$f":"NT!D181","v":0},0,null,null,0,0,0]
[153,{"$f":"NT!C182","v":171},{"$f":"NT!D182","v":0},0,null,null,0,0,0]
[153,{"$f":"NT!C183","v":172},{"$f":"NT!D183","v":0},0,null,null,0,0,0]
[153,{"$f":"NT!C184","v":173},{"$f":"NT!D184","v":0},0,null,null,0,0,0]
[153,{"$f":"NT!C185","v":174},{"$f":"NT!D185","v":0},0,null,null,0,0,0]
[153,{"$f":"NT!C186","v":175},{"$f":"NT!D186","v":0},0,null,null,0,0,0]
[153,{"$f":"NT!C187","v":176},{"$f":"NT!D187","v":0},0,null,null,0,0,0]
[153,{"$f":"NT!C188","v":177},{"$f":"NT!D188","v":0},0,null,null,0,0,0]
[153,{"$f":"NT!C189","v":178},{"$f":"NT!D189","v":0},0,null,null,0,0,0]
[153,{"$f":"NT!C190","v":179},{"$f":"NT!D190","v":0},0,null,null,0,0,0]
[153,{"$f":"NT!C191","v":180},{"$f":"NT!D191","v":0},0,null,null,0,0,0]
[153,{"$f":"NT!C192","v":181},{"$f":"NT!D192","v":0},0,null,null,0,0,0]
[153,{"$f":"NT!C193","v":182},{"$f":"NT!D193","v":0},0,null,null,0,0,0]
[153,{"$f":"NT!C194","v":183},{"$f":"NT!D194","v":0},0,null,null,0,0,0]
[153,{"$f":"NT!C195","v":184},{"$f":"NT!D195","v":0},0,null,null,0,0,0]
[153,{"$f":"NT!C196","v":185},{"$f":"NT!D196","v":0},0,null,null,0,0,0]
[153,{"$f":"NT!C197","v":186},{"$f":"NT!D197","v":0},0,null,null,0,0,0]
[153,{"$f":"NT!C198","v":187},{"$f":"NT!D198","v":0},0,null,null,0,0,0]
[153,{"$f":"NT!C199","v":188},{"$f":"NT!D199","v":0},0,null,null,0,0,0]
[153,{"$f":"NT!C200","v":189},{"$f":"NT!D200","v":0},0,null,null,0,0,0]
[153,{"$f":"NT!C201","v":190},{"$f":"NT!D201","v":0},0,null,null,0,0,0]
[153,{"$f":"NT!C202","v":191},{"$f":"NT!D202","v":0},0,null,null,0,0,0]
[153,{"$f":"NT!C203","v":192},{"$f":"NT!D203","v":0},0,null,null,0,0,0]
[153,{"$f":"NT!C204","v":193},{"$f":"NT!D204","v":0},0,null,null,0,0,0]
[153,{"$f":"NT!C205","v":194},{"$f":"NT!D205","v":0},0,null,null,0,0,0]
[153,{"$f":"NT!C206","v":195},{"$f":"NT!D206","v":0},0,null,null,0,0,0]
[153,{"$f":"NT!C207","v":196},{"$f":"NT!D207","v":0},0,null,null,0,0,0]
[153,{"$f":"NT!C208","v":197},{"$f":"NT!D208","v":0},0,null,null,0,0,0]
[153,{"$f":"NT!C209","v":198},{"$f":"NT!D209","v":0},0,null,null,0,0,0]
[153,{"$f":"NT!C210","v":199},{"$f":"NT!D210","v":0},0,null,null,0,0,0]
[153,{"$f":"NT!C211","v":200},{"$f":"NT!D211","v":0},0,null,null,0,0,0]
[153,{"$f":"NT!C212","v":201},{"$f":"NT!D212","v":0},0,null,null,0,0,0]
[153,{"$f":"NT!C213","v":202},{"$f":"NT!D213","v":0},0,null,null,0,0,0]
[153,{"$f":"NT!C214","v":203},{"$f":"NT!D214","v":0},0,null,null,0,0,0]
[153,{"$f":"NT!C215","v":204},{"$f":"NT!D215","v":0},0,null,null,{"$f":"B1104/1000*C1104","v":0},{"$f":"ABS(C1104-ROUND(C1104,0))","v":0},0]
[153,{"$f":"NT!C216","v":205},{"$f":"NT!D216","v":0},0,null,null,0,0,0]
[153,{"$f":"NT!C217","v":206},{"$f":"NT!D217","v":0},0,null,null,0,0,0]
[153,{"$f":"NT!C218","v":207},{"$f":"NT!D218","v":0},0,null,null,0,0,0]
[153,{"$f":"NT!C219","v":208},{"$f":"NT!D219","v":0},0,null,null,0,0,0]
[153,{"$f":"NT!C220","v":209},{"$f":"NT!D220","v":0},0,null,null,0,0,0]
[153,{"$f":"NT!C221","v":210},{"$f":"NT!D221","v":0},0,null,null,0,0,0]
[153,{"$f":"NT!C222","v":211},{"$f":"NT!D222","v":0},0,null,null,0,0,0]
[153,{"$f":"NT!C223","v":212},{"$f":"NT!D223","v":0},0,null,null,0,0,0]
[153,{"$f":"NT!C224","v":213},{"$f":"NT!D224","v":0},0,null,null,0,0,0]
[153,{"$f":"NT!C225","v":214},{"$f":"NT!D225","v":0},0,null,null,0,0,0]
[153,{"$f":"NT!C226","v":215},{"$f":"NT!D226","v":0},0,null,null,0,0,0]
[153,{"$f":"NT!C227","v":216},{"$f":"NT!D227","v":0},0,null,null,0,0,0]
[153,{"$f":"NT!C228","v":217},{"$f":"NT!D228","v":0},0,null,null,0,0,0]
[153,{"$f":"NT!C229","v":218},{"$f":"NT!D229","v":0},0,null,null,0,0,0]
[153,{"$f":"NT!C230","v":219},{"$f":"NT!D230","v":0},0,null,null,0,0,0]
[153,{"$f":"NT!C231","v":220},{"$f":"NT!D231","v":0},0,null,null,0,0,0]
[153,{"$f":"NT!C232","v":221},{"$f":"NT!D232","v":0},0,null,null,0,0,0]
[153,{"$f":"NT!C233","v":222},{"$f":"NT!D233","v":0},0,null,null,0,0,0]
[153,{"$f":"NT!C234","v":223},{"$f":"NT!D234","v":0},0,null,null,0,0,0]
[153,{"$f":"NT!C235","v":224},{"$f":"NT!D235","v":0},0,null,null,0,0,0]
[153,{"$f":"NT!C236","v":225},{"$f":"NT!D236","v":0},0,null,null,0,0,0]
[153,{"$f":"NT!C237","v":226},{"$f":"NT!D237","v":0},0,null,null,0,0,0]
[153,{"$f":"NT!C238","v":227},{"$f":"NT!D238","v":0},0,null,null,0,0,0]
[153,{"$f":"NT!C239","v":228},{"$f":"NT!D239","v":0},0,null,null,0,0,0]
[153,{"$f":"NT!C240","v":229},{"$f":"NT!D240","v":0},0,null,null,0,0,0]
[153,{"$f":"NT!C241","v":230},{"$f":"NT!D241","v":0},0,null,null,0,0,0]
[153,{"$f":"NT!C242","v":231},{"$f":"NT!D242","v":0},0,null,null,0,0,0]
[153,{"$f":"NT!C244","v":232},{"$f":"NT!D244","v":0},0,null,null,0,0,0]
[153,{"$f":"NT!C245","v":233},{"$f":"NT!D245","v":0},0,null,null,0,0,0]
[153,{"$f":"NT!C246","v":234},{"$f":"NT!D246","v":0},0,null,null,0,0,0]
[153,{"$f":"NT!C247","v":235},{"$f":"NT!D247","v":0},0,null,null,0,0,0]
[153,{"$f":"NT!C248","v":236},{"$f":"NT!D248","v":0},0,null,null,0,0,0]
[153,{"$f":"NT!C249","v":237},{"$f":"NT!D249","v":0},0,null,null,0,0,0]
[153,{"$f":"NT!C250","v":238},{"$f":"NT!D250","v":0},0,null,null,0,0,0]
[153,{"$f":"NT!C251","v":239},{"$f":"NT!D251","v":0},0,null,null,0,0,0]
[153,{"$f":"NT!C252","v":240},{"$f":"NT!D252","v":0},0,null,null,0,0,0]
[153,{"$f":"NT!C253","v":241},{"$f":"NT!D253","v":0},0,null,null,0,0,0]
[153,{"$f":"NT!C254","v":242},{"$f":"NT!D254","v":0},0,null,null,0,0,0]
[153,{"$f":"NT!C255","v":243},{"$f":"NT!D255","v":0},0,null,null,0,0,0]
[153,{"$f":"NT!C256","v":244},{"$f":"NT!D256","v":0},0,null,null,0,0,0]
[153,{"$f":"NT!C257","v":245},{"$f":"NT!D257","v":0},0,null,null,0,0,0]
[153,{"$f":"NT!C258","v":246},{"$f":"NT!D258","v":0},0,null,null,0,0,0]
[153,{"$f":"NT!C259","v":247},{"$f":"NT!D259","v":0},0,null,null,0,0,0]
[153,{"$f":"NT!C260","v":248},{"$f":"NT!D260","v":0},0,null,null,0,0,0]
[153,{"$f":"NT!C261","v":249},{"$f":"NT!D261","v":0},0,null,null,0,0,0]
[153,{"$f":"NT!C262","v":250},{"$f":"NT!D262","v":0},0,null,null,0,0,0]
[153,{"$f":"NT!C263","v":251},{"$f":"NT!D263","v":0},0,null,null,0,0,0]
[153,{"$f":"NT!C264","v":252},{"$f":"NT!D264","v":0},0,null,null,0,0,0]
[153,{"$f":"NT!C265","v":253},{"$f":"NT!D265","v":0},0,null,null,0,0,0]
[153,{"$f":"NT!C266","v":254},{"$f":"NT!D266","v":0},0,null,null,0,0,0]
[153,{"$f":"NT!C267","v":255},{"$f":"NT!D267","v":0},0,null,null,0,0,0]
[153,{"$f":"NT!C268","v":256},{"$f":"NT!D268","v":0},0,null,null,0,0,0]
[153,{"$f":"NT!C269","v":257},{"$f":"NT!D269","v":0},0,null,null,0,0,0]
[153,{"$f":"NT!C270","v":258},{"$f":"NT!D270","v":0},0,null,null,0,0,0]
[153,{"$f":"NT!C271","v":259},{"$f":"NT!D271","v":0},0,null,null,0,0,0]
[153,{"$f":"NT!C272","v":260},{"$f":"NT!D272","v":0},0,null,null,0,0,0]
[153,{"$f":"NT!C273","v":261},{"$f":"NT!D273","v":0},0,null,null,0,0,0]
[153,{"$f":"NT!C274","v":262},{"$f":"NT!D274","v":0},0,null,null,0,0,0]
[153,{"$f":"NT!C275","v":263},{"$f":"NT!D275","v":0},0,null,null,0,0,0]
[153,{"$f":"NT!C276","v":264},{"$f":"NT!D276","v":0},0,null,null,0,0,0]
[153,{"$f":"NT!C277","v":265},{"$f":"NT!D277","v":0},0,null,null,0,0,0]
[153,{"$f":"NT!C278","v":266},{"$f":"NT!D278","v":0},0,null,null,0,0,0]
[153,{"$f":"NT!C279","v":267},{"$f":"NT!D279","v":0},0,null,null,0,0,0]
[153,{"$f":"NT!C280","v":268},{"$f":"NT!D280","v":0},0,null,null,{"$f":"B1168/1000*C1168","v":0},{"$f":"ABS(C1168-ROUND(C1168,0))","v":0},0]
[153,{"$f":"NT!C281","v":269},{"$f":"NT!D281","v":0},0,null,null,0,0,0]
[153,{"$f":"NT!C282","v":270},{"$f":"NT!D282","v":0},0,null,null,0,0,0]
[153,{"$f":"NT!C283","v":271},{"$f":"NT!D283","v":0},0,null,null,0,0,0]
[153,{"$f":"NT!C284","v":272},{"$f":"NT!D284","v":0},0,null,null,0,0,0]
[153,{"$f":"NT!C285","v":273},{"$f":"NT!D285","v":0},0,null,null,0,0,0]
[153,{"$f":"NT!C286","v":274},{"$f":"NT!D286","v":0},0,null,null,0,0,0]
[153,{"$f":"NT!C287","v":275},{"$f":"NT!D287","v":0},0,null,null,0,0,0]
[153,{"$f":"NT!C288","v":276},{"$f":"NT!D288","v":0},0,null,null,0,0,0]
[153,{"$f":"NT!C289","v":277},{"$f":"NT!D289","v":0},0,null,null,0,0,0]
[153,{"$f":"NT!C290","v":278},{"$f":"NT!D290","v":0},0,null,null,0,0,0]
[153,{"$f":"NT!C291","v":279},{"$f":"NT!D291","v":0},0,null,null,0,0,0]
[153,{"$f":"NT!C292","v":280},{"$f":"NT!D292","v":0},0,null,null,0,0,0]
[153,{"$f":"NT!C293","v":281},{"$f":"NT!D293","v":0},0,null,null,0,0,0]
[153,{"$f":"NT!C294","v":282},{"$f":"NT!D294","v":0},0,null,null,0,0,0]
[153,{"$f":"NT!C295","v":283},{"$f":"NT!D295","v":0},0,null,null,0,0,0]
[153,{"$f":"NT!C296","v":284},{"$f":"NT!D296","v":0},0,null,null,0,0,0]
[153,{"$f":"NT!C297","v":285},{"$f":"NT!D297","v":0},0,null,null,0,0,0]
[153,{"$f":"NT!C298","v":286},{"$f":"NT!D298","v":0},0,null,null,0,0,0]
[153,{"$f":"NT!C299","v":287},{"$f":"NT!D299","v":0},0,null,null,0,0,0]
[153,{"$f":"NT!C300","v":288},{"$f":"NT!D300","v":0},0,null,null,0,0,0]
[153,{"$f":"NT!C301","v":289},{"$f":"NT!D301","v":0},0,null,null,0,0,0]
[153,{"$f":"NT!C302","v":290},{"$f":"NT!D302","v":0},0,null,null,0,0,0]
[153,{"$f":"NT!C303","v":291},{"$f":"NT!D303","v":0},0,null,null,0,0,0]
[153,{"$f":"NT!C304","v":292},{"$f":"NT!D304","v":0},0,null,null,0,0,0]
[153,{"$f":"NT!C305","v":293},{"$f":"NT!D305","v":0},0,null,null,0,0,0]
[153,{"$f":"NT!C306","v":294},{"$f":"NT!D306","v":0},0,null,null,0,0,0]
[153,{"$f":"NT!C307","v":295},{"$f":"NT!D307","v":0},0,null,null,0,0,0]
[153,{"$f":"NT!C308","v":296},{"$f":"NT!D308","v":0},0,null,null,0,0,0]
[153,{"$f":"NT!C309","v":297},{"$f":"NT!D309","v":0},0,null,null,0,0,0]
[153,{"$f":"NT!C310","v":298},{"$f":"NT!D310","v":0},0,null,null,0,0,0]
[153,{"$f":"NT!C311","v":299},{"$f":"NT!D311","v":0},0,null,null,0,0,0]
[153,{"$f":"NT!C312","v":300},{"$f":"NT!D312","v":0},0,null,null,0,0,0]
[153,{"$f":"NT!C313","v":301},{"$f":"NT!D313","v":0},0,null,null,0,0,0]
[153,{"$f":"NT!C314","v":302},{"$f":"NT!D314","v":0},0,null,null,0,0,0]
[153,{"$f":"NT!C315","v":303},{"$f":"NT!D315","v":0},0,null,null,0,0,0]
[153,{"$f":"NT!C316","v":304},{"$f":"NT!D316","v":0},0,null,null,0,0,0]
[153,{"$f":"NT!C317","v":305},{"$f":"NT!D317","v":0},0,null,null,0,0,0]
[153,{"$f":"NT!C318","v":306},{"$f":"NT!D318","v":0},0,null,null,0,0,0]
[153,{"$f":"NT!C319","v":307},{"$f":"NT!D319","v":0},0,null,null,0,0,0]
[153,{"$f":"NT!C320","v":308},{"$f":"NT!D320","v":0},0,null,null,0,0,0]
[153,{"$f":"NT!C321","v":309},{"$f":"NT!D321","v":0},0,null,null,0,0,0]
[153,{"$f":"NT!C322","v":310},{"$f":"NT!D322","v":0},0,null,null,0,0,0]
[153,{"$f":"NT!C323","v":311},{"$f":"NT!D323","v":0},0,null,null,0,0,0]
[153,{"$f":"NT!C324","v":312},{"$f":"NT!D324","v":0},0,null,null,0,0,0]
[153,{"$f":"NT!C325","v":313},{"$f":"NT!D325","v":0},0,null,null,0,0,0]
[153,{"$f":"NT!C326","v":314},{"$f":"NT!D326","v":0},0,null,null,0,0,0]
[153,{"$f":"NT!C327","v":315},{"$f":"NT!D327","v":0},0,null,null,0,0,0]
[153,{"$f":"NT!C328","v":316},{"$f":"NT!D328","v":0},0,null,null,0,0,0]
[153,{"$f":"NT!C329","v":317},{"$f":"NT!D329","v":0},0,null,null,0,0,0]
[153,{"$f":"NT!C330","v":318},{"$f":"NT!D330","v":0},0,null,null,0,0,0]
[153,{"$f":"NT!C331","v":319},{"$f":"NT!D331","v":0},0,null,null,0,0,0]
[153,{"$f":"NT!C332","v":320},{"$f":"NT!D332","v":0},0,null,null,0,0,0]
[153,{"$f":"NT!C333","v":321},{"$f":"NT!D333","v":0},0,null,null,0,0,0]
[153,{"$f":"NT!C334","v":322},{"$f":"NT!D334","v":0},0,null,null,0,0,0]
[153,{"$f":"NT!C335","v":323},{"$f":"NT!D335","v":0},0,null,null,0,0,0]
[153,{"$f":"NT!C336","v":324},{"$f":"NT!D336","v":0},0,null,null,0,0,0]
[153,{"$f":"NT!C337","v":325},{"$f":"NT!D337","v":0},0,null,null,0,0,0]
[153,{"$f":"NT!C338","v":326},{"$f":"NT!D338","v":0},0,null,null,0,0,0]
[153,{"$f":"NT!C339","v":327},{"$f":"NT!D339","v":0},0,null,null,0,0,0]
[153,{"$f":"NT!C340","v":328},{"$f":"NT!D340","v":0},0,null,null,0,0,0]
[153,{"$f":"NT!C341","v":329},{"$f":"NT!D341","v":0},0,null,null,0,0,0]
[153,{"$f":"NT!C342","v":330},{"$f":"NT!D342","v":0},0,null,null,0,0,0]
[153,{"$f":"NT!C343","v":331},{"$f":"NT!D343","v":0},0,null,null,0,0,0]
[153,{"$f":"NT!C344","v":332},{"$f":"NT!D344","v":0},0,null,null,{"$f":"B1232/1000*C1232","v":0},{"$f":"ABS(C1232-ROUND(C1232,0))","v":0},0]
[153,{"$f":"NT!C345","v":333},{"$f":"NT!D345","v":0},0,null,null,0,0,0]
[153,{"$f":"NT!C346","v":334},{"$f":"NT!D346","v":0},0,null,null,0,0,0]
[153,{"$f":"NT!C347","v":335},{"$f":"NT!D347","v":0},0,null,null,0,0,0]
[153,{"$f":"NT!C348","v":336},{"$f":"NT!D348","v":0},0,null,null,0,0,0]
[153,{"$f":"NT!C349","v":337},{"$f":"NT!D349","v":0},0,null,null,0,0,0]
[153,{"$f":"NT!C350","v":338},{"$f":"NT!D350","v":0},0,null,null,0,0,0]
[153,{"$f":"NT!C351","v":339},{"$f":"NT!D351","v":0},0,null,null,0,0,0]
[153,{"$f":"NT!C352","v":340},{"$f":"NT!D352","v":0},0,null,null,0,0,0]
[153,{"$f":"NT!C353","v":341},{"$f":"NT!D353","v":0},0,null,null,0,0,0]
[153,{"$f":"NT!C354","v":342},{"$f":"NT!D354","v":0},0,null,null,0,0,0]
[153,{"$f":"NT!C355","v":343},{"$f":"NT!D355","v":0},0,null,null,0,0,0]
[153,{"$f":"NT!C356","v":344},{"$f":"NT!D356","v":0},0,null,null,0,0,0]
[153,{"$f":"NT!C357","v":345},{"$f":"NT!D357","v":0},0,null,null,0,0,0]
[153,{"$f":"NT!C358","v":346},{"$f":"NT!D358","v":0},0,null,null,0,0,0]
[153,{"$f":"NT!C359","v":347},{"$f":"NT!D359","v":0},0,null,null,0,0,0]
[153,{"$f":"NT!C360","v":348},{"$f":"NT!D360","v":0},0,null,null,0,0,0]
[153,{"$f":"NT!C361","v":349},{"$f":"NT!D361","v":0},0,null,null,0,0,0]
[153,{"$f":"NT!C362","v":350},{"$f":"NT!D362","v":0},0,null,null,0,0,0]
[153,{"$f":"NT!C363","v":351},{"$f":"NT!D363","v":0},0,null,null,0,0,0]
[153,{"$f":"NT!C364","v":352},{"$f":"NT!D364","v":0},0,null,null,0,0,0]
[153,{"$f":"NT!C365","v":353},{"$f":"NT!D365","v":0},0,null,null,0,0,0]
[153,{"$f":"NT!C366","v":354},{"$f":"NT!D366","v":0},0,null,null,0,0,0]
[153,{"$f":"NT!C367","v":355},{"$f":"NT!D367","v":0},0,null,null,0,0,0]
[153,{"$f":"NT!C368","v":356},{"$f":"NT!D368","v":0},0,null,null,0,0,0]
[153,{"$f":"NT!C369","v":357},{"$f":"NT!D369","v":0},0,null,null,0,0,0]
[153,{"$f":"NT!C370","v":358},{"$f":"NT!D370","v":0},0,null,null,0,0,0]
[153,{"$f":"NT!C371","v":359},{"$f":"NT!D371","v":0},0,null,null,0,0,0]
[153,{"$f":"NT!C372","v":360},{"$f":"NT!D372","v":0},0,null,null,0,0,0]
[153,{"$f":"NT!C373","v":361},{"$f":"NT!D373","v":0},0,null,null,0,0,0]
[153,{"$f":"NT!C374","v":362},{"$f":"NT!D374","v":0},0,null,null,0,0,0]
[153,{"$f":"NT!C375","v":363},{"$f":"NT!D375","v":0},0,null,null,0,0,0]
[153,{"$f":"NT!C376","v":364},{"$f":"NT!D376","v":0},0,null,null,0,0,0]
[153,{"$f":"NT!C377","v":365},{"$f":"NT!D377","v":0},0,null,null,0,0,0]
[153,{"$f":"NT!C378","v":366},{"$f":"NT!D378","v":0},0,null,null,0,0,0]
[153,{"$f":"NT!C379","v":367},{"$f":"NT!D379","v":0},0,null,null,0,0,0]
[153,{"$f":"NT!C380","v":368},{"$f":"NT!D380","v":0},0,null,null,0,0,0]
[153,{"$f":"NT!C381","v":369},{"$f":"NT!D381","v":0},0,null,null,0,0,0]
[153,{"$f":"NT!C382","v":370},{"$f":"NT!D382","v":0},0,null,null,0,0,0]
[153,{"$f":"NT!C383","v":371},{"$f":"NT!D383","v":0},0,null,null,0,0,0]
[153,{"$f":"NT!C384","v":372},{"$f":"NT!D384","v":0},0,null,null,0,0,0]
[153,{"$f":"NT!C385","v":373},{"$f":"NT!D385","v":0},0,null,null,0,0,0]
[153,{"$f":"NT!C386","v":374},{"$f":"NT!D386","v":0},0,null,null,0,0,0]
[153,{"$f":"NT!C387","v":375},{"$f":"NT!D387","v":0},0,null,null,0,0,0]
[153,{"$f":"NT!C388","v":376},{"$f":"NT!D388","v":0},0,null,null,0,0,0]
[153,{"$f":"NT!C389","v":377},{"$f":"NT!D389","v":0},0,null,null,0,0,0]
[153,{"$f":"NT!C390","v":378},{"$f":"NT!D390","v":0},0,null,null,0,0,0]
[153,{"$f":"NT!C391","v":379},{"$f":"NT!D391","v":0},0,null,null,0,0,0]
[153,{"$f":"NT!C392","v":380},{"$f":"NT!D392","v":0},0,null,null,0,0,0]
[153,{"$f":"NT!C393","v":381},{"$f":"NT!D393","v":0},0,null,null,0,0,0]
[153,{"$f":"NT!C394","v":382},{"$f":"NT!D394","v":0},0,null,null,0,0,0]
[153,{"$f":"NT!C395","v":383},{"$f":"NT!D395","v":0},0,null,null,0,0,0]
[153,{"$f":"NT!C396","v":384},{"$f":"NT!D396","v":0},0,null,null,0,0,0]
[153,{"$f":"NT!C397","v":385},{"$f":"NT!D397","v":0},0,null,null,0,0,0]
[153,{"$f":"NT!C398","v":386},{"$f":"NT!D398","v":0},0,null,null,0,0,0]
[153,{"$f":"NT!C399","v":387},{"$f":"NT!D399","v":0},0,null,null,0,0,0]
[153,{"$f":"NT!C400","v":388},{"$f":"NT!D400","v":0},0,null,null,0,0,0]
[153,{"$f":"NT!C401","v":389},{"$f":"NT!D401","v":0},0,null,null,0,0,0]
[153,{"$f":"NT!C402","v":390},{"$f":"NT!D402","v":0},0,null,null,0,0,0]
[153,{"$f":"NT!C403","v":391},{"$f":"NT!D403","v":0},0,null,null,0,0,0]
[153,{"$f":"NT!C404","v":392},{"$f":"NT!D404","v":0},0,null,null,0,0,0]
[153,{"$f":"NT!C405","v":393},{"$f":"NT!D405","v":0},0,null,null,0,0,0]
[153,{"$f":"NT!C406","v":394},{"$f":"NT!D406","v":0},0,null,null,0,0,0]
[153,{"$f":"NT!C407","v":395},{"$f":"NT!D407","v":0},0,null,null,0,0,0]
[153,{"$f":"NT!C408","v":396},{"$f":"NT!D408","v":0},0,null,null,{"$f":"B1296/1000*C1296","v":0},{"$f":"ABS(C1296-ROUND(C1296,0))","v":0},0]
[153,{"$f":"NT!C409","v":397},{"$f":"NT!D409","v":0},0,null,null,{"$f":"B1297/1000*C1297","v":0},{"$f":"ABS(C1297-ROUND(C1297,0))","v":0},0]
[153,{"$f":"NT!C410","v":398},{"$f":"NT!D410","v":0},0,null,null,{"$f":"B1298/1000*C1298","v":0},{"$f":"ABS(C1298-ROUND(C1298,0))","v":0},0]
[153,{"$f":"NT!C411","v":399},{"$f":"NT!D411","v":0},0,null,null,{"$f":"B1299/1000*C1299","v":0},{"$f":"ABS(C1299-ROUND(C1299,0))","v":0},0]
[154,{"$f":"RasF!C12","v":1},{"$f":"RasF!D12","v":0},{"$f":"RasF!E12","v":0},null,null,{"$f":"B1300/1000*C1300+B1300/500*D1300","v":0},{"$f":"ABS(C1300-ROUND(C1300,0))+ABS(D1300-ROUND(D1300,0))","v":0}]
[154,{"$f":"RasF!C13","v":2},{"$f":"RasF!D13","v":0},{"$f":"RasF!E13","v":0},null,null,{"$f":"B1301/1000*C1301+B1301/500*D1301","v":0},{"$f":"ABS(C1301-ROUND(C1301,0))+ABS(D1301-ROUND(D1301,0))","v":0}]
[154,{"$f":"RasF!C14","v":3},{"$f":"RasF!D14","v":0},{"$f":"RasF!E14","v":0},null,null,{"$f":"B1302/1000*C1302+B1302/500*D1302","v":0},{"$f":"ABS(C1302-ROUND(C1302,0))+ABS(D1302-ROUND(D1302,0))","v":0}]
[154,{"$f":"RasF!C15","v":4},{"$f":"RasF!D15","v":0},{"$f":"RasF!E15","v":0},null,null,0,0]
[154,{"$f":"RasF!C16","v":5},{"$f":"RasF!D16","v":0},{"$f":"RasF!E16","v":0},null,null,0,0]
[154,{"$f":"RasF!C17","v":6},{"$f":"RasF!D17","v":0},{"$f":"RasF!E17","v":0},null,null,0,0]
[154,{"$f":"RasF!C18","v":7},{"$f":"RasF!D18","v":0},{"$f":"RasF!E18","v":0},null,null,0,0]
[154,{"$f":"RasF!C19","v":8},{"$f":"RasF!D19","v":0},{"$f":"RasF!E19","v":0},null,null,0,0]
[154,{"$f":"RasF!C20","v":9},{"$f":"RasF!D20","v":0},{"$f":"RasF!E20","v":0},null,null,0,0]
[154,{"$f":"RasF!C21","v":10},{"$f":"RasF!D21","v":0},{"$f":"RasF!E21","v":0},null,null,0,0]
[154,{"$f":"RasF!C22","v":11},{"$f":"RasF!D22","v":0},{"$f":"RasF!E22","v":0},null,null,0,0]
[154,{"$f":"RasF!C23","v":12},{"$f":"RasF!D23","v":0},{"$f":"RasF!E23","v":0},null,null,0,0]
[154,{"$f":"RasF!C24","v":13},{"$f":"RasF!D24","v":0},{"$f":"RasF!E24","v":0},null,null,0,0]
[154,{"$f":"RasF!C25","v":14},{"$f":"RasF!D25","v":0},{"$f":"RasF!E25","v":0},null,null,0,0]
[154,{"$f":"RasF!C26","v":15},{"$f":"RasF!D26","v":0},{"$f":"RasF!E26","v":0},null,null,0,0]
[154,{"$f":"RasF!C27","v":16},{"$f":"RasF!D27","v":0},{"$f":"RasF!E27","v":0},null,null,0,0]
[154,{"$f":"RasF!C28","v":17},{"$f":"RasF!D28","v":0},{"$f":"RasF!E28","v":0},null,null,0,0]
[154,{"$f":"RasF!C29","v":18},{"$f":"RasF!D29","v":0},{"$f":"RasF!E29","v":0},null,null,0,0]
[154,{"$f":"RasF!C30","v":19},{"$f":"RasF!D30","v":0},{"$f":"RasF!E30","v":0},null,null,0,0]
[154,{"$f":"RasF!C31","v":20},{"$f":"RasF!D31","v":0},{"$f":"RasF!E31","v":0},null,null,0,0]
[154,{"$f":"RasF!C32","v":21},{"$f":"RasF!D32","v":0},{"$f":"RasF!E32","v":0},null,null,0,0]
[154,{"$f":"RasF!C33","v":22},{"$f":"RasF!D33","v":0},{"$f":"RasF!E33","v":0},null,null,0,0]
[154,{"$f":"RasF!C34","v":23},{"$f":"RasF!D34","v":0},{"$f":"RasF!E34","v":0},null,null,0,0]
[154,{"$f":"RasF!C35","v":24},{"$f":"RasF!D35","v":0},{"$f":"RasF!E35","v":0},null,null,0,0]
[154,{"$f":"RasF!C36","v":25},{"$f":"RasF!D36","v":0},{"$f":"RasF!E36","v":0},null,null,0,0]
[154,{"$f":"RasF!C37","v":26},{"$f":"RasF!D37","v":0},{"$f":"RasF!E37","v":0},null,null,0,0]
[154,{"$f":"RasF!C38","v":27},{"$f":"RasF!D38","v":0},{"$f":"RasF!E38","v":0},null,null,0,0]
[154,{"$f":"RasF!C39","v":28},{"$f":"RasF!D39","v":0},{"$f":"RasF!E39","v":0},null,null,0,0]
[154,{"$f":"RasF!C40","v":29},{"$f":"RasF!D40","v":0},{"$f":"RasF!E40","v":0},null,null,0,0]
[154,{"$f":"RasF!C41","v":30},{"$f":"RasF!D41","v":0},{"$f":"RasF!E41","v":0},null,null,0,0]
[154,{"$f":"RasF!C42","v":31},{"$f":"RasF!D42","v":0},{"$f":"RasF!E42","v":0},null,null,0,0]
[154,{"$f":"RasF!C43","v":32},{"$f":"RasF!D43","v":0},{"$f":"RasF!E43","v":0},null,null,0,0]
[154,{"$f":"RasF!C44","v":33},{"$f":"RasF!D44","v":0},{"$f":"RasF!E44","v":0},null,null,0,0]
[154,{"$f":"RasF!C45","v":34},{"$f":"RasF!D45","v":0},{"$f":"RasF!E45","v":0},null,null,0,0]
[154,{"$f":"RasF!C46","v":35},{"$f":"RasF!D46","v":0},{"$f":"RasF!E46","v":0},null,null,0,0]
[154,{"$f":"RasF!C47","v":36},{"$f":"RasF!D47","v":0},{"$f":"RasF!E47","v":0},null,null,0,0]
[154,{"$f":"RasF!C48","v":37},{"$f":"RasF!D48","v":0},{"$f":"RasF!E48","v":0},null,null,0,0]
[154,{"$f":"RasF!C49","v":38},{"$f":"RasF!D49","v":0},{"$f":"RasF!E49","v":0},null,null,0,0]
[154,{"$f":"RasF!C50","v":39},{"$f":"RasF!D50","v":0},{"$f":"RasF!E50","v":0},null,null,0,0]
[154,{"$f":"RasF!C51","v":40},{"$f":"RasF!D51","v":0},{"$f":"RasF!E51","v":0},null,null,0,0]
[154,{"$f":"RasF!C52","v":41},{"$f":"RasF!D52","v":0},{"$f":"RasF!E52","v":0},null,null,0,0]
[154,{"$f":"RasF!C53","v":42},{"$f":"RasF!D53","v":0},{"$f":"RasF!E53","v":0},null,null,0,0]
[154,{"$f":"RasF!C54","v":43},{"$f":"RasF!D54","v":0},{"$f":"RasF!E54","v":0},null,null,0,0]
[154,{"$f":"RasF!C55","v":44},{"$f":"RasF!D55","v":0},{"$f":"RasF!E55","v":0},null,null,0,0]
[154,{"$f":"RasF!C56","v":45},{"$f":"RasF!D56","v":0},{"$f":"RasF!E56","v":0},null,null,0,0]
[154,{"$f":"RasF!C57","v":46},{"$f":"RasF!D57","v":0},{"$f":"RasF!E57","v":0},null,null,0,0]
[154,{"$f":"RasF!C58","v":47},{"$f":"RasF!D58","v":0},{"$f":"RasF!E58","v":0},null,null,0,0]
[154,{"$f":"RasF!C59","v":48},{"$f":"RasF!D59","v":0},{"$f":"RasF!E59","v":0},null,null,0,0]
[154,{"$f":"RasF!C60","v":49},{"$f":"RasF!D60","v":0},{"$f":"RasF!E60","v":0},null,null,0,0]
[154,{"$f":"RasF!C61","v":50},{"$f":"RasF!D61","v":0},{"$f":"RasF!E61","v":0},null,null,0,0]
[154,{"$f":"RasF!C62","v":51},{"$f":"RasF!D62","v":0},{"$f":"RasF!E62","v":0},null,null,0,0]
[154,{"$f":"RasF!C63","v":52},{"$f":"RasF!D63","v":0},{"$f":"RasF!E63","v":0},null,null,0,0]
[154,{"$f":"RasF!C64","v":53},{"$f":"RasF!D64","v":0},{"$f":"RasF!E64","v":0},null,null,0,0]
[154,{"$f":"RasF!C65","v":54},{"$f":"RasF!D65","v":0},{"$f":"RasF!E65","v":0},null,null,0,0]
[154,{"$f":"RasF!C66","v":55},{"$f":"RasF!D66","v":0},{"$f":"RasF!E66","v":0},null,null,0,0]
[154,{"$f":"RasF!C67","v":56},{"$f":"RasF!D67","v":0},{"$f":"RasF!E67","v":0},null,null,0,0]
[154,{"$f":"RasF!C68","v":57},{"$f":"RasF!D68","v":0},{"$f":"RasF!E68","v":0},null,null,0,0]
[154,{"$f":"RasF!C69","v":58},{"$f":"RasF!D69","v":0},{"$f":"RasF!E69","v":0},null,null,0,0]
[154,{"$f":"RasF!C70","v":59},{"$f":"RasF!D70","v":0},{"$f":"RasF!E70","v":0},null,null,0,0]
[154,{"$f":"RasF!C71","v":60},{"$f":"RasF!D71","v":0},{"$f":"RasF!E71","v":0},null,null,0,0]
[154,{"$f":"RasF!C72","v":61},{"$f":"RasF!D72","v":0},{"$f":"RasF!E72","v":0},null,null,0,0]
[154,{"$f":"RasF!C73","v":62},{"$f":"RasF!D73","v":0},{"$f":"RasF!E73","v":0},null,null,0,0]
[154,{"$f":"RasF!C74","v":63},{"$f":"RasF!D74","v":0},{"$f":"RasF!E74","v":0},null,null,0,0]
[154,{"$f":"RasF!C75","v":64},{"$f":"RasF!D75","v":0},{"$f":"RasF!E75","v":0},null,null,0,0]
[154,{"$f":"RasF!C76","v":65},{"$f":"RasF!D76","v":0},{"$f":"RasF!E76","v":0},null,null,0,0]
[154,{"$f":"RasF!C77","v":66},{"$f":"RasF!D77","v":0},{"$f":"RasF!E77","v":0},null,null,0,0]
[154,{"$f":"RasF!C78","v":67},{"$f":"RasF!D78","v":0},{"$f":"RasF!E78","v":0},null,null,{"$f":"B1366/1000*C1366+B1366/500*D1366","v":0},{"$f":"ABS(C1366-ROUND(C1366,0))+ABS(D1366-ROUND(D1366,0))","v":0}]
[154,{"$f":"RasF!C79","v":68},{"$f":"RasF!D79","v":0},{"$f":"RasF!E79","v":0},null,null,0,0]
[154,{"$f":"RasF!C80","v":69},{"$f":"RasF!D80","v":0},{"$f":"RasF!E80","v":0},null,null,0,0]
[154,{"$f":"RasF!C81","v":70},{"$f":"RasF!D81","v":0},{"$f":"RasF!E81","v":0},null,null,0,0]
[154,{"$f":"RasF!C82","v":71},{"$f":"RasF!D82","v":0},{"$f":"RasF!E82","v":0},null,null,0,0]
[154,{"$f":"RasF!C83","v":72},{"$f":"RasF!D83","v":0},{"$f":"RasF!E83","v":0},null,null,0,0]
[154,{"$f":"RasF!C84","v":73},{"$f":"RasF!D84","v":0},{"$f":"RasF!E84","v":0},null,null,0,0]
[154,{"$f":"RasF!C85","v":74},{"$f":"RasF!D85","v":0},{"$f":"RasF!E85","v":0},null,null,0,0]
[154,{"$f":"RasF!C86","v":75},{"$f":"RasF!D86","v":0},{"$f":"RasF!E86","v":0},null,null,0,0]
[154,{"$f":"RasF!C87","v":76},{"$f":"RasF!D87","v":0},{"$f":"RasF!E87","v":0},null,null,0,0]
[154,{"$f":"RasF!C88","v":77},{"$f":"RasF!D88","v":0},{"$f":"RasF!E88","v":0},null,null,0,0]
[154,{"$f":"RasF!C89","v":78},{"$f":"RasF!D89","v":0},{"$f":"RasF!E89","v":0},null,null,0,0]
[154,{"$f":"RasF!C90","v":79},{"$f":"RasF!D90","v":0},{"$f":"RasF!E90","v":0},null,null,0,0]
[154,{"$f":"RasF!C91","v":80},{"$f":"RasF!D91","v":0},{"$f":"RasF!E91","v":0},null,null,0,0]
[154,{"$f":"RasF!C92","v":81},{"$f":"RasF!D92","v":0},{"$f":"RasF!E92","v":0},null,null,0,0]
[154,{"$f":"RasF!C93","v":82},{"$f":"RasF!D93","v":0},{"$f":"RasF!E93","v":0},null,null,0,0]
[154,{"$f":"RasF!C94","v":83},{"$f":"RasF!D94","v":0},{"$f":"RasF!E94","v":0},null,null,0,0]
[154,{"$f":"RasF!C95","v":84},{"$f":"RasF!D95","v":0},{"$f":"RasF!E95","v":0},null,null,0,0]
[154,{"$f":"RasF!C96","v":85},{"$f":"RasF!D96","v":0},{"$f":"RasF!E96","v":0},null,null,0,0]
[154,{"$f":"RasF!C97","v":86},{"$f":"RasF!D97","v":0},{"$f":"RasF!E97","v":0},null,null,0,0]
[154,{"$f":"RasF!C98","v":87},{"$f":"RasF!D98","v":0},{"$f":"RasF!E98","v":0},null,null,0,0]
[154,{"$f":"RasF!C99","v":88},{"$f":"RasF!D99","v":0},{"$f":"RasF!E99","v":0},null,null,0,0]
[154,{"$f":"RasF!C100","v":89},{"$f":"RasF!D100","v":0},{"$f":"RasF!E100","v":0},null,null,0,0]
[154,{"$f":"RasF!C101","v":90},{"$f":"RasF!D101","v":0},{"$f":"RasF!E101","v":0},null,null,0,0]
[154,{"$f":"RasF!C102","v":91},{"$f":"RasF!D102","v":0},{"$f":"RasF!E102","v":0},null,null,0,0]
[154,{"$f":"RasF!C103","v":92},{"$f":"RasF!D103","v":0},{"$f":"RasF!E103","v":0},null,null,0,0]
[154,{"$f":"RasF!C104","v":93},{"$f":"RasF!D104","v":0},{"$f":"RasF!E104","v":0},null,null,0,0]
[154,{"$f":"RasF!C105","v":94},{"$f":"RasF!D105","v":0},{"$f":"RasF!E105","v":0},null,null,0,0]
[154,{"$f":"RasF!C106","v":95},{"$f":"RasF!D106","v":0},{"$f":"RasF!E106","v":0},null,null,0,0]
[154,{"$f":"RasF!C107","v":96},{"$f":"RasF!D107","v":0},{"$f":"RasF!E107","v":0},null,null,0,0]
[154,{"$f":"RasF!C108","v":97},{"$f":"RasF!D108","v":0},{"$f":"RasF!E108","v":0},null,null,0,0]
[154,{"$f":"RasF!C109","v":98},{"$f":"RasF!D109","v":0},{"$f":"RasF!E109","v":0},null,null,0,0]
[154,{"$f":"RasF!C110","v":99},{"$f":"RasF!D110","v":0},{"$f":"RasF!E110","v":0},null,null,0,0]
[154,{"$f":"RasF!C111","v":100},{"$f":"RasF!D111","v":0},{"$f":"RasF!E111","v":0},null,null,0,0]
[154,{"$f":"RasF!C112","v":101},{"$f":"RasF!D112","v":0},{"$f":"RasF!E112","v":0},null,null,0,0]
[154,{"$f":"RasF!C113","v":102},{"$f":"RasF!D113","v":0},{"$f":"RasF!E113","v":0},null,null,0,0]
[154,{"$f":"RasF!C114","v":103},{"$f":"RasF!D114","v":0},{"$f":"RasF!E114","v":0},null,null,0,0]
[154,{"$f":"RasF!C115","v":104},{"$f":"RasF!D115","v":0},{"$f":"RasF!E115","v":0},null,null,0,0]
[154,{"$f":"RasF!C116","v":105},{"$f":"RasF!D116","v":0},{"$f":"RasF!E116","v":0},null,null,0,0]
[154,{"$f":"RasF!C117","v":106},{"$f":"RasF!D117","v":0},{"$f":"RasF!E117","v":0},null,null,0,0]
[154,{"$f":"RasF!C118","v":107},{"$f":"RasF!D118","v":0},{"$f":"RasF!E118","v":0},null,null,0,0]
[154,{"$f":"RasF!C119","v":108},{"$f":"RasF!D119","v":0},{"$f":"RasF!E119","v":0},null,null,0,0]
[154,{"$f":"RasF!C120","v":109},{"$f":"RasF!D120","v":0},{"$f":"RasF!E120","v":0},null,null,0,0]
[154,{"$f":"RasF!C121","v":110},{"$f":"RasF!D121","v":0},{"$f":"RasF!E121","v":0},null,null,0,0]
[154,{"$f":"RasF!C122","v":111},{"$f":"RasF!D122","v":0},{"$f":"RasF!E122","v":0},null,null,0,0]
[154,{"$f":"RasF!C123","v":112},{"$f":"RasF!D123","v":0},{"$f":"RasF!E123","v":0},null,null,0,0]
[154,{"$f":"RasF!C124","v":113},{"$f":"RasF!D124","v":0},{"$f":"RasF!E124","v":0},null,null,0,0]
[154,{"$f":"RasF!C125","v":114},{"$f":"RasF!D125","v":0},{"$f":"RasF!E125","v":0},null,null,0,0]
[154,{"$f":"RasF!C126","v":115},{"$f":"RasF!D126","v":0},{"$f":"RasF!E126","v":0},null,null,0,0]
[154,{"$f":"RasF!C127","v":116},{"$f":"RasF!D127","v":0},{"$f":"RasF!E127","v":0},null,null,0,0]
[154,{"$f":"RasF!C128","v":117},{"$f":"RasF!D128","v":0},{"$f":"RasF!E128","v":0},null,null,0,0]
[154,{"$f":"RasF!C129","v":118},{"$f":"RasF!D129","v":0},{"$f":"RasF!E129","v":0},null,null,0,0]
[154,{"$f":"RasF!C130","v":119},{"$f":"RasF!D130","v":0},{"$f":"RasF!E130","v":0},null,null,0,0]
[154,{"$f":"RasF!C131","v":120},{"$f":"RasF!D131","v":0},{"$f":"RasF!E131","v":0},null,null,0,0]
[154,{"$f":"RasF!C132","v":121},{"$f":"RasF!D132","v":0},{"$f":"RasF!E132","v":0},null,null,0,0]
[154,{"$f":"RasF!C133","v":122},{"$f":"RasF!D133","v":0},{"$f":"RasF!E133","v":0},null,null,0,0]
[154,{"$f":"RasF!C134","v":123},{"$f":"RasF!D134","v":0},{"$f":"RasF!E134","v":0},null,null,0,0]
[154,{"$f":"RasF!C135","v":124},{"$f":"RasF!D135","v":0},{"$f":"RasF!E135","v":0},null,null,0,0]
[154,{"$f":"RasF!C136","v":125},{"$f":"RasF!D136","v":0},{"$f":"RasF!E136","v":0},null,null,0,0]
[154,{"$f":"RasF!C137","v":126},{"$f":"RasF!D137","v":0},{"$f":"RasF!E137","v":0},null,null,0,0]
[154,{"$f":"RasF!C138","v":127},{"$f":"RasF!D138","v":0},{"$f":"RasF!E138","v":0},null,null,0,0]
[154,{"$f":"RasF!C139","v":128},{"$f":"RasF!D139","v":0},{"$f":"RasF!E139","v":0},null,null,0,0]
[154,{"$f":"RasF!C140","v":129},{"$f":"RasF!D140","v":0},{"$f":"RasF!E140","v":0},null,null,0,0]
[154,{"$f":"RasF!C141","v":130},{"$f":"RasF!D141","v":0},{"$f":"RasF!E141","v":0},null,null,0,0]
[154,{"$f":"RasF!C142","v":131},{"$f":"RasF!D142","v":0},{"$f":"RasF!E142","v":0},null,null,{"$f":"B1430/1000*C1430+B1430/500*D1430","v":0},{"$f":"ABS(C1430-ROUND(C1430,0))+ABS(D1430-ROUND(D1430,0))","v":0}]
[154,{"$f":"RasF!C143","v":132},{"$f":"RasF!D143","v":0},{"$f":"RasF!E143","v":0},null,null,0,0]
[154,{"$f":"RasF!C144","v":133},{"$f":"RasF!D144","v":0},{"$f":"RasF!E144","v":0},null,null,0,0]
[154,{"$f":"RasF!C145","v":134},{"$f":"RasF!D145","v":0},{"$f":"RasF!E145","v":0},null,null,0,0]
[154,{"$f":"RasF!C146","v":135},{"$f":"RasF!D146","v":0},{"$f":"RasF!E146","v":0},null,null,0,0]
[154,{"$f":"RasF!C147","v":136},{"$f":"RasF!D147","v":0},{"$f":"RasF!E147","v":0},null,null,0,0]
[154,{"$f":"RasF!C148","v":137},{"$f":"RasF!D148","v":0},{"$f":"RasF!E148","v":0},null,null,0,0]
[156,{"$f":"PVRIO!C12","v":1},{"$f":"PVRIO!D12","v":0},{"$f":"PVRIO!E12","v":0},null,null,{"$f":"B1437/1000*C1437+B1437/500*D1437","v":0},{"$f":"ABS(C1437-ROUND(C1437,0))+ABS(D1437-ROUND(D1437,0))","v":0},0]
[156,{"$f":"PVRIO!C13","v":2},{"$f":"PVRIO!D13","v":0},{"$f":"PVRIO!E13","v":0},null,null,{"$f":"B1438/1000*C1438+B1438/500*D1438","v":0},{"$f":"ABS(C1438-ROUND(C1438,0))+ABS(D1438-ROUND(D1438,0))","v":0},0]
[156,{"$f":"PVRIO!C14","v":3},{"$f":"PVRIO!D14","v":0},{"$f":"PVRIO!E14","v":0},null,null,{"$f":"B1439/1000*C1439+B1439/500*D1439","v":0},{"$f":"ABS(C1439-ROUND(C1439,0))+ABS(D1439-ROUND(D1439,0))","v":0},0]
[156,{"$f":"PVRIO!C15","v":4},{"$f":"PVRIO!D15","v":0},{"$f":"PVRIO!E15","v":0},null,null,{"$f":"B1440/1000*C1440+B1440/500*D1440","v":0},{"$f":"ABS(C1440-ROUND(C1440,0))+ABS(D1440-ROUND(D1440,0))","v":0},{"$f":"G1440*H1440","v":0}]
[156,{"$f":"PVRIO!C16","v":5},{"$f":"PVRIO!D16","v":0},{"$f":"PVRIO!E16","v":0},null,null,{"$f":"B1441/1000*C1441+B1441/500*D1441","v":0},{"$f":"ABS(C1441-ROUND(C1441,0))+ABS(D1441-ROUND(D1441,0))","v":0},0]
[156,{"$f":"PVRIO!C17","v":6},{"$f":"PVRIO!D17","v":0},{"$f":"PVRIO!E17","v":0},null,null,0,0,0]
[156,{"$f":"PVRIO!C18","v":7},{"$f":"PVRIO!D18","v":0},{"$f":"PVRIO!E18","v":0},null,null,0,0,0]
[156,{"$f":"PVRIO!C19","v":8},{"$f":"PVRIO!D19","v":0},{"$f":"PVRIO!E19","v":0},null,null,0,0,0]
[156,{"$f":"PVRIO!C20","v":9},{"$f":"PVRIO!D20","v":0},{"$f":"PVRIO!E20","v":0},null,null,0,0,0]
[156,{"$f":"PVRIO!C21","v":10},{"$f":"PVRIO!D21","v":0},{"$f":"PVRIO!E21","v":0},null,null,0,0,0]
[156,{"$f":"PVRIO!C22","v":11},{"$f":"PVRIO!D22","v":0},{"$f":"PVRIO!E22","v":0},null,null,0,0,0]
[156,{"$f":"PVRIO!C23","v":12},{"$f":"PVRIO!D23","v":0},{"$f":"PVRIO!E23","v":0},null,null,0,0,0]
[156,{"$f":"PVRIO!C24","v":13},{"$f":"PVRIO!D24","v":0},{"$f":"PVRIO!E24","v":0},null,null,0,0,0]
[156,{"$f":"PVRIO!C25","v":14},{"$f":"PVRIO!D25","v":0},{"$f":"PVRIO!E25","v":0},null,null,0,0,0]
[156,{"$f":"PVRIO!C26","v":15},{"$f":"PVRIO!D26","v":0},{"$f":"PVRIO!E26","v":0},null,null,0,0,0]
[156,{"$f":"PVRIO!C27","v":16},{"$f":"PVRIO!D27","v":0},{"$f":"PVRIO!E27","v":0},null,null,0,0,0]
[156,{"$f":"PVRIO!C28","v":17},{"$f":"PVRIO!D28","v":0},{"$f":"PVRIO!E28","v":0},null,null,0,0,0]
[156,{"$f":"PVRIO!C29","v":18},{"$f":"PVRIO!D29","v":0},{"$f":"PVRIO!E29","v":0},null,null,0,0,0]
[156,{"$f":"PVRIO!C30","v":19},{"$f":"PVRIO!D30","v":0},{"$f":"PVRIO!E30","v":0},null,null,0,0,0]
[156,{"$f":"PVRIO!C31","v":20},{"$f":"PVRIO!D31","v":0},{"$f":"PVRIO!E31","v":0},null,null,0,0,0]
[156,{"$f":"PVRIO!C32","v":21},{"$f":"PVRIO!D32","v":0},{"$f":"PVRIO!E32","v":0},null,null,0,0,0]
[156,{"$f":"PVRIO!C33","v":22},{"$f":"PVRIO!D33","v":0},{"$f":"PVRIO!E33","v":0},null,null,0,0,0]
[156,{"$f":"PVRIO!C34","v":23},{"$f":"PVRIO!D34","v":0},{"$f":"PVRIO!E34","v":0},null,null,0,0,0]
[156,{"$f":"PVRIO!C35","v":24},{"$f":"PVRIO!D35","v":0},{"$f":"PVRIO!E35","v":0},null,null,0,0,0]
[156,{"$f":"PVRIO!C36","v":25},{"$f":"PVRIO!D36","v":0},{"$f":"PVRIO!E36","v":0},null,null,0,0,0]
[156,{"$f":"PVRIO!C37","v":26},{"$f":"PVRIO!D37","v":0},{"$f":"PVRIO!E37","v":0},null,null,0,0,0]
[156,{"$f":"PVRIO!C38","v":27},{"$f":"PVRIO!D38","v":0},{"$f":"PVRIO!E38","v":0},null,null,0,0,0]
[156,{"$f":"PVRIO!C39","v":28},{"$f":"PVRIO!D39","v":0},{"$f":"PVRIO!E39","v":0},null,null,0,0,0]
[156,{"$f":"PVRIO!C40","v":29},{"$f":"PVRIO!D40","v":0},{"$f":"PVRIO!E40","v":0},null,null,0,0,0]
[156,{"$f":"PVRIO!C41","v":30},{"$f":"PVRIO!D41","v":0},{"$f":"PVRIO!E41","v":0},null,null,0,0,0]
[156,{"$f":"PVRIO!C42","v":31},{"$f":"PVRIO!D42","v":0},{"$f":"PVRIO!E42","v":0},null,null,0,0,0]
[156,{"$f":"PVRIO!C43","v":32},{"$f":"PVRIO!D43","v":0},{"$f":"PVRIO!E43","v":0},null,null,0,0,0]
[156,{"$f":"PVRIO!C44","v":33},{"$f":"PVRIO!D44","v":0},{"$f":"PVRIO!E44","v":0},null,null,0,0,0]
[156,{"$f":"PVRIO!C45","v":34},{"$f":"PVRIO!D45","v":0},{"$f":"PVRIO!E45","v":0},null,null,0,0,0]
[156,{"$f":"PVRIO!C46","v":35},{"$f":"PVRIO!D46","v":0},{"$f":"PVRIO!E46","v":0},null,null,0,0,0]
[156,{"$f":"PVRIO!C47","v":36},{"$f":"PVRIO!D47","v":0},{"$f":"PVRIO!E47","v":0},null,null,0,0,0]
[156,{"$f":"PVRIO!C48","v":37},{"$f":"PVRIO!D48","v":0},{"$f":"PVRIO!E48","v":0},null,null,0,0,0]
[156,{"$f":"PVRIO!C49","v":38},{"$f":"PVRIO!D49","v":0},{"$f":"PVRIO!E49","v":0},null,null,0,0,0]
[156,{"$f":"PVRIO!C50","v":39},{"$f":"PVRIO!D50","v":0},{"$f":"PVRIO!E50","v":0},null,null,0,0,0]
[156,{"$f":"PVRIO!C51","v":40},{"$f":"PVRIO!D51","v":0},{"$f":"PVRIO!E51","v":0},null,null,0,0,0]
[156,{"$f":"PVRIO!C52","v":41},{"$f":"PVRIO!D52","v":0},{"$f":"PVRIO!E52","v":0},null,null,0,0,0]
[156,{"$f":"PVRIO!C53","v":42},{"$f":"PVRIO!D53","v":0},{"$f":"PVRIO!E53","v":0},null,null,0,0,0]
[156,{"$f":"PVRIO!C54","v":43},{"$f":"PVRIO!D54","v":0},{"$f":"PVRIO!E54","v":0},null,null,0,0,0]
[156,{"$f":"PVRIO!C55","v":44},{"$f":"PVRIO!D55","v":0},{"$f":"PVRIO!E55","v":0},null,null,0,0,0]
[158,{"$f":"Bil!C12","v":1},{"$f":"Bil!D12","v":9003556},{"$f":"Bil!E12","v":9485507},null,null,{"$f":"B1481/1000*C1481+B1481/500*D1481","v":27974.57},{"$f":"ABS(C1481-ROUND(C1481,0))+ABS(D1481-ROUND(D1481,0))","v":0}]
[158,{"$f":"Bil!C13","v":2},{"$f":"Bil!D13","v":8157067},{"$f":"Bil!E13","v":8434300},null,null,{"$f":"B1482/1000*C1482+B1482/500*D1482","v":50051.333999999995},{"$f":"ABS(C1482-ROUND(C1482,0))+ABS(D1482-ROUND(D1482,0))","v":0}]
[158,{"$f":"Bil!C14","v":3},{"$f":"Bil!D14","v":1330076},{"$f":"Bil!E14","v":1330076},null,null,{"$f":"B1483/1000*C1483+B1483/500*D1483","v":11970.684000000001},{"$f":"ABS(C1483-ROUND(C1483,0))+ABS(D1483-ROUND(D1483,0))","v":0}]
[158,{"$f":"Bil!C15","v":4},{"$f":"Bil!D15","v":1330076},{"$f":"Bil!E15","v":1330076},null,null,{"$f":"B1484/1000*C1484+B1484/500*D1484","v":15960.912},{"$f":"ABS(C1484-ROUND(C1484,0))+ABS(D1484-ROUND(D1484,0))","v":0}]
[158,{"$f":"Bil!C16","v":5},{"$f":"Bil!D16","v":0},{"$f":"Bil!E16","v":0},null,null,0,0]
[158,{"$f":"Bil!C17","v":6},{"$f":"Bil!D17","v":0},{"$f":"Bil!E17","v":0},null,null,0,0]
[158,{"$f":"Bil!C18","v":7},{"$f":"Bil!D18","v":6826991},{"$f":"Bil!E18","v":7104224},null,null,147248.073,0]
[158,{"$f":"Bil!C19","v":8},{"$f":"Bil!D19","v":6110697},{"$f":"Bil!E19","v":6326363},null,null,150107.38400000002,0]
[158,{"$f":"Bil!C20","v":9},{"$f":"Bil!D20","v":0},{"$f":"Bil!E20","v":0},null,null,0,0]
[158,{"$f":"Bil!C21","v":10},{"$f":"Bil!D21","v":14310177},{"$f":"Bil!E21","v":14310177},null,null,429305.30999999994,0]
[158,{"$f":"Bil!C22","v":11},{"$f":"Bil!D22","v":0},{"$f":"Bil!E22","v":0},null,null,0,0]
[158,{"$f":"Bil!C23","v":12},{"$f":"Bil!D23","v":0},{"$f":"Bil!E23","v":0},null,null,0,0]
[158,{"$f":"Bil!C24","v":13},{"$f":"Bil!D24","v":8199480},{"$f":"Bil!E24","v":7983814},null,null,314172.40399999998,0]
[158,{"$f":"Bil!C25","v":14},{"$f":"Bil!D25","v":478122},{"$f":"Bil!E25","v":532517},null,null,21604.184000000001,0]
[158,{"$f":"Bil!C26","v":15},{"$f":"Bil!D26","v":1545001},{"$f":"Bil!E26","v":1557060},null,null,69886.815000000002,0]
[158,{"$f":"Bil!C27","v":16},{"$f":"Bil!D27","v":48180},{"$f":"Bil!E27","v":48180},null,null,2312.64,0]
[158,{"$f":"Bil!C28","v":17},{"$f":"Bil!D28","v":13390},{"$f":"Bil!E28","v":13390},null,null,682.8900000000001,0]
[158,{"$f":"Bil!C29","v":18},{"$f":"Bil!D29","v":0},{"$f":"Bil!E29","v":0},null,null,0,0]
[158,{"$f":"Bil!C30","v":19},{"$f":"Bil!D30","v":56248},{"$f":"Bil!E30","v":56248},null,null,3206.136,0]
[158,{"$f":"Bil!C31","v":20},{"$f":"Bil!D31","v":16087},{"$f":"Bil!E31","v":16087},null,null,965.22,0]
[158,{"$f":"Bil!C32","v":21},{"$f":"Bil!D32","v":298571},{"$f":"Bil!E32","v":315540},null,null,19522.671000000002,0]
[158,{"$f":"Bil!C33","v":22},{"$f":"Bil!D33","v":1499355},{"$f":"Bil!E33","v":1473988},null,null,97841.281999999992,0]
[158,{"$f":"Bil!C34","v":23},{"$f":"Bil!D34","v":0},{"$f":"Bil!E34","v":0},null,null,0,0]
[158,{"$f":"Bil!C35","v":24},{"$f":"Bil!D35","v":0},{"$f":"Bil!E35","v":0},null,null,0,0]
[158,{"$f":"Bil!C36","v":25},{"$f":"Bil!D36","v":0},{"$f":"Bil!E36","v":0},null,null,0,0]
[158,{"$f":"Bil!C37","v":26},{"$f":"Bil!D37","v":0},{"$f":"Bil!E37","v":0},null,null,0,0]
[158,{"$f":"Bil!C38","v":27},{"$f":"Bil!D38","v":0},{"$f":"Bil!E38","v":0},null,null,0,0]
[158,{"$f":"Bil!C39","v":28},{"$f":"Bil!D39","v":0},{"$f":"Bil!E39","v":0},null,null,0,0]
[158,{"$f":"Bil!C40","v":29},{"$f":"Bil!D40","v":238172},{"$f":"Bil!E40","v":245344},null,null,21136.940000000002,0]
[158,{"$f":"Bil!C41","v":30},{"$f":"Bil!D41","v":238172},{"$f":"Bil!E41","v":245344},null,null,21865.8,0]
[158,{"$f":"Bil!C42","v":31},{"$f":"Bil!D42","v":0},{"$f":"Bil!E42","v":0},null,null,0,0]
[158,{"$f":"Bil!C43","v":32},{"$f":"Bil!D43","v":0},{"$f":"Bil!E43","v":0},null,null,0,0]
[158,{"$f":"Bil!C44","v":33},{"$f":"Bil!D44","v":0},{"$f":"Bil!E44","v":0},null,null,0,0]
[158,{"$f":"Bil!C45","v":34},{"$f":"Bil!D45","v":0},{"$f":"Bil!E45","v":0},null,null,0,0]
[158,{"$f":"Bil!C46","v":35},{"$f":"Bil!D46","v":0},{"$f":"Bil!E46","v":0},null,null,0,0]
[158,{"$f":"Bil!C47","v":36},{"$f":"Bil!D47","v":0},{"$f":"Bil!E47","v":0},null,null,0,0]
[158,{"$f":"Bil!C48","v":37},{"$f":"Bil!D48","v":0},{"$f":"Bil!E48","v":0},null,null,0,0]
[158,{"$f":"Bil!C49","v":38},{"$f":"Bil!D49","v":0},{"$f":"Bil!E49","v":0},null,null,0,0]
[158,{"$f":"Bil!C50","v":39},{"$f":"Bil!D50","v":0},{"$f":"Bil!E50","v":0},null,null,0,0]
[158,{"$f":"Bil!C51","v":40},{"$f":"Bil!D51","v":0},{"$f":"Bil!E51","v":0},null,null,0,0]
[158,{"$f":"Bil!C52","v":41},{"$f":"Bil!D52","v":0},{"$f":"Bil!E52","v":0},null,null,0,0]
[158,{"$f":"Bil!C53","v":42},{"$f":"Bil!D53","v":0},{"$f":"Bil!E53","v":0},null,null,0,0]
[158,{"$f":"Bil!C54","v":43},{"$f":"Bil!D54","v":0},{"$f":"Bil!E54","v":0},null,null,0,0]
[158,{"$f":"Bil!C55","v":44},{"$f":"Bil!D55","v":0},{"$f":"Bil!E55","v":0},null,null,0,0]
[158,{"$f":"Bil!C56","v":45},{"$f":"Bil!D56","v":0},{"$f":"Bil!E56","v":0},null,null,0,0]
[158,{"$f":"Bil!C57","v":46},{"$f":"Bil!D57","v":0},{"$f":"Bil!E57","v":0},null,null,0,0]
[158,{"$f":"Bil!C58","v":47},{"$f":"Bil!D58","v":0},{"$f":"Bil!E58","v":0},null,null,0,0]
[158,{"$f":"Bil!C59","v":48},{"$f":"Bil!D59","v":478032},{"$f":"Bil!E59","v":513049},null,null,72198.239999999991,0]
[158,{"$f":"Bil!C60","v":49},{"$f":"Bil!D60","v":478032},{"$f":"Bil!E60","v":513049},null,null,73702.37,0]
[158,{"$f":"Bil!C61","v":50},{"$f":"Bil!D61","v":0},{"$f":"Bil!E61","v":0},null,null,0,0]
[158,{"$f":"Bil!C62","v":51},{"$f":"Bil!D62","v":0},{"$f":"Bil!E62","v":0},null,null,0,0]
[158,{"$f":"Bil!C63","v":52},{"$f":"Bil!D63","v":0},{"$f":"Bil!E63","v":0},null,null,0,0]
[158,{"$f":"Bil!C64","v":53},{"$f":"Bil!D64","v":0},{"$f":"Bil!E64","v":0},null,null,0,0]
[158,{"$f":"Bil!C65","v":54},{"$f":"Bil!D65","v":0},{"$f":"Bil!E65","v":0},null,null,0,0]
[158,{"$f":"Bil!C66","v":55},{"$f":"Bil!D66","v":0},{"$f":"Bil!E66","v":0},null,null,0,0]
[158,{"$f":"Bil!C67","v":56},{"$f":"Bil!D67","v":0},{"$f":"Bil!E67","v":0},null,null,0,0]
[158,{"$f":"Bil!C68","v":57},{"$f":"Bil!D68","v":0},{"$f":"Bil!E68","v":0},null,null,0,0]
[158,{"$f":"Bil!C69","v":58},{"$f":"Bil!D69","v":0},{"$f":"Bil!E69","v":0},null,null,0,0]
[158,{"$f":"Bil!C70","v":59},{"$f":"Bil!D70","v":0},{"$f":"Bil!E70","v":0},null,null,0,0]
[158,{"$f":"Bil!C71","v":60},{"$f":"Bil!D71","v":0},{"$f":"Bil!E71","v":0},null,null,0,0]
[158,{"$f":"Bil!C72","v":61},{"$f":"Bil!D72","v":846489},{"$f":"Bil!E72","v":1051207},null,null,179883.08299999998,0]
[158,{"$f":"Bil!C73","v":62},{"$f":"Bil!D73","v":120325},{"$f":"Bil!E73","v":351348},null,null,51027.302000000003,0]
[158,{"$f":"Bil!C74","v":63},{"$f":"Bil!D74","v":119869},{"$f":"Bil!E74","v":350590},null,null,51726.087000000007,0]
[158,{"$f":"Bil!C75","v":64},{"$f":"Bil!D75","v":0},{"$f":"Bil!E75","v":0},null,null,0,0]
[158,{"$f":"Bil!C76","v":65},{"$f":"Bil!D76","v":456},{"$f":"Bil!E76","v":758},null,null,128.18,0]
[158,{"$f":"Bil!C77","v":66},{"$f":"Bil!D77","v":0},{"$f":"Bil!E77","v":0},null,null,0,0]
[158,{"$f":"Bil!C78","v":67},{"$f":"Bil!D78","v":7434},{"$f":"Bil!E78","v":26075},null,null,3992.1280000000002,0]
[158,{"$f":"Bil!C79","v":68},{"$f":"Bil!D79","v":0},{"$f":"Bil!E79","v":0},null,null,{"$f":"B1548/1000*C1548+B1548/500*D1548","v":0},{"$f":"ABS(C1548-ROUND(C1548,0))+ABS(D1548-ROUND(D1548,0))","v":0}]
[158,{"$f":"Bil!C80","v":69},{"$f":"Bil!D80","v":0},{"$f":"Bil!E80","v":0},null,null,0,0]
[158,{"$f":"Bil!C81","v":70},{"$f":"Bil!D81","v":0},{"$f":"Bil!E81","v":0},null,null,0,0]
[158,{"$f":"Bil!C82","v":71},{"$f":"Bil!D82","v":0},{"$f":"Bil!E82","v":0},null,null,0,0]
[158,{"$f":"Bil!C83","v":72},{"$f":"Bil!D83","v":7434},{"$f":"Bil!E83","v":26075},null,null,4290.0479999999998,0]
[158,{"$f":"Bil!C84","v":73},{"$f":"Bil!D84","v":0},{"$f":"Bil!E84","v":0},null,null,0,0]
[158,{"$f":"Bil!C85","v":74},{"$f":"Bil!D85","v":0},{"$f":"Bil!E85","v":0},null,null,0,0]
[158,{"$f":"Bil!C86","v":75},{"$f":"Bil!D86","v":0},{"$f":"Bil!E86","v":0},null,null,0,0]
[158,{"$f":"Bil!C87","v":76},{"$f":"Bil!D87","v":0},{"$f":"Bil!E87","v":0},null,null,0,0]
[158,{"$f":"Bil!C88","v":77},{"$f":"Bil!D88","v":0},{"$f":"Bil!E88","v":0},null,null,0,0]
[158,{"$f":"Bil!C89","v":78},{"$f":"Bil!D89","v":0},{"$f":"Bil!E89","v":0},null,null,0,0]
[158,{"$f":"Bil!C90","v":79},{"$f":"Bil!D90","v":0},{"$f":"Bil!E90","v":0},null,null,0,0]
[158,{"$f":"Bil!C91","v":80},{"$f":"Bil!D91","v":0},{"$f":"Bil!E91","v":0},null,null,0,0]
[158,{"$f":"Bil!C92","v":81},{"$f":"Bil!D92","v":0},{"$f":"Bil!E92","v":0},null,null,0,0]
[158,{"$f":"Bil!C93","v":82},{"$f":"Bil!D93","v":0},{"$f":"Bil!E93","v":0},null,null,0,0]
[158,{"$f":"Bil!C94","v":83},{"$f":"Bil!D94","v":0},{"$f":"Bil!E94","v":0},null,null,0,0]
[158,{"$f":"Bil!C95","v":84},{"$f":"Bil!D95","v":0},{"$f":"Bil!E95","v":0},null,null,0,0]
[158,{"$f":"Bil!C96","v":85},{"$f":"Bil!D96","v":0},{"$f":"Bil!E96","v":0},null,null,0,0]
[158,{"$f":"Bil!C97","v":86},{"$f":"Bil!D97","v":0},{"$f":"Bil!E97","v":0},null,null,0,0]
[158,{"$f":"Bil!C98","v":87},{"$f":"Bil!D98","v":0},{"$f":"Bil!E98","v":0},null,null,0,0]
[158,{"$f":"Bil!C99","v":88},{"$f":"Bil!D99","v":0},{"$f":"Bil!E99","v":0},null,null,0,0]
[158,{"$f":"Bil!C100","v":89},{"$f":"Bil!D100","v":0},{"$f":"Bil!E100","v":0},null,null,0,0]
[158,{"$f":"Bil!C101","v":90},{"$f":"Bil!D101","v":0},{"$f":"Bil!E101","v":0},null,null,0,0]
[158,{"$f":"Bil!C102","v":91},{"$f":"Bil!D102","v":0},{"$f":"Bil!E102","v":0},null,null,0,0]
[158,{"$f":"Bil!C103","v":92},{"$f":"Bil!D103","v":0},{"$f":"Bil!E103","v":0},null,null,0,0]
[158,{"$f":"Bil!C104","v":93},{"$f":"Bil!D104","v":0},{"$f":"Bil!E104","v":0},null,null,0,0]
[158,{"$f":"Bil!C105","v":94},{"$f":"Bil!D105","v":0},{"$f":"Bil!E105","v":0},null,null,0,0]
[158,{"$f":"Bil!C106","v":95},{"$f":"Bil!D106","v":0},{"$f":"Bil!E106","v":0},null,null,0,0]
[158,{"$f":"Bil!C107","v":96},{"$f":"Bil!D107","v":0},{"$f":"Bil!E107","v":0},null,null,0,0]
[158,{"$f":"Bil!C108","v":97},{"$f":"Bil!D108","v":0},{"$f":"Bil!E108","v":0},null,null,0,0]
[158,{"$f":"Bil!C109","v":98},{"$f":"Bil!D109","v":0},{"$f":"Bil!E109","v":0},null,null,0,0]
[158,{"$f":"Bil!C110","v":99},{"$f":"Bil!D110","v":0},{"$f":"Bil!E110","v":0},null,null,0,0]
[158,{"$f":"Bil!C111","v":100},{"$f":"Bil!D111","v":0},{"$f":"Bil!E111","v":0},null,null,0,0]
[158,{"$f":"Bil!C112","v":101},{"$f":"Bil!D112","v":0},{"$f":"Bil!E112","v":0},null,null,0,0]
[158,{"$f":"Bil!C113","v":102},{"$f":"Bil!D113","v":0},{"$f":"Bil!E113","v":0},null,null,0,0]
[158,{"$f":"Bil!C114","v":103},{"$f":"Bil!D114","v":0},{"$f":"Bil!E114","v":0},null,null,0,0]
[158,{"$f":"Bil!C115","v":104},{"$f":"Bil!D115","v":0},{"$f":"Bil!E115","v":0},null,null,0,0]
[158,{"$f":"Bil!C116","v":105},{"$f":"Bil!D116","v":0},{"$f":"Bil!E116","v":0},null,null,0,0]
[158,{"$f":"Bil!C117","v":106},{"$f":"Bil!D117","v":0},{"$f":"Bil!E117","v":0},null,null,0,0]
[158,{"$f":"Bil!C118","v":107},{"$f":"Bil!D118","v":0},{"$f":"Bil!E118","v":0},null,null,0,0]
[158,{"$f":"Bil!C119","v":108},{"$f":"Bil!D119","v":0},{"$f":"Bil!E119","v":0},null,null,0,0]
[158,{"$f":"Bil!C120","v":109},{"$f":"Bil!D120","v":0},{"$f":"Bil!E120","v":0},null,null,0,0]
[158,{"$f":"Bil!C121","v":110},{"$f":"Bil!D121","v":0},{"$f":"Bil!E121","v":0},null,null,0,0]
[158,{"$f":"Bil!C122","v":111},{"$f":"Bil!D122","v":0},{"$f":"Bil!E122","v":0},null,null,0,0]
[158,{"$f":"Bil!C123","v":112},{"$f":"Bil!D123","v":0},{"$f":"Bil!E123","v":0},null,null,0,0]
[158,{"$f":"Bil!C124","v":113},{"$f":"Bil!D124","v":0},{"$f":"Bil!E124","v":0},null,null,0,0]
[158,{"$f":"Bil!C125","v":114},{"$f":"Bil!D125","v":0},{"$f":"Bil!E125","v":0},null,null,0,0]
[158,{"$f":"Bil!C126","v":115},{"$f":"Bil!D126","v":0},{"$f":"Bil!E126","v":0},null,null,0,0]
[158,{"$f":"Bil!C127","v":116},{"$f":"Bil!D127","v":0},{"$f":"Bil!E127","v":0},null,null,0,0]
[158,{"$f":"Bil!C128","v":117},{"$f":"Bil!D128","v":0},{"$f":"Bil!E128","v":0},null,null,0,0]
[158,{"$f":"Bil!C129","v":118},{"$f":"Bil!D129","v":0},{"$f":"Bil!E129","v":0},null,null,0,0]
[158,{"$f":"Bil!C130","v":119},{"$f":"Bil!D130","v":0},{"$f":"Bil!E130","v":0},null,null,0,0]
[158,{"$f":"Bil!C131","v":120},{"$f":"Bil!D131","v":0},{"$f":"Bil!E131","v":0},null,null,0,0]
[158,{"$f":"Bil!C132","v":121},{"$f":"Bil!D132","v":0},{"$f":"Bil!E132","v":0},null,null,0,0]
[158,{"$f":"Bil!C133","v":122},{"$f":"Bil!D133","v":0},{"$f":"Bil!E133","v":0},null,null,0,0]
[158,{"$f":"Bil!C134","v":123},{"$f":"Bil!D134","v":0},{"$f":"Bil!E134","v":0},null,null,0,0]
[158,{"$f":"Bil!C135","v":124},{"$f":"Bil!D135","v":0},{"$f":"Bil!E135","v":0},null,null,0,0]
[158,{"$f":"Bil!C136","v":125},{"$f":"Bil!D136","v":0},{"$f":"Bil!E136","v":0},null,null,0,0]
[158,{"$f":"Bil!C137","v":126},{"$f":"Bil!D137","v":0},{"$f":"Bil!E137","v":0},null,null,0,0]
[158,{"$f":"Bil!C138","v":127},{"$f":"Bil!D138","v":0},{"$f":"Bil!E138","v":0},null,null,0,0]
[158,{"$f":"Bil!C139","v":128},{"$f":"Bil!D139","v":0},{"$f":"Bil!E139","v":0},null,null,0,0]
[158,{"$f":"Bil!C140","v":129},{"$f":"Bil!D140","v":0},{"$f":"Bil!E140","v":0},null,null,0,0]
[158,{"$f":"Bil!C141","v":130},{"$f":"Bil!D141","v":0},{"$f":"Bil!E141","v":0},null,null,0,0]
[158,{"$f":"Bil!C142","v":131},{"$f":"Bil!D142","v":0},{"$f":"Bil!E142","v":0},null,null,0,0]
[158,{"$f":"Bil!C143","v":132},{"$f":"Bil!D143","v":0},{"$f":"Bil!E143","v":0},null,null,{"$f":"B1612/1000*C1612+B1612/500*D1612","v":0},{"$f":"ABS(C1612-ROUND(C1612,0))+ABS(D1612-ROUND(D1612,0))","v":0}]
[158,{"$f":"Bil!C144","v":133},{"$f":"Bil!D144","v":0},{"$f":"Bil!E144","v":0},null,null,0,0]
[158,{"$f":"Bil!C145","v":134},{"$f":"Bil!D145","v":0},{"$f":"Bil!E145","v":0},null,null,0,0]
[158,{"$f":"Bil!C146","v":135},{"$f":"Bil!D146","v":0},{"$f":"Bil!E146","v":0},null,null,0,0]
[158,{"$f":"Bil!C147","v":136},{"$f":"Bil!D147","v":0},{"$f":"Bil!E147","v":0},null,null,0,0]
[158,{"$f":"Bil!C148","v":137},{"$f":"Bil!D148","v":0},{"$f":"Bil!E148","v":0},null,null,0,0]
[158,{"$f":"Bil!C149","v":138},{"$f":"Bil!D149","v":0},{"$f":"Bil!E149","v":0},null,null,0,0]
[158,{"$f":"Bil!C150","v":139},{"$f":"Bil!D150","v":0},{"$f":"Bil!E150","v":0},null,null,0,0]
[158,{"$f":"Bil!C151","v":140},{"$f":"Bil!D151","v":0},{"$f":"Bil!E151","v":0},null,null,0,0]
[158,{"$f":"Bil!C152","v":141},{"$f":"Bil!D152","v":0},{"$f":"Bil!E152","v":0},null,null,0,0]
[158,{"$f":"Bil!C153","v":142},{"$f":"Bil!D153","v":0},{"$f":"Bil!E153","v":0},null,null,0,0]
[158,{"$f":"Bil!C154","v":143},{"$f":"Bil!D154","v":718730},{"$f":"Bil!E154","v":673784},null,null,295480.61399999994,0]
[158,{"$f":"Bil!C155","v":144},{"$f":"Bil!D155","v":718730},{"$f":"Bil!E155","v":673784},null,null,297546.91200000001,0]
[158,{"$f":"Bil!C156","v":145},{"$f":"Bil!D156","v":0},{"$f":"Bil!E156","v":0},null,null,0,0]
[158,{"$f":"Bil!C157","v":146},{"$f":"Bil!D157","v":9003557},{"$f":"Bil!E157","v":9485507},null,null,4084287.3659999995,0]
[158,{"$f":"Bil!C158","v":147},{"$f":"Bil!D158","v":912882},{"$f":"Bil!E158","v":912432},null,null,402448.66199999995,0]
[158,{"$f":"Bil!C159","v":148},{"$f":"Bil!D159","v":912882},{"$f":"Bil!E159","v":912432},null,null,405186.40799999994,0]
[158,{"$f":"Bil!C160","v":149},{"$f":"Bil!D160","v":714252},{"$f":"Bil!E160","v":712230},null,null,318668.08799999999,0]
[158,{"$f":"Bil!C161","v":150},{"$f":"Bil!D161","v":191196},{"$f":"Bil!E161","v":176420},null,null,81605.399999999994,0]
[158,{"$f":"Bil!C162","v":151},{"$f":"Bil!D162","v":0},{"$f":"Bil!E162","v":0},null,null,0,0]
[158,{"$f":"Bil!C163","v":152},{"$f":"Bil!D163","v":0},{"$f":"Bil!E163","v":0},null,null,0,0]
[158,{"$f":"Bil!C164","v":153},{"$f":"Bil!D164","v":0},{"$f":"Bil!E164","v":0},null,null,0,0]
[158,{"$f":"Bil!C165","v":154},{"$f":"Bil!D165","v":0},{"$f":"Bil!E165","v":0},null,null,0,0]
[158,{"$f":"Bil!C166","v":155},{"$f":"Bil!D166","v":0},{"$f":"Bil!E166","v":0},null,null,0,0]
[158,{"$f":"Bil!C167","v":156},{"$f":"Bil!D167","v":7434},{"$f":"Bil!E167","v":23782},null,null,8579.6880000000001,0]
[158,{"$f":"Bil!C168","v":157},{"$f":"Bil!D168","v":0},{"$f":"Bil!E168","v":0},null,null,0,0]
[158,{"$f":"Bil!C169","v":158},{"$f":"Bil!D169","v":0},{"$f":"Bil!E169","v":0},null,null,0,0]
[158,{"$f":"Bil!C170","v":159},{"$f":"Bil!D170","v":0},{"$f":"Bil!E170","v":0},null,null,0,0]
[158,{"$f":"Bil!C171","v":160},{"$f":"Bil!D171","v":0},{"$f":"Bil!E171","v":0},null,null,0,0]
[158,{"$f":"Bil!C172","v":161},{"$f":"Bil!D172","v":0},{"$f":"Bil!E172","v":0},null,null,0,0]
[158,{"$f":"Bil!C173","v":162},{"$f":"Bil!D173","v":0},{"$f":"Bil!E173","v":0},null,null,0,0]
[158,{"$f":"Bil!C174","v":163},{"$f":"Bil!D174","v":0},{"$f":"Bil!E174","v":0},null,null,0,0]
[158,{"$f":"Bil!C175","v":164},{"$f":"Bil!D175","v":0},{"$f":"Bil!E175","v":0},null,null,0,0]
[158,{"$f":"Bil!C176","v":165},{"$f":"Bil!D176","v":0},{"$f":"Bil!E176","v":0},null,null,0,0]
[158,{"$f":"Bil!C177","v":166},{"$f":"Bil!D177","v":0},{"$f":"Bil!E177","v":0},null,null,0,0]
[158,{"$f":"Bil!C178","v":167},{"$f":"Bil!D178","v":0},{"$f":"Bil!E178","v":0},null,null,0,0]
[158,{"$f":"Bil!C179","v":168},{"$f":"Bil!D179","v":0},{"$f":"Bil!E179","v":0},null,null,0,0]
[158,{"$f":"Bil!C180","v":169},{"$f":"Bil!D180","v":0},{"$f":"Bil!E180","v":0},null,null,0,0]
[158,{"$f":"Bil!C181","v":170},{"$f":"Bil!D181","v":0},{"$f":"Bil!E181","v":0},null,null,0,0]
[158,{"$f":"Bil!C182","v":171},{"$f":"Bil!D182","v":0},{"$f":"Bil!E182","v":0},null,null,0,0]
[158,{"$f":"Bil!C183","v":172},{"$f":"Bil!D183","v":0},{"$f":"Bil!E183","v":0},null,null,0,0]
[158,{"$f":"Bil!C184","v":173},{"$f":"Bil!D184","v":0},{"$f":"Bil!E184","v":0},null,null,0,0]
[158,{"$f":"Bil!C185","v":174},{"$f":"Bil!D185","v":0},{"$f":"Bil!E185","v":0},null,null,0,0]
[158,{"$f":"Bil!C186","v":175},{"$f":"Bil!D186","v":0},{"$f":"Bil!E186","v":0},null,null,0,0]
[158,{"$f":"Bil!C187","v":176},{"$f":"Bil!D187","v":0},{"$f":"Bil!E187","v":0},null,null,0,0]
[158,{"$f":"Bil!C188","v":177},{"$f":"Bil!D188","v":0},{"$f":"Bil!E188","v":0},null,null,0,0]
[158,{"$f":"Bil!C189","v":178},{"$f":"Bil!D189","v":0},{"$f":"Bil!E189","v":0},null,null,0,0]
[158,{"$f":"Bil!C190","v":179},{"$f":"Bil!D190","v":0},{"$f":"Bil!E190","v":0},null,null,0,0]
[158,{"$f":"Bil!C191","v":180},{"$f":"Bil!D191","v":0},{"$f":"Bil!E191","v":0},null,null,0,0]
[158,{"$f":"Bil!C192","v":181},{"$f":"Bil!D192","v":0},{"$f":"Bil!E192","v":0},null,null,0,0]
[158,{"$f":"Bil!C193","v":182},{"$f":"Bil!D193","v":0},{"$f":"Bil!E193","v":0},null,null,0,0]
[158,{"$f":"Bil!C194","v":183},{"$f":"Bil!D194","v":0},{"$f":"Bil!E194","v":0},null,null,0,0]
[158,{"$f":"Bil!C195","v":184},{"$f":"Bil!D195","v":0},{"$f":"Bil!E195","v":0},null,null,0,0]
[158,{"$f":"Bil!C196","v":185},{"$f":"Bil!D196","v":0},{"$f":"Bil!E196","v":0},null,null,0,0]
[158,{"$f":"Bil!C197","v":186},{"$f":"Bil!D197","v":0},{"$f":"Bil!E197","v":0},null,null,0,0]
[158,{"$f":"Bil!C198","v":187},{"$f":"Bil!D198","v":0},{"$f":"Bil!E198","v":0},null,null,0,0]
[158,{"$f":"Bil!C199","v":188},{"$f":"Bil!D199","v":0},{"$f":"Bil!E199","v":0},null,null,0,0]
[158,{"$f":"Bil!C200","v":189},{"$f":"Bil!D200","v":0},{"$f":"Bil!E200","v":0},null,null,0,0]
[158,{"$f":"Bil!C201","v":190},{"$f":"Bil!D201","v":0},{"$f":"Bil!E201","v":0},null,null,0,0]
[158,{"$f":"Bil!C202","v":191},{"$f":"Bil!D202","v":0},{"$f":"Bil!E202","v":0},null,null,0,0]
[158,{"$f":"Bil!C203","v":192},{"$f":"Bil!D203","v":0},{"$f":"Bil!E203","v":0},null,null,0,0]
[158,{"$f":"Bil!C204","v":193},{"$f":"Bil!D204","v":0},{"$f":"Bil!E204","v":0},null,null,0,0]
[158,{"$f":"Bil!C205","v":194},{"$f":"Bil!D205","v":0},{"$f":"Bil!E205","v":0},null,null,0,0]
[158,{"$f":"Bil!C206","v":195},{"$f":"Bil!D206","v":0},{"$f":"Bil!E206","v":0},null,null,0,0]
[158,{"$f":"Bil!C207","v":196},{"$f":"Bil!D207","v":0},{"$f":"Bil!E207","v":0},null,null,{"$f":"B1676/1000*C1676+B1676/500*D1676","v":0},{"$f":"ABS(C1676-ROUND(C1676,0))+ABS(D1676-ROUND(D1676,0))","v":0}]
[158,{"$f":"Bil!C208","v":197},{"$f":"Bil!D208","v":0},{"$f":"Bil!E208","v":0},null,null,0,0]
[158,{"$f":"Bil!C209","v":198},{"$f":"Bil!D209","v":0},{"$f":"Bil!E209","v":0},null,null,0,0]
[158,{"$f":"Bil!C210","v":199},{"$f":"Bil!D210","v":0},{"$f":"Bil!E210","v":0},null,null,0,0]
[158,{"$f":"Bil!C211","v":200},{"$f":"Bil!D211","v":0},{"$f":"Bil!E211","v":0},null,null,0,0]
[158,{"$f":"Bil!C212","v":201},{"$f":"Bil!D212","v":0},{"$f":"Bil!E212","v":0},null,null,0,0]
[158,{"$f":"Bil!C213","v":202},{"$f":"Bil!D213","v":0},{"$f":"Bil!E213","v":0},null,null,0,0]
[158,{"$f":"Bil!C214","v":203},{"$f":"Bil!D214","v":0},{"$f":"Bil!E214","v":0},null,null,0,0]
[158,{"$f":"Bil!C215","v":204},{"$f":"Bil!D215","v":0},{"$f":"Bil!E215","v":0},null,null,0,0]
[158,{"$f":"Bil!C216","v":205},{"$f":"Bil!D216","v":8090675},{"$f":"Bil!E216","v":8573075},null,null,5173549.125,0]
[158,{"$f":"Bil!C217","v":206},{"$f":"Bil!D217","v":8132792},{"$f":"Bil!E217","v":8410026},null,null,5140285.8640000001,0]
[158,{"$f":"Bil!C218","v":207},{"$f":"Bil!D218","v":8132792},{"$f":"Bil!E218","v":8410026},null,null,5165238.7079999996,0]
[158,{"$f":"Bil!C219","v":208},{"$f":"Bil!D219","v":8132792},{"$f":"Bil!E219","v":8410026},null,null,5190191.5519999992,0]
[158,{"$f":"Bil!C220","v":209},{"$f":"Bil!D220","v":0},{"$f":"Bil!E220","v":0},null,null,0,0]
[158,{"$f":"Bil!C221","v":210},{"$f":"Bil!D221","v":0},{"$f":"Bil!E221","v":0},null,null,0,0]
[158,{"$f":"Bil!C222","v":211},{"$f":"Bil!D222","v":0},{"$f":"Bil!E222","v":0},null,null,0,0]
[158,{"$f":"Bil!C223","v":212},{"$f":"Bil!D223","v":0},{"$f":"Bil!E223","v":0},null,null,0,0]
[158,{"$f":"Bil!C224","v":213},{"$f":"Bil!D224","v":0},{"$f":"Bil!E224","v":0},null,null,0,0]
[158,{"$f":"Bil!C225","v":214},{"$f":"Bil!D225","v":0},{"$f":"Bil!E225","v":163049},null,null,69784.971999999994,0]
[158,{"$f":"Bil!C226","v":215},{"$f":"Bil!D226","v":0},{"$f":"Bil!E226","v":163049},null,null,{"$f":"B1695/1000*C1695+B1695/500*D1695","v":70111.069999999992},{"$f":"ABS(C1695-ROUND(C1695,0))+ABS(D1695-ROUND(D1695,0))","v":0}]
[158,{"$f":"Bil!C227","v":216},{"$f":"Bil!D227","v":0},{"$f":"Bil!E227","v":0},null,null,0,0]
[158,{"$f":"Bil!C228","v":217},{"$f":"Bil!D228","v":0},{"$f":"Bil!E228","v":0},null,null,0,0]
[158,{"$f":"Bil!C229","v":218},{"$f":"Bil!D229","v":42117},{"$f":"Bil!E229","v":0},null,null,9181.5059999999994,0]
[158,{"$f":"Bil!C230","v":219},{"$f":"Bil!D230","v":42117},{"$f":"Bil!E230","v":0},null,null,9223.6229999999996,0]
[158,{"$f":"Bil!C231","v":220},{"$f":"Bil!D231","v":0},{"$f":"Bil!E231","v":0},null,null,0,0]
[158,{"$f":"Bil!C232","v":221},{"$f":"Bil!D232","v":0},{"$f":"Bil!E232","v":0},null,null,0,0]
[158,{"$f":"Bil!C233","v":222},{"$f":"Bil!D233","v":0},{"$f":"Bil!E233","v":0},null,null,0,0]
[158,{"$f":"Bil!C234","v":223},{"$f":"Bil!D234","v":0},{"$f":"Bil!E234","v":0},null,null,0,0]
[158,{"$f":"Bil!C235","v":224},{"$f":"Bil!D235","v":0},{"$f":"Bil!E235","v":0},null,null,0,0]
[158,{"$f":"Bil!C236","v":225},{"$f":"Bil!D236","v":0},{"$f":"Bil!E236","v":0},null,null,0,0]
[158,{"$f":"Bil!C237","v":226},{"$f":"Bil!D237","v":0},{"$f":"Bil!E237","v":0},null,null,0,0]
[158,{"$f":"Bil!C238","v":227},{"$f":"Bil!D238","v":0},{"$f":"Bil!E238","v":0},null,null,0,0]
[158,{"$f":"Bil!C240","v":228},{"$f":"Bil!D240","v":0},{"$f":"Bil!E240","v":0},null,null,0,0]
[158,{"$f":"Bil!C241","v":229},{"$f":"Bil!D241","v":0},{"$f":"Bil!E241","v":0},null,null,0,0]
[158,{"$f":"Bil!C242","v":230},{"$f":"Bil!D242","v":0},{"$f":"Bil!E242","v":0},null,null,0,0]
[158,{"$f":"Bil!C243","v":231},{"$f":"Bil!D243","v":0},{"$f":"Bil!E243","v":0},null,null,0,0]
[158,{"$f":"Bil!C244","v":232},{"$f":"Bil!D244","v":0},{"$f":"Bil!E244","v":0},null,null,0,0]
[158,{"$f":"Bil!C245","v":233},{"$f":"Bil!D245","v":0},{"$f":"Bil!E245","v":0},null,null,0,0]
[158,{"$f":"Bil!C246","v":234},{"$f":"Bil!D246","v":0},{"$f":"Bil!E246","v":0},null,null,0,0]
[158,{"$f":"Bil!C247","v":235},{"$f":"Bil!D247","v":0},{"$f":"Bil!E247","v":0},null,null,0,0]
[158,{"$f":"Bil!C248","v":236},{"$f":"Bil!D248","v":0},{"$f":"Bil!E248","v":0},null,null,0,0]
[158,{"$f":"Bil!C249","v":237},{"$f":"Bil!D249","v":0},{"$f":"Bil!E249","v":0},null,null,0,0]
[158,{"$f":"Bil!C250","v":238},{"$f":"Bil!D250","v":0},{"$f":"Bil!E250","v":0},null,null,0,0]
[158,{"$f":"Bil!C251","v":239},{"$f":"Bil!D251","v":0},{"$f":"Bil!E251","v":0},null,null,0,0]
[158,{"$f":"Bil!C252","v":240},{"$f":"Bil!D252","v":0},{"$f":"Bil!E252","v":0},null,null,0,0]
[158,{"$f":"Bil!C253","v":241},{"$f":"Bil!D253","v":0},{"$f":"Bil!E253","v":0},null,null,0,0]
[158,{"$f":"Bil!C254","v":242},{"$f":"Bil!D254","v":0},{"$f":"Bil!E254","v":0},null,null,0,0]
[158,{"$f":"Bil!C255","v":243},{"$f":"Bil!D255","v":0},{"$f":"Bil!E255","v":0},null,null,0,0]
[158,{"$f":"Bil!C256","v":244},{"$f":"Bil!D256","v":0},{"$f":"Bil!E256","v":0},null,null,0,0]
[158,{"$f":"Bil!C257","v":245},{"$f":"Bil!D257","v":0},{"$f":"Bil!E257","v":0},null,null,0,0]
[158,{"$f":"Bil!C258","v":246},{"$f":"Bil!D258","v":0},{"$f":"Bil!E258","v":0},null,null,0,0]
[158,{"$f":"Bil!C259","v":247},{"$f":"Bil!D259","v":0},{"$f":"Bil!E259","v":0},null,null,0,0]
[158,{"$f":"Bil!C260","v":248},{"$f":"Bil!D260","v":0},{"$f":"Bil!E260","v":0},null,null,0,0]
[158,{"$f":"Bil!C261","v":249},{"$f":"Bil!D261","v":0},{"$f":"Bil!E261","v":0},null,null,0,0]
[158,{"$f":"Bil!C262","v":250},{"$f":"Bil!D262","v":0},{"$f":"Bil!E262","v":0},null,null,0,0]
[158,{"$f":"Bil!C263","v":251},{"$f":"Bil!D263","v":0},{"$f":"Bil!E263","v":0},null,null,0,0]
[158,{"$f":"Bil!C264","v":252},{"$f":"Bil!D264","v":0},{"$f":"Bil!E264","v":0},null,null,0,0]
[158,{"$f":"Bil!C265","v":253},{"$f":"Bil!D265","v":0},{"$f":"Bil!E265","v":0},null,null,0,0]
[158,{"$f":"Bil!C266","v":254},{"$f":"Bil!D266","v":0},{"$f":"Bil!E266","v":0},null,null,0,0]
[158,{"$f":"Bil!C267","v":255},{"$f":"Bil!D267","v":0},{"$f":"Bil!E267","v":0},null,null,0,0]
[158,{"$f":"Bil!C268","v":256},{"$f":"Bil!D268","v":0},{"$f":"Bil!E268","v":0},null,null,0,0]
[158,{"$f":"Bil!C269","v":257},{"$f":"Bil!D269","v":0},{"$f":"Bil!E269","v":0},null,null,0,0]
[158,{"$f":"Bil!C270","v":258},{"$f":"Bil!D270","v":0},{"$f":"Bil!E270","v":0},null,null,0,0]
[158,{"$f":"Bil!C271","v":259},{"$f":"Bil!D271","v":0},{"$f":"Bil!E271","v":0},null,null,0,0]
[158,{"$f":"Bil!C272","v":260},{"$f":"Bil!D272","v":0},{"$f":"Bil!E272","v":0},null,null,0,0]
[158,{"$f":"Bil!C273","v":261},{"$f":"Bil!D273","v":0},{"$f":"Bil!E273","v":0},null,null,0,0]
[158,{"$f":"Bil!C274","v":262},{"$f":"Bil!D274","v":0},{"$f":"Bil!E274","v":0},null,null,0,0]
[158,{"$f":"Bil!C276","v":263},{"$f":"Bil!D276","v":0},{"$f":"Bil!E276","v":0},null,null,0,0]
[158,{"$f":"Bil!C277","v":264},{"$f":"Bil!D277","v":0},{"$f":"Bil!E277","v":0},null,null,0,0]
[158,{"$f":"Bil!C278","v":265},{"$f":"Bil!D278","v":0},{"$f":"Bil!E278","v":0},null,null,0,0]
[158,{"$f":"Bil!C279","v":266},{"$f":"Bil!D279","v":0},{"$f":"Bil!E279","v":0},null,null,0,0]
[158,{"$f":"Bil!C280","v":267},{"$f":"Bil!D280","v":0},{"$f":"Bil!E280","v":0},null,null,0,0]
[158,{"$f":"Bil!C281","v":268},{"$f":"Bil!D281","v":0},{"$f":"Bil!E281","v":0},null,null,0,0]
[158,{"$f":"Bil!C282","v":269},{"$f":"Bil!D282","v":0},{"$f":"Bil!E282","v":0},null,null,0,0]
[158,{"$f":"Bil!C283","v":270},{"$f":"Bil!D283","v":0},{"$f":"Bil!E283","v":0},null,null,0,0]
[158,{"$f":"Bil!C285","v":271},{"$f":"Bil!D285","v":0},{"$f":"Bil!E285","v":0},null,null,0,0]
[158,{"$f":"Bil!C286","v":272},{"$f":"Bil!D286","v":0},{"$f":"Bil!E286","v":0},null,null,0,0]
[158,{"$f":"Bil!C287","v":273},{"$f":"Bil!D287","v":0},{"$f":"Bil!E287","v":0},null,null,0,0]
[158,{"$f":"Bil!C288","v":274},{"$f":"Bil!D288","v":0},{"$f":"Bil!E288","v":0},null,null,0,0]
[158,{"$f":"Bil!C289","v":275},{"$f":"Bil!D289","v":0},{"$f":"Bil!E289","v":0},null,null,0,0]
[{"$f":"IF(RefStr!K12-RefStr!K10 < 32,160,159)","v":159},{"$f":"Obv!C12","v":1},{"$f":"Obv!D12","v":0},null,null,null,{"$f":"B1756/1000*C1756","v":0},{"$f":"ABS(C1756-ROUND(C1756,0))","v":0}]
[{"$f":"A$1756","v":159},{"$f":"Obv!C13","v":2},{"$f":"Obv!D13","v":0},null,null,null,{"$f":"B1757/1000*C1757","v":0},{"$f":"ABS(C1757-ROUND(C1757,0))","v":0}]
[{"$f":"A$1756","v":159},{"$f":"Obv!C14","v":3},{"$f":"Obv!D14","v":0},null,null,null,{"$f":"B1758/1000*C1758","v":0},{"$f":"ABS(C1758-ROUND(C1758,0))","v":0}]
[{"$f":"A$1756","v":159},{"$f":"Obv!C15","v":4},{"$f":"Obv!D15","v":0},null,null,null,{"$f":"B1759/1000*C1759","v":0},{"$f":"ABS(C1759-ROUND(C1759,0))","v":0}]
[{"$f":"A$1756","v":159},{"$f":"Obv!C16","v":5},{"$f":"Obv!D16","v":0},null,null,null,{"$f":"B1760/1000*C1760","v":0},{"$f":"ABS(C1760-ROUND(C1760,0))","v":0}]
[159,{"$f":"Obv!C17","v":6},{"$f":"Obv!D17","v":0},null,null,null,0,0]
[159,{"$f":"Obv!C18","v":7},{"$f":"Obv!D18","v":0},null,null,null,0,0]
[159,{"$f":"Obv!C19","v":8},{"$f":"Obv!D19","v":0},null,null,null,0,0]
[159,{"$f":"Obv!C20","v":9},{"$f":"Obv!D20","v":0},null,null,null,0,0]
[159,{"$f":"Obv!C21","v":10},{"$f":"Obv!D21","v":0},null,null,null,0,0]
[159,{"$f":"Obv!C22","v":11},{"$f":"Obv!D22","v":0},null,null,null,0,0]
[159,{"$f":"Obv!C23","v":12},{"$f":"Obv!D23","v":0},null,null,null,0,0]
[159,{"$f":"Obv!C24","v":13},{"$f":"Obv!D24","v":0},null,null,null,0,0]
[159,{"$f":"Obv!C25","v":14},{"$f":"Obv!D25","v":0},null,null,null,0,0]
[159,{"$f":"Obv!C26","v":15},{"$f":"Obv!D26","v":0},null,null,null,0,0]
[159,{"$f":"Obv!C27","v":16},{"$f":"Obv!D27","v":0},null,null,null,0,0]
[159,{"$f":"Obv!C28","v":17},{"$f":"Obv!D28","v":0},null,null,null,0,0]
[159,{"$f":"Obv!C29","v":18},{"$f":"Obv!D29","v":0},null,null,null,0,0]
[159,{"$f":"Obv!C30","v":19},{"$f":"Obv!D30","v":0},null,null,null,0,0]
[159,{"$f":"Obv!C31","v":20},{"$f":"Obv!D31","v":0},null,null,null,0,0]
[159,{"$f":"Obv!C32","v":21},{"$f":"Obv!D32","v":0},null,null,null,0,0]
[159,{"$f":"Obv!C33","v":22},{"$f":"Obv!D33","v":0},null,null,null,0,0]
[159,{"$f":"Obv!C34","v":23},{"$f":"Obv!D34","v":0},null,null,null,0,0]
[159,{"$f":"Obv!C35","v":24},{"$f":"Obv!D35","v":0},null,null,null,0,0]
[159,{"$f":"Obv!C36","v":25},{"$f":"Obv!D36","v":0},null,null,null,0,0]
[159,{"$f":"Obv!C37","v":26},{"$f":"Obv!D37","v":0},null,null,null,0,0]
[159,{"$f":"Obv!C38","v":27},{"$f":"Obv!D38","v":0},null,null,null,0,0]
[159,{"$f":"Obv!C39","v":28},{"$f":"Obv!D39","v":0},null,null,null,0,0]
[159,{"$f":"Obv!C40","v":29},{"$f":"Obv!D40","v":0},null,null,null,0,0]
[159,{"$f":"Obv!C41","v":30},{"$f":"Obv!D41","v":0},null,null,null,0,0]
[159,{"$f":"Obv!C42","v":31},{"$f":"Obv!D42","v":0},null,null,null,0,0]
[159,{"$f":"Obv!C43","v":32},{"$f":"Obv!D43","v":0},null,null,null,0,0]
[159,{"$f":"Obv!C44","v":33},{"$f":"Obv!D44","v":0},null,null,null,0,0]
[159,{"$f":"Obv!C45","v":34},{"$f":"Obv!D45","v":0},null,null,null,0,0]
[159,{"$f":"Obv!C46","v":35},{"$f":"Obv!D46","v":0},null,null,null,0,0]
[159,{"$f":"Obv!C47","v":36},{"$f":"Obv!D47","v":0},null,null,null,0,0]
[159,{"$f":"Obv!C48","v":37},{"$f":"Obv!D48","v":0},null,null,null,0,0]
[159,{"$f":"Obv!C49","v":38},{"$f":"Obv!D49","v":0},null,null,null,0,0]
[159,{"$f":"Obv!C50","v":39},{"$f":"Obv!D50","v":0},null,null,null,0,0]
[159,{"$f":"Obv!C51","v":40},{"$f":"Obv!D51","v":0},null,null,null,0,0]
[159,{"$f":"Obv!C52","v":41},{"$f":"Obv!D52","v":0},null,null,null,0,0]
[159,{"$f":"Obv!C53","v":42},{"$f":"Obv!D53","v":0},null,null,null,0,0]
[159,{"$f":"Obv!C54","v":43},{"$f":"Obv!D54","v":0},null,null,null,0,0]
[159,{"$f":"Obv!C55","v":44},{"$f":"Obv!D55","v":0},null,null,null,0,0]
[159,{"$f":"Obv!C56","v":45},{"$f":"Obv!D56","v":0},null,null,null,0,0]
[159,{"$f":"Obv!C57","v":46},{"$f":"Obv!D57","v":0},null,null,null,0,0]
[159,{"$f":"Obv!C58","v":47},{"$f":"Obv!D58","v":0},null,null,null,0,0]
[159,{"$f":"Obv!C59","v":48},{"$f":"Obv!D59","v":0},null,null,null,0,0]
[159,{"$f":"Obv!C60","v":49},{"$f":"Obv!D60","v":0},null,null,null,0,0]
[159,{"$f":"Obv!C61","v":50},{"$f":"Obv!D61","v":0},null,null,null,0,0]
[159,{"$f":"Obv!C62","v":51},{"$f":"Obv!D62","v":0},null,null,null,0,0]
[159,{"$f":"Obv!C63","v":52},{"$f":"Obv!D63","v":0},null,null,null,0,0]
[159,{"$f":"Obv!C64","v":53},{"$f":"Obv!D64","v":0},null,null,null,0,0]
[159,{"$f":"Obv!C65","v":54},{"$f":"Obv!D65","v":0},null,null,null,0,0]
[159,{"$f":"Obv!C66","v":55},{"$f":"Obv!D66","v":0},null,null,null,0,0]
[159,{"$f":"Obv!C67","v":56},{"$f":"Obv!D67","v":0},null,null,null,0,0]
[159,{"$f":"Obv!C68","v":57},{"$f":"Obv!D68","v":0},null,null,null,0,0]
[159,{"$f":"Obv!C69","v":58},{"$f":"Obv!D69","v":0},null,null,null,0,0]
[159,{"$f":"Obv!C70","v":59},{"$f":"Obv!D70","v":0},null,null,null,0,0]
[159,{"$f":"Obv!C71","v":60},{"$f":"Obv!D71","v":0},null,null,null,0,0]
[159,{"$f":"Obv!C72","v":61},{"$f":"Obv!D72","v":0},null,null,null,0,0]
[159,{"$f":"Obv!C73","v":62},{"$f":"Obv!D73","v":0},null,null,null,0,0]
[159,{"$f":"Obv!C74","v":63},{"$f":"Obv!D74","v":0},null,null,null,0,0]
[159,{"$f":"Obv!C75","v":64},{"$f":"Obv!D75","v":0},null,null,null,0,0]
[159,{"$f":"Obv!C76","v":65},{"$f":"Obv!D76","v":0},null,null,null,0,0]
[159,{"$f":"Obv!C77","v":66},{"$f":"Obv!D77","v":0},null,null,null,0,0]
[159,{"$f":"Obv!C78","v":67},{"$f":"Obv!D78","v":0},null,null,null,0,0]
[159,{"$f":"Obv!C79","v":68},{"$f":"Obv!D79","v":0},null,null,null,0,0]
[{"$f":"A$1756","v":159},{"$f":"Obv!C80","v":69},{"$f":"Obv!D80","v":0},null,null,null,{"$f":"B1824/1000*C1824","v":0},{"$f":"ABS(C1824-ROUND(C1824,0))","v":0}]
[159,{"$f":"Obv!C81","v":70},{"$f":"Obv!D81","v":0},null,null,null,0,0]
[159,{"$f":"Obv!C82","v":71},{"$f":"Obv!D82","v":0},null,null,null,0,0]
[159,{"$f":"Obv!C83","v":72},{"$f":"Obv!D83","v":0},null,null,null,0,0]
[159,{"$f":"Obv!C84","v":73},{"$f":"Obv!D84","v":0},null,null,null,0,0]
[159,{"$f":"Obv!C85","v":74},{"$f":"Obv!D85","v":0},null,null,null,0,0]
[159,{"$f":"Obv!C86","v":75},{"$f":"Obv!D86","v":0},null,null,null,0,0]
[159,{"$f":"Obv!C87","v":76},{"$f":"Obv!D87","v":0},null,null,null,0,0]
[159,{"$f":"Obv!C88","v":77},{"$f":"Obv!D88","v":0},null,null,null,0,0]
[159,{"$f":"Obv!C89","v":78},{"$f":"Obv!D89","v":0},null,null,null,0,0]
[159,{"$f":"Obv!C90","v":79},{"$f":"Obv!D90","v":0},null,null,null,0,0]
[159,{"$f":"Obv!C91","v":80},{"$f":"Obv!D91","v":0},null,null,null,0,0]
[159,{"$f":"Obv!C92","v":81},{"$f":"Obv!D92","v":0},null,null,null,0,0]
[159,{"$f":"Obv!C93","v":82},{"$f":"Obv!D93","v":0},null,null,null,0,0]
[159,{"$f":"Obv!C94","v":83},{"$f":"Obv!D94","v":0},null,null,null,{"$f":"B1838/1000*C1838","v":0},{"$f":"ABS(C1838-ROUND(C1838,0))","v":0}]
[159,{"$f":"Obv!C95","v":84},{"$f":"Obv!D95","v":0},null,null,null,{"$f":"B1839/1000*C1839","v":0},{"$f":"ABS(C1839-ROUND(C1839,0))","v":0}]
[159,{"$f":"Obv!C96","v":85},{"$f":"Obv!D96","v":0},null,null,null,{"$f":"B1840/1000*C1840","v":0},{"$f":"ABS(C1840-ROUND(C1840,0))","v":0}]
[159,{"$f":"Obv!C97","v":86},{"$f":"Obv!D97","v":0},null,null,null,0,0]
[159,{"$f":"Obv!C98","v":87},{"$f":"Obv!D98","v":0},null,null,null,0,0]
[159,{"$f":"Obv!C99","v":88},{"$f":"Obv!D99","v":0},null,null,null,0,0]
[159,{"$f":"Obv!C100","v":89},{"$f":"Obv!D100","v":0},null,null,null,0,0]
[159,{"$f":"Obv!C101","v":90},{"$f":"Obv!D101","v":0},null,null,null,0,0]
[159,{"$f":"Obv!C102","v":91},{"$f":"Obv!D102","v":0},null,null,null,0,0]
[159,{"$f":"Obv!C103","v":92},{"$f":"Obv!D103","v":0},null,null,null,0,0]
[159,{"$f":"Obv!C104","v":93},{"$f":"Obv!D104","v":0},null,null,null,0,0]
[159,{"$f":"Obv!C105","v":94},{"$f":"Obv!D105","v":0},null,null,null,0,0]
[161,{"$f":"SPRRAS!C12","v":1},{"$f":"SPRRAS!D12","v":0},{"$f":"SPRRAS!E12","v":0},null,null,{"$f":"B1850/1000*C1850+B1850/500*D1850","v":0},{"$f":"ABS(C1850-ROUND(C1850,0))+ABS(D1850-ROUND(D1850,0))","v":0}]
[161,{"$f":"SPRRAS!C13","v":2},{"$f":"SPRRAS!D13","v":0},{"$f":"SPRRAS!E13","v":0},null,null,{"$f":"B1851/1000*C1851+B1851/500*D1851","v":0},{"$f":"ABS(C1851-ROUND(C1851,0))+ABS(D1851-ROUND(D1851,0))","v":0}]
[161,{"$f":"SPRRAS!C14","v":3},{"$f":"SPRRAS!D14","v":0},{"$f":"SPRRAS!E14","v":0},null,null,{"$f":"B1852/1000*C1852+B1852/500*D1852","v":0},{"$f":"ABS(C1852-ROUND(C1852,0))+ABS(D1852-ROUND(D1852,0))","v":0}]
[161,{"$f":"SPRRAS!C15","v":4},{"$f":"SPRRAS!D15","v":0},{"$f":"SPRRAS!E15","v":0},null,null,{"$f":"B1853/1000*C1853+B1853/500*D1853","v":0},{"$f":"ABS(C1853-ROUND(C1853,0))+ABS(D1853-ROUND(D1853,0))","v":0}]
[161,{"$f":"SPRRAS!C16","v":5},{"$f":"SPRRAS!D16","v":0},{"$f":"SPRRAS!E16","v":0},null,null,0,0]
[161,{"$f":"SPRRAS!C17","v":6},{"$f":"SPRRAS!D17","v":0},{"$f":"SPRRAS!E17","v":0},null,null,0,0]
[161,{"$f":"SPRRAS!C18","v":7},{"$f":"SPRRAS!D18","v":0},{"$f":"SPRRAS!E18","v":0},null,null,0,0]
[161,{"$f":"SPRRAS!C19","v":8},{"$f":"SPRRAS!D19","v":0},{"$f":"SPRRAS!E19","v":0},null,null,0,0]
[161,{"$f":"SPRRAS!C20","v":9},{"$f":"SPRRAS!D20","v":0},{"$f":"SPRRAS!E20","v":0},null,null,0,0]
[161,{"$f":"SPRRAS!C21","v":10},{"$f":"SPRRAS!D21","v":0},{"$f":"SPRRAS!E21","v":0},null,null,0,0]
[161,{"$f":"SPRRAS!C22","v":11},{"$f":"SPRRAS!D22","v":0},{"$f":"SPRRAS!E22","v":0},null,null,0,0]
[161,{"$f":"SPRRAS!C23","v":12},{"$f":"SPRRAS!D23","v":0},{"$f":"SPRRAS!E23","v":0},null,null,0,0]
[161,{"$f":"SPRRAS!C24","v":13},{"$f":"SPRRAS!D24","v":0},{"$f":"SPRRAS!E24","v":0},null,null,0,0]
[161,{"$f":"SPRRAS!C25","v":14},{"$f":"SPRRAS!D25","v":0},{"$f":"SPRRAS!E25","v":0},null,null,0,0]
[161,{"$f":"SPRRAS!C26","v":15},{"$f":"SPRRAS!D26","v":0},{"$f":"SPRRAS!E26","v":0},null,null,0,0]
[161,{"$f":"SPRRAS!C27","v":16},{"$f":"SPRRAS!D27","v":0},{"$f":"SPRRAS!E27","v":0},null,null,0,0]
[161,{"$f":"SPRRAS!C28","v":17},{"$f":"SPRRAS!D28","v":0},{"$f":"SPRRAS!E28","v":0},null,null,0,0]
[161,{"$f":"SPRRAS!C29","v":18},{"$f":"SPRRAS!D29","v":0},{"$f":"SPRRAS!E29","v":0},null,null,0,0]
[161,{"$f":"SPRRAS!C30","v":19},{"$f":"SPRRAS!D30","v":0},{"$f":"SPRRAS!E30","v":0},null,null,0,0]
[161,{"$f":"SPRRAS!C31","v":20},{"$f":"SPRRAS!D31","v":0},{"$f":"SPRRAS!E31","v":0},null,null,0,0]
[161,{"$f":"SPRRAS!C32","v":21},{"$f":"SPRRAS!D32","v":0},{"$f":"SPRRAS!E32","v":0},null,null,0,0]
[161,{"$f":"SPRRAS!C33","v":22},{"$f":"SPRRAS!D33","v":0},{"$f":"SPRRAS!E33","v":0},null,null,0,0]
[161,{"$f":"SPRRAS!C34","v":23},{"$f":"SPRRAS!D34","v":0},{"$f":"SPRRAS!E34","v":0},null,null,0,0]
[161,{"$f":"SPRRAS!C35","v":24},{"$f":"SPRRAS!D35","v":0},{"$f":"SPRRAS!E35","v":0},null,null,0,0]
[161,{"$f":"SPRRAS!C36","v":25},{"$f":"SPRRAS!D36","v":0},{"$f":"SPRRAS!E36","v":0},null,null,0,0]
[161,{"$f":"SPRRAS!C37","v":26},{"$f":"SPRRAS!D37","v":0},{"$f":"SPRRAS!E37","v":0},null,null,0,0]
[161,{"$f":"SPRRAS!C38","v":27},{"$f":"SPRRAS!D38","v":0},{"$f":"SPRRAS!E38","v":0},null,null,0,0]
[161,{"$f":"SPRRAS!C39","v":28},{"$f":"SPRRAS!D39","v":0},{"$f":"SPRRAS!E39","v":0},null,null,0,0]
[161,{"$f":"SPRRAS!C41","v":29},{"$f":"SPRRAS!D41","v":0},{"$f":"SPRRAS!E41","v":0},null,null,0,0]
[161,{"$f":"SPRRAS!C42","v":30},{"$f":"SPRRAS!D42","v":0},{"$f":"SPRRAS!E42","v":0},null,null,0,0]
[161,{"$f":"SPRRAS!C43","v":31},{"$f":"SPRRAS!D43","v":0},{"$f":"SPRRAS!E43","v":0},null,null,0,0]
[161,{"$f":"SPRRAS!C44","v":32},{"$f":"SPRRAS!D44","v":0},{"$f":"SPRRAS!E44","v":0},null,null,0,0]
[161,{"$f":"SPRRAS!C45","v":33},{"$f":"SPRRAS!D45","v":0},{"$f":"SPRRAS!E45","v":0},null,null,0,0]
[161,{"$f":"SPRRAS!C46","v":34},{"$f":"SPRRAS!D46","v":0},{"$f":"SPRRAS!E46","v":0},null,null,0,0]
[161,{"$f":"SPRRAS!C47","v":35},{"$f":"SPRRAS!D47","v":0},{"$f":"SPRRAS!E47","v":0},null,null,0,0]
[161,{"$f":"SPRRAS!C48","v":36},{"$f":"SPRRAS!D48","v":0},{"$f":"SPRRAS!E48","v":0},null,null,0,0]
[161,{"$f":"SPRRAS!C49","v":37},{"$f":"SPRRAS!D49","v":0},{"$f":"SPRRAS!E49","v":0},null,null,0,0]
[161,{"$f":"SPRRAS!C50","v":38},{"$f":"SPRRAS!D50","v":0},{"$f":"SPRRAS!E50","v":0},null,null,0,0]
[161,{"$f":"SPRRAS!C51","v":39},{"$f":"SPRRAS!D51","v":0},{"$f":"SPRRAS!E51","v":0},null,null,0,0]
[161,{"$f":"SPRRAS!C52","v":40},{"$f":"SPRRAS!D52","v":0},{"$f":"SPRRAS!E52","v":0},null,null,0,0]
[161,{"$f":"SPRRAS!C53","v":41},{"$f":"SPRRAS!D53","v":0},{"$f":"SPRRAS!E53","v":0},null,null,0,0]
[161,{"$f":"SPRRAS!C54","v":42},{"$f":"SPRRAS!D54","v":0},{"$f":"SPRRAS!E54","v":0},null,null,0,0]
[161,{"$f":"SPRRAS!C55","v":43},{"$f":"SPRRAS!D55","v":0},{"$f":"SPRRAS!E55","v":0},null,null,0,0]
[161,{"$f":"SPRRAS!C56","v":44},{"$f":"SPRRAS!D56","v":0},{"$f":"SPRRAS!E56","v":0},null,null,0,0]
[161,{"$f":"SPRRAS!C57","v":45},{"$f":"SPRRAS!D57","v":0},{"$f":"SPRRAS!E57","v":0},null,null,0,0]
[161,{"$f":"SPRRAS!C58","v":46},{"$f":"SPRRAS!D58","v":0},{"$f":"SPRRAS!E58","v":0},null,null,0,0]
[161,{"$f":"SPRRAS!C59","v":47},{"$f":"SPRRAS!D59","v":0},{"$f":"SPRRAS!E59","v":0},null,null,0,0]
[161,{"$f":"SPRRAS!C60","v":48},{"$f":"SPRRAS!D60","v":0},{"$f":"SPRRAS!E60","v":0},null,null,0,0]
[161,{"$f":"SPRRAS!C61","v":49},{"$f":"SPRRAS!D61","v":0},{"$f":"SPRRAS!E61","v":0},null,null,0,0]
[161,{"$f":"SPRRAS!C62","v":50},{"$f":"SPRRAS!D62","v":0},{"$f":"SPRRAS!E62","v":0},null,null,0,0]
[161,{"$f":"SPRRAS!C63","v":51},{"$f":"SPRRAS!D63","v":0},{"$f":"SPRRAS!E63","v":0},null,null,0,0]
[161,{"$f":"SPRRAS!C64","v":52},{"$f":"SPRRAS!D64","v":0},{"$f":"SPRRAS!E64","v":0},null,null,0,0]
[161,{"$f":"SPRRAS!C65","v":53},{"$f":"SPRRAS!D65","v":0},{"$f":"SPRRAS!E65","v":0},null,null,0,0]
[161,{"$f":"SPRRAS!C66","v":54},{"$f":"SPRRAS!D66","v":0},{"$f":"SPRRAS!E66","v":0},null,null,0,0]
[161,{"$f":"SPRRAS!C67","v":55},{"$f":"SPRRAS!D67","v":0},{"$f":"SPRRAS!E67","v":0},null,null,0,0]
[161,{"$f":"SPRRAS!C68","v":56},{"$f":"SPRRAS!D68","v":0},{"$f":"SPRRAS!E68","v":0},null,null,0,0]
[161,{"$f":"SPRRAS!C69","v":57},{"$f":"SPRRAS!D69","v":0},{"$f":"SPRRAS!E69","v":0},null,null,0,0]
[161,{"$f":"SPRRAS!C70","v":58},{"$f":"SPRRAS!D70","v":0},{"$f":"SPRRAS!E70","v":0},null,null,0,0]
[161,{"$f":"SPRRAS!C71","v":59},{"$f":"SPRRAS!D71","v":0},{"$f":"SPRRAS!E71","v":0},null,null,0,0]
[161,{"$f":"SPRRAS!C72","v":60},{"$f":"SPRRAS!D72","v":0},{"$f":"SPRRAS!E72","v":0},null,null,0,0]
[161,{"$f":"SPRRAS!C73","v":61},{"$f":"SPRRAS!D73","v":0},{"$f":"SPRRAS!E73","v":0},null,null,0,0]
[161,{"$f":"SPRRAS!C74","v":62},{"$f":"SPRRAS!D74","v":0},{"$f":"SPRRAS!E74","v":0},null,null,0,0]
[161,{"$f":"SPRRAS!C75","v":63},{"$f":"SPRRAS!D75","v":0},{"$f":"SPRRAS!E75","v":0},null,null,0,0]
[161,{"$f":"SPRRAS!C76","v":64},{"$f":"SPRRAS!D76","v":0},{"$f":"SPRRAS!E76","v":0},null,null,0,0]
[161,{"$f":"SPRRAS!C77","v":65},{"$f":"SPRRAS!D77","v":0},{"$f":"SPRRAS!E77","v":0},null,null,0,0]
[161,{"$f":"SPRRAS!C78","v":66},{"$f":"SPRRAS!D78","v":0},{"$f":"SPRRAS!E78","v":0},null,null,0,0]
[161,{"$f":"SPRRAS!C79","v":67},{"$f":"SPRRAS!D79","v":0},{"$f":"SPRRAS!E79","v":0},null,null,{"$f":"B1916/1000*C1916+B1916/500*D1916","v":0},{"$f":"ABS(C1916-ROUND(C1916,0))+ABS(D1916-ROUND(D1916,0))","v":0}]
[161,{"$f":"SPRRAS!C80","v":68},{"$f":"SPRRAS!D80","v":0},{"$f":"SPRRAS!E80","v":0},null,null,0,0]
[161,{"$f":"SPRRAS!C81","v":69},{"$f":"SPRRAS!D81","v":0},{"$f":"SPRRAS!E81","v":0},null,null,0,0]
[161,{"$f":"SPRRAS!C82","v":70},{"$f":"SPRRAS!D82","v":0},{"$f":"SPRRAS!E82","v":0},null,null,0,0]
[161,{"$f":"SPRRAS!C83","v":71},{"$f":"SPRRAS!D83","v":0},{"$f":"SPRRAS!E83","v":0},null,null,0,0]
[161,{"$f":"SPRRAS!C84","v":72},{"$f":"SPRRAS!D84","v":0},{"$f":"SPRRAS!E84","v":0},null,null,0,0]
[161,{"$f":"SPRRAS!C85","v":73},{"$f":"SPRRAS!D85","v":0},{"$f":"SPRRAS!E85","v":0},null,null,0,0]
[161,{"$f":"SPRRAS!C86","v":74},{"$f":"SPRRAS!D86","v":0},{"$f":"SPRRAS!E86","v":0},null,null,0,0]
[161,{"$f":"SPRRAS!C87","v":75},{"$f":"SPRRAS!D87","v":0},{"$f":"SPRRAS!E87","v":0},null,null,0,0]
[161,{"$f":"SPRRAS!C88","v":76},{"$f":"SPRRAS!D88","v":0},{"$f":"SPRRAS!E88","v":0},null,null,0,0]
[161,{"$f":"SPRRAS!C89","v":77},{"$f":"SPRRAS!D89","v":0},{"$f":"SPRRAS!E89","v":0},null,null,0,0]
[161,{"$f":"SPRRAS!C90","v":78},{"$f":"SPRRAS!D90","v":0},{"$f":"SPRRAS!E90","v":0},null,null,0,0]
[161,{"$f":"SPRRAS!C91","v":79},{"$f":"SPRRAS!D91","v":0},{"$f":"SPRRAS!E91","v":0},null,null,0,0]
[161,{"$f":"SPRRAS!C92","v":80},{"$f":"SPRRAS!D92","v":0},{"$f":"SPRRAS!E92","v":0},null,null,0,0]
[161,{"$f":"SPRRAS!C93","v":81},{"$f":"SPRRAS!D93","v":0},{"$f":"SPRRAS!E93","v":0},null,null,0,0]
[161,{"$f":"SPRRAS!C94","v":82},{"$f":"SPRRAS!D94","v":0},{"$f":"SPRRAS!E94","v":0},null,null,0,0]
[161,{"$f":"SPRRAS!C95","v":83},{"$f":"SPRRAS!D95","v":0},{"$f":"SPRRAS!E95","v":0},null,null,0,0]
[161,{"$f":"SPRRAS!C96","v":84},{"$f":"SPRRAS!D96","v":0},{"$f":"SPRRAS!E96","v":0},null,null,0,0]
[161,{"$f":"SPRRAS!C97","v":85},{"$f":"SPRRAS!D97","v":0},{"$f":"SPRRAS!E97","v":0},null,null,0,0]
[161,{"$f":"SPRRAS!C98","v":86},{"$f":"SPRRAS!D98","v":0},{"$f":"SPRRAS!E98","v":0},null,null,0,0]
[161,{"$f":"SPRRAS!C99","v":87},{"$f":"SPRRAS!D99","v":0},{"$f":"SPRRAS!E99","v":0},null,null,{"$f":"B1936/1000*C1936+B1936/500*D1936","v":0},{"$f":"ABS(C1936-ROUND(C1936,0))+ABS(D1936-ROUND(D1936,0))","v":0}]
[161,{"$f":"SPRRAS!C100","v":88},{"$f":"SPRRAS!D100","v":0},{"$f":"SPRRAS!E100","v":0},null,null,0,0]
[161,{"$f":"SPRRAS!C101","v":89},{"$f":"SPRRAS!D101","v":0},{"$f":"SPRRAS!E101","v":0},null,null,0,0]
[161,{"$f":"SPRRAS!C102","v":90},{"$f":"SPRRAS!D102","v":0},{"$f":"SPRRAS!E102","v":0},null,null,0,0]
[161,{"$f":"SPRRAS!C106","v":91},{"$f":"SPRRAS!D106","v":0},{"$f":"SPRRAS!E106","v":0},null,null,0,0]
[161,{"$f":"SPRRAS!C107","v":92},{"$f":"SPRRAS!D107","v":0},{"$f":"SPRRAS!E107","v":0},null,null,0,0]
[161,{"$f":"SPRRAS!C108","v":93},{"$f":"SPRRAS!D108","v":0},{"$f":"SPRRAS!E108","v":0},null,null,0,0]
[161,{"$f":"SPRRAS!C109","v":94},{"$f":"SPRRAS!D109","v":0},{"$f":"SPRRAS!E109","v":0},null,null,0,0]
[161,{"$f":"SPRRAS!C110","v":95},{"$f":"SPRRAS!D110","v":0},{"$f":"SPRRAS!E110","v":0},null,null,0,0]
[161,{"$f":"SPRRAS!C111","v":96},{"$f":"SPRRAS!D111","v":0},{"$f":"SPRRAS!E111","v":0},null,null,0,0]
[161,{"$f":"SPRRAS!C112","v":97},{"$f":"SPRRAS!D112","v":0},{"$f":"SPRRAS!E112","v":0},null,null,0,0]
[161,{"$f":"SPRRAS!C113","v":98},{"$f":"SPRRAS!D113","v":0},{"$f":"SPRRAS!E113","v":0},null,null,0,0]
[161,{"$f":"SPRRAS!C114","v":99},{"$f":"SPRRAS!D114","v":0},{"$f":"SPRRAS!E114","v":0},null,null,0,0]
[161,{"$f":"SPRRAS!C115","v":100},{"$f":"SPRRAS!D115","v":0},{"$f":"SPRRAS!E115","v":0},null,null,0,0]
[161,{"$f":"SPRRAS!C116","v":101},{"$f":"SPRRAS!D116","v":0},{"$f":"SPRRAS!E116","v":0},null,null,0,0]
[161,{"$f":"SPRRAS!C117","v":102},{"$f":"SPRRAS!D117","v":0},{"$f":"SPRRAS!E117","v":0},null,null,0,0]
[161,{"$f":"SPRRAS!C118","v":103},{"$f":"SPRRAS!D118","v":0},{"$f":"SPRRAS!E118","v":0},null,null,0,0]
[161,{"$f":"SPRRAS!C119","v":104},{"$f":"SPRRAS!D119","v":0},{"$f":"SPRRAS!E119","v":0},null,null,0,0]
[161,{"$f":"SPRRAS!C120","v":105},{"$f":"SPRRAS!D120","v":0},{"$f":"SPRRAS!E120","v":0},null,null,0,0]
[161,{"$f":"SPRRAS!C121","v":106},{"$f":"SPRRAS!D121","v":0},{"$f":"SPRRAS!E121","v":0},null,null,0,0]
[161,{"$f":"SPRRAS!C122","v":107},{"$f":"SPRRAS!D122","v":0},{"$f":"SPRRAS!E122","v":0},null,null,0,0]
[161,{"$f":"SPRRAS!C123","v":108},{"$f":"SPRRAS!D123","v":0},{"$f":"SPRRAS!E123","v":0},null,null,0,0]
[161,{"$f":"SPRRAS!C124","v":109},{"$f":"SPRRAS!D124","v":0},{"$f":"SPRRAS!E124","v":0},null,null,0,0]
[161,{"$f":"SPRRAS!C125","v":110},{"$f":"SPRRAS!D125","v":0},{"$f":"SPRRAS!E125","v":0},null,null,0,0]
[161,{"$f":"SPRRAS!C126","v":111},{"$f":"SPRRAS!D126","v":0},{"$f":"SPRRAS!E126","v":0},null,null,0,0]
[161,{"$f":"SPRRAS!C127","v":112},{"$f":"SPRRAS!D127","v":0},{"$f":"SPRRAS!E127","v":0},null,null,0,0]
[161,{"$f":"SPRRAS!C128","v":113},{"$f":"SPRRAS!D128","v":0},{"$f":"SPRRAS!E128","v":0},null,null,0,0]
[161,{"$f":"SPRRAS!C129","v":114},{"$f":"SPRRAS!D129","v":0},{"$f":"SPRRAS!E129","v":0},null,null,0,0]
[161,{"$f":"SPRRAS!C130","v":115},{"$f":"SPRRAS!D130","v":0},{"$f":"SPRRAS!E130","v":0},null,null,0,0]
[161,{"$f":"SPRRAS!C131","v":116},{"$f":"SPRRAS!D131","v":0},{"$f":"SPRRAS!E131","v":0},null,null,0,0]
[161,{"$f":"SPRRAS!C132","v":117},{"$f":"SPRRAS!D132","v":0},{"$f":"SPRRAS!E132","v":0},null,null,0,0]
[161,{"$f":"SPRRAS!C133","v":118},{"$f":"SPRRAS!D133","v":0},{"$f":"SPRRAS!E133","v":0},null,null,0,0]
[161,{"$f":"SPRRAS!C134","v":119},{"$f":"SPRRAS!D134","v":0},{"$f":"SPRRAS!E134","v":0},null,null,0,0]
[161,{"$f":"SPRRAS!C135","v":120},{"$f":"SPRRAS!D135","v":0},{"$f":"SPRRAS!E135","v":0},null,null,0,0]
[161,{"$f":"SPRRAS!C136","v":121},{"$f":"SPRRAS!D136","v":0},{"$f":"SPRRAS!E136","v":0},null,null,0,0]
[161,{"$f":"SPRRAS!C137","v":122},{"$f":"SPRRAS!D137","v":0},{"$f":"SPRRAS!E137","v":0},null,null,0,0]
[161,{"$f":"SPRRAS!C138","v":123},{"$f":"SPRRAS!D138","v":0},{"$f":"SPRRAS!E138","v":0},null,null,0,0]
[161,{"$f":"SPRRAS!C139","v":124},{"$f":"SPRRAS!D139","v":0},{"$f":"SPRRAS!E139","v":0},null,null,0,0]
[161,{"$f":"SPRRAS!C140","v":125},{"$f":"SPRRAS!D140","v":0},{"$f":"SPRRAS!E140","v":0},null,null,0,0]
[161,{"$f":"SPRRAS!C141","v":126},{"$f":"SPRRAS!D141","v":0},{"$f":"SPRRAS!E141","v":0},null,null,0,0]

{"sheet":"Upute","index":1,"n_rows":23,"n_cols":2,"rows_kept":23,"cut":false,"hidden":false,"merged":[[22,0,22,1],[2,0,2,1],[1,0,1,1],[17,0,17,1],[18,0,18,1],[19,0,19,1],[20,0,20,1],[13,0,13,1],[14,0,14,1],[16,0,16,1],[9,0,9,1],[10,0,10,1],[11,0,11,1],[12,0,12,1],[21,0,21,1],[8,0,8,1],[4,0,4,1],[15,0,15,1],[3,0,3,1],[6,0,6,1],[7,0,7,1],[5,0,5,1]]}
[null,"Prelazak na Referentnu stranicu ––––>"]
["OSNOVNE UPUTE ZA UNOS PODATAKA"]
[{"$f":" \"Ver. \" & MID(Skriveni!K36,1,1) & \".\" & MID(Skriveni!K36,2,1) & \".\" & MID(Skriveni!K36,3,1) & \".\"","v":"Ver. 3.0.6."}]
["Čak i iskusnim korisnicima u radu s Excel-om, preporuča se da pažljivo prouče upute o popunjavanju. Posebnu pozornost na ove upute trebaju obratiti obveznici koji obrasce popunjavaju u OpenOffice-u, verziji Excel-a 2007 ili novijeg te iz nekog vanjskog programa (računovodstveni program i slično). Datoteke popunjene na taj način učestalo su problematične i nemoguće ih je učitati jer datoteke nisu pripremljene na način kako je navedeno u uputama.\n\nOva verzija datoteke predviđena je za popunjavanje svih vrsta obrazaca, za sve razine te za sva razdoblja u 2013. i 2014. godini. Predaja ovih obrazaca za sada je moguća samo u poslovnicama Fine, a predaja putem web servisa je u planu."]
["Sva bitna pravila o popunjavanju obrazaca, poslovnim pravilima navedena su u nastavku uputa, ono što nije objašnjeno u uputama opisano je u kontrolama koje javljaju pogrešku. Prije nego rješenje problema potražite na broju telefona ili adresi e-pošte na dnu uputa, pokušajte ga pronaći u sklopu uputa. Razina 11, tj. korisnici koji ovu Excel datoteku ujedno koriste i za predaju svojim nadležnim ministarstvima mogu je koristiti, ali pri tome moraju zanemariti kontrolu koja govori da razina 11 ne predaje mjesečni obrazac obveze. Kod mjesečnog izvještaja Obveze, oznaka VP159 ili VP160 (mjesečni ili tromjesečni obrazac) zavisi od upisane razine, samo razina 11 i 12 imaju mjesečne obveze, dok sve ostale razine predaju samo kvartalne Obveze. Sve kontrole postavljene su tako da provjeravaju obveznost predaje obrazaca za potrebe financijskog izvještavanja, a ne u neke druge svrhe i za druge nadležne institucije. Matematičke kontrole vrijede uvijek, a kontrole obveznosti u slučaju da obrazac dostavljate nekom drugom možete zanemariti."]
["U polja Datum od i Datum do upisuju se stvarni datumi unutar razdoblja izvještavanja u kojem je obveznik bio aktivan (tj. poslovao). Obveznik koji je počeo s radom tokom godine, upisuje datum stvarnog početka rada, a obveznik koji je prestaje s radom ili postaje druga vrsta obveznika upisuju stvarni datum prestanka rada, što znači da se u tim slučajevima ne upisuju 1.1. u Datum od, niti 31.12 u Datum do polje. Isti upisani datumi se prenose i na naslovnicu Referentne stranice. Za razliku od upisanih datuma, datumi na pojedinačnom obrascu se određuju prema odabranoj AOP oznaci razdoblja, tj. bez obzira koliko je obveznik stvarno poslovao unutar razdoblja obrade. Primjerice, za odabrano razdoblje 2012-12 na bilanci će se pojaviti datumi razdoblja za koje se izvještava (tj. 1.1. do 31. 12.), dok će se na obrascu obveze pojaviti datumi 1.10 do 31. 12 jer je to stvarno razdoblje izvještavanja za taj obrazac. Isto tako, ako se neki obrazac ne predaje za neko određeno razdoblje, u zaglavlju tog obrasca će biti ispisan tekst - \"za odabrano razdoblje i razinu obrazac se ne popunjava\" (primjerice, Bil se popunjava samo za razdoblje 20XX-12, PR-RAS se popunjava samo za kvartale, dok se mjesečne obveze predaju za sve mjesece itd.)."]
["Obveznici više nisu dužni kod predaje u FINA-u ispisati kompletno sve obrasce već samo ispisanu i ovjerenu Referentnu stranicu, potpisanu od strane zakonskog predstavnika obveznika. Isto tako, uz ispis Referentne stranice potrebno je dostaviti i obrazac na magnetnom mediju (disketu, CD, USB stick). Obrasci koji su računalno popunjeni i ispisani na papiru, neće se preuzeti bez magnetnog medija. Korisnici koji nemaju nikakvu mogućnost popunjavanja obrazaca na računalu, već upisuju podatke ručno u prazan ispisani obrazac moraju dostaviti kompletne obrasce, s tim da svaka stranica obrasca mora biti potpisana od strane ovlaštene osobe."]
["Navigacija kroz Excel datoteku riješena je na način da se sa svakog obrasca možete se vratiti na Referentnu stranicu, ili direktno na kontrole vezane za taj obrazac (klikom na žuti tekst na plavoj podlozi na vrhu ekrana), a sa referentne stranice možete se prebaciti na šifarnike, upute i kontrole. Sa referentne stranice na svaki od obrazaca prebacujete se klikom na ime obrasca na popisu obrazaca. Sa kontrola obrasca moguće je vratiti se na Referentnu stranicu (na vrhu ekrana) ili na svaki pojedini obrazac - klikom na ime obrasca u naslovima dijela kontrola koje se odnose na taj obrazac. Kako bi što bolje označili koja polja služe za navigaciju, ona su obojana tamnomodrozelenom bojom s žutim slovima. Mjesto za radni list Novosti je predviđeno, a ugradit ćemo ga u sljedeću verziju Excel datoteke kada to bude potrebno. Zbog toga je navigacija na List novosti bijela (Neaktivna)."]
["Osnovni podaci o obvezniku unose se u radni list \"RefStr\" (Referentna stranica). Podaci u zaglavlju upisani u Referentnu stranicu prenose se automatizmom na sve ostale radne listove i obrasce. Time je osigurano da svi podaci iz zaglavlja, u svim obrascima budu identični. Svi podaci u zaglavlju čiji opis je označen tamnomodrom bojom obavezni su za unos."]
["Oznaka razdoblja, razine, šifre općine i djelatnosti možete upisati rukom ili izabrati s padajućeg izbornika na tom unosnom polju. Izbjegavajte unos ovih podataka metodama Copy/Paste iz nekih drugih Excel datoteka (Kopiraj/Zalijepi) kako ne biste prenijeli i neke formate iz te druge datoteke, a time spomenutu šifru učinili neprepoznatljivom za programsko učitavanje. Polja predviđena za unos u zaglavlju Referentne stranice označena su sivim rasterom. Razdoblje se unosi na način GGGG-MM gdje je GGGG godina, a MM mjesec u kojem završava razdoblje izvještavanja. Kako biste bili sigurni da nećete imati problema oko popunjavanja obrazaca, preporučeno je da regionalne postavke na računalu budu namještene za Hrvatsku, format datuma: DD.MM.GGGG (DD.MM.YYYY), a kod brojevnih vrijednosti točka za odvajanje tisućica, zarez kao decimalno mjesto. "]
["Novost u odnosu na prijašnje obrasce je da se sve brojčane oznake (RKP, matični broj, broj pošte, razina, šifra djelatnosti, razdjel te šifra općine) unose kao brojevna vrijednost, bez vodećih nula, a nakon unosa, na Referentnoj stranici će se pokazati s vodećim nulama tamo gdje je to potrebno. Ovaj način uveden je kako bi istu Excel datoteku bilo moguće popunjavati i u Excel-u i u OpenOffice-u."]
["U obrasce se unose iznosi samo pojedinačnih AOP oznaka. Sumarne AOP oznake se zaštićene su, u njih nije moguć unos, a izračunavaju se automatski na osnovu upisanih pojedinačnih iznosa. Upisuju se samo cjelobrojne vrijednosti. Iznosi s lipama nisu dopušteni. Sumarne AOP oznake u obrascu obojane su blijedosivom bojom. Vrijednosti tih pozicija izračunat će se automatski na osnovu upisanih pojedinačnih stavaka. Na obrascima koji imaju stupac indeks, taj podatak se ne upisuje već se izračunava automatski na osnovu upisanih vrijednosti. Tamo gdje indeks nije moguće izračunati pojavit će se crtica \"-\", a tamo gdje je indeks veći od 10000 pojavit će se tekst \">>100\"."]
["Vrlo važno: Kod unosa vrijednosti naprednijim metodama Kopiraj/Zalijepi (Copy/Paste) iz nekih drugih dokumenata OBAVEZNO koristite metodu Copy (Kopiraj), a ne Cut (Izreži), jer se kod korištenja metode Cut/Paste nepovratno pokvari struktura datoteke. Isto tako, kod Paste metode koristite opciju Paste Special (Posebno lijepljenje), pa odaberite Vrijednosti (Value). Ni u kom slučaju ne prenosite krivo upisane iznose s jedne AOP pozicije na drugu tako da ih prenosite mišem. Isto tako, ne brišite postojeće radne listove, ne mijenjajte nazive postojećih, ne uključujte dijeljenje ili zaštitu radne knjige, ne ubacujte linkove na neke druge dokumente. S obzirom da su svi radni listovi međusobno povezani formulama koje služe kao kontrola, svaka od spomenutih radnji rezultira da Excel datoteka postane neupotrebljiva za računalnu obradu i morat ćete ispuniti novu datoteku."]
["Kontrole obrazaca podijeljene su na općenite (kontrole popunjenosti pojedinih obrazaca, popunjenost zaglavlja, kontrole između obrazaca) te na kontrole na razini pojedinog obrasca. Općenite kontrole provjeravajte tek kada popunite sve obrasce koje ste dužni predati. Ako ste dužni predati neki obrazac (prema razdoblju predaje i razini), a niste ga popunili kontrola će na to upozoriti, isto tako, upozorit će ako ste popunili obrazac koji niste dužni predati. Kontrole na razini pojedinog obrasca provjeravajte nakon popunjavanja tog obrasca. Ako neka kontrola nije zadovoljena ispravite podatak. "]
["Na listu Kontrole nakon unosa možete provjeriti jesu li zadovoljene neke osnovne kontrole na podacima. Ako neke kontrole nisu zadovoljene, pojavit će se tekst \"Nije zadovoljena\" pored opisa što ta kontrola provjerava. Nezadovoljena kontrola može značiti krivi podatak ili samo upozorenje da provjerite podatak. Ako je upozorenje provjerite koje AOP-e kontrola provjerava a ako je pogreška u podacima, ispravite vrijednost AOP-a koje kontrola provjerava i napišite ispravne vrijednosti. Sve dok postoji samo jedna kontrola koja nije zadovoljena, a koja mora biti zadovoljena, na naslovnoj strani obrasca biti će poruka \"Nisu zadovoljene sve osnovne kontrole, broj kontrola: X\", gdje X označava broj svih obveznih kontrola koje još uvijek nisu zadovoljene. "]
["Na referentnoj stranici pored imena svakog obrasca postoji stupac \"Kontroliran\" u kojem piše \"DA\" ako su sve kontrole zadovoljene, a ako nisu, umjesto teksta \"DA\" pojavljuje se broj kontrola na razini tog obrasca koje su još u grešci. Ako na Referentnoj stranici, pored imena nekog obrasca u stupcu \"Popunjen\" stoji \"NE\" eventualne kontrole na razini tog obrasca koje nisu zadovoljene možete zanemariti jer se taj obrazac neće ni učitati. Ako pored svakog obrasca piše da je kontroliran (\"DA\"), a i dalje na referentnoj stranici piše da obrazac nije ispravan, nije zadovoljena neka od općenitih kontrola."]
["Oznaka \"DA\" na referentnoj stranici pored imena svakog obrasca pojavit će se nakon unosa barem jednog iznosa različitog od nule. To još uvijek ne znači da je taj obrazac potpun, i ispravan ali signalizira da je nešto upisano u taj obrazac, i smatra se da je korisnik i taj obrazac predao. Ne unosite iznose u obrasce koje niste dužni predati. Posebnost je obrazac P-VRIO, koji kod nekih obveznika može sadržavati sve nule, tj. nema niti jednu vrijednost različitu od nule. Kod obrasca P-VRIO oznaka \"DA\" ili \"NE\" ne dodjeljuje se automatski nego je mora upisati (ili odabrati s popisa) korisnik."]
["Obveznici koji su koristili mogućnost da stave oznaku \"Vrijedi i kao konsolidirani\" više nemaju tu mogućnost, iz razloga što obvezni set obrazaca razine 22 i razine 23, te razine 11 i 12 nije isti, već moraju predati dvije Excel datoteke i dvije ispisane i potpisane Referentne stranice."]
["Česta pogreška pri unosu je da nakon brisanja vrijednosti nekog AOP-a u ćeliji ostane upisan razmak koji se ne vidi na ekranu, kad se to dogodi, polje kontrolni broj na vrhu obrasca bit će popunjeno s vrijednošću #VRIJ ili #VALUE. U tom slučaju, ako ne uspijete pronaći na kojem AOP-u je upisan razmak ili neki drugi znak koji nije brojevna vrijednost, popunite sva polja koja nemaju podataka nulama."]
["Važno: S obzirom da velik broj obveznika obrasce popunjava direktno iz svojih računovodstvenih aplikacija, prije dostavljanja takvog obrasca u poslovnicu FINA-e (bez obzira u kojem programu je popunjavan) neophodno je da tako popunjene obrasce otvore u Excel-u, te nakon toga ponovo snime kroz Excel jer te vanjske aplikacije iako popune sva polja u obrascu, nemaju mogućnost da pokrenu i sve izračune i kontrole u obrascima. Znači, nakon što obrazac popuni vanjska aplikacija, te ga otvorite kako biste ispisali referentnu stranicu, obavezno nakon ispisa te stranice snimite ponovo sve promjene u obrascu (kod izlaska iz Excel-a on Vas pita želite li snimiti promjene, treba obavezno odgovoriti sa Da. "]
["Korisnici Open Office-a:  U vrijeme izrade obrasca zadnja aktualna verzija OpenOffice-a na hrvatskom jeziku je bila 3.2.1. Obrazac popunjen u ovoj verziji Open Office-a moguće je učitati u aplikaciju i s njim nije bilo problema u učitavanju. Koristite li starije verzije OpenOffice-a možete s Interneta besplatno skinuti zadnju verziju Open Officea, jer obrasci popunjeni u starijim verzijama mogli bi biti nečitki nakon predaje u FINA-u. Verzije Excela kojima je moguće bez problema popuniti obrazac su 97, 2000, XP, 2003 te 2007. Praksa je pokazala da neke verzije Excel-a ne rade dobro bez zadnjih zakrpa (Service Pack-ova) te provjerite s svojim informatičarima imate li na računalu instalirane sve zakrpe za program koji koristitie za popunjavanje. Korisnici Excel-a verzije 2007 i 2010, moraju prilikom snimanja Excel datoteke odabrati format 97-2003 jer najnoviji Excel format 2007 nije podržan. Prilikom prvog snimanja u ovoj novoj verziji Excel-a on će ponuditi konverziju u najnoviji format, pri tome treba odabrati da datoteka ostane u starom 2003 formatu, a ako ste pogreškom pretvorili u novi format 2007, potrebno je kroz opciju File (Datoteka), Save As (Snimi kao) ponovo snimiti u stariji format na način da se odabere format 97-2003 (na dnu prozora za snimanje)."]
["Oznaka razine unosi se kao dvoznamenkasta šifra a šifre znače:\n11 - proračunski korisnik državnog proračuna i glava unutar nadležnog ministarstva;\n12 - nadježno ministarstvo/razdjel - konsolidirani izvještaj;\n21 - proračunski korisnik jedinice lokalne i područne (regionalne) samouprave;\n22 - proračun jedinice lokalne i područne (regionalne) samouprave;\n23 - konsolidirani proračun jedinice lokalne i područne (regionalne) samouprave;\n31 - proračunski korisnik jedinice lokalne i područne (regionalne) samouprave koji obavlja poslove u sklopu funkcija koje se decentraliziraju\n41 - izvanproračunski korisnik državnog proračuna\n42 - izvanproračunski korisnik jedinice lokalne i područne (regionalne) samouprave"]
["Imate li problema tehničke naravi s popunjavanjem obrasca, pošaljite putem e-pošte opis pogreške koja vam se javlja, koji program i koju verziju koristite za popunjavanje, te zajedno s svojim kontakt podacima problematičnu Excel datoteku na adresu e-pošte: rgfi@fina.hr."]

{"sheet":"RefStr","index":2,"n_rows":654,"n_cols":23,"rows_kept":654,"cut":false,"hidden":false,"merged":[[0,0,0,1],[32,2,32,3],[0,9,0,10],[0,6,0,8],[0,4,0,5],[0,2,0,3],[24,0,36,0],[26,2,26,3],[23,3,23,5],[36,7,36,10],[64,1,64,7],[65,1,65,7],[58,1,58,7],[50,1,50,7],[51,1,51,7],[52,1,52,7],[53,1,53,7],[54,1,54,7],[55,1,55,7],[57,1,57,7],[30,7,30,10],[34,2,34,3],[28,2,28,3],[30,2,30,3],[24,2,24,3],[43,1,43,7],[26,7,26,8],[38,1,38,7],[36,2,36,3],[32,7,32,10],[13,1,13,6],[17,2,17,10],[19,2,19,10],[21,2,21,10],[24,7,24,10],[28,7,28,10],[71,0,71,3],[71,7,71,10],[9,1,9,8],[15,2,15,10],[40,1,40,7],[61,1,61,7],[41,1,41,7],[42,1,42,7],[56,1,56,7],[46,1,46,7],[1,9,1,10],[3,0,3,10],[11,2,11,6],[5,3,5,4],[4,0,4,10],[5,9,5,10],[7,9,7,10],[63,1,63,7],[39,0,42,0],[43,0,46,0],[47,0,51,0],[52,0,55,0],[47,1,47,7],[48,1,48,7],[44,1,44,7],[45,1,45,7],[39,1,39,7],[69,9,69,10],[49,1,49,7],[56,0,59,0],[60,0,63,0],[64,0,67,0],[66,1,66,7],[67,1,67,7],[59,1,59,7],[60,1,60,7],[62,1,62,7]]}
["Novosti",null,"Uputa",null,"Kontrole",null,"Sifre",null,null,"Promjene"]
[null,null,null,null,null,null,null,null,null,"Referentna stranica"]
[]
["Izvještaji proračuna, proračunskih i izvanproračunskih korisnika"]
[{"$f":"IF(AND(K10<>\"\",K12<>\"\"), \"za razdoblje: \" & TEXT(K10, \"d. mmmm yyyy.\") & \"   –   \" & TEXT(K12, \"d. mmmm yyyy.\"),\"za razdoblje od ________________ do ______________\")","v":"za razdoblje: 1. siječanj 2014.   –   31. prosinac 2014."}]
["Broj RKP-a:",14402,null,"AOP oznaka razdoblja:",null,"2014-12",null,null,null,{"$f":"SUM(Skriveni!G2:G1975)","v":245300595.83700004}]
[]
["Matični broj:",3324281,null,null,null,null,null,null,null,"Kontrolni broj izvještaja",null,null,null,null,null,1,"ZAGREBAČKA",11,"proračunski korisnik državnog proračuna i glava unutar nadležnog ministarstva"]
[null,null,null,null,null,null,null,null,null,null,null,null,null,null,null,2,"KRAPINSKO-ZAGORSKA",12,"nadježno ministarstvo/razdjel - konsolidirani izvještaj"]
["Naziv obveznika:","OŠ VUGROVEC - KAŠINA",null,null,null,null,null,null,null,"Od datuma:","2014-01-01",null,null,null,null,3,"SISAČKO-MOSLAVAČKA",13,"opća država"]
[null,null,null,null,null,null,null,null,null,null,null,null,null,null,null,4,"KARLOVAČKA",21,"proračunski korisnik jedinice lokalne i područne (regionalne) samouprave"]
["Pošta i mjesto:",10362,"KAŠINA",null,null,null,null,null,null,"Do datuma:","2014-12-31",null,null,null,null,5,"VARAŽDINSKA",22,"proračun jedinice lokalne i područne (regionalne) samouprave"]
[null,null,null,null,null,null,null,null,null,null,null,null,null,null,null,6,"KOPRIVNIČKO-KRIŽEVAČKA",23,"konsolidirani proračun jedinice lokalne i područne (regionalne) samouprave"]
["Ulica i kućni broj:","IVANA MAŽURANIĆA 43",null,null,null,null,null,null,null,"OIB:",43748649227,null,null,null,null,7,"BJELOVARSKO-BILOGORSKA",31,"proračunski korisnik jedinice lokalne i područne (regionalne) samouprave koji obavlja poslove u sklopu funkcija koje se decentraliziraju"]
[null,null,null,null,null,null,null,null,null,null,null,null,null,null,null,8,"PRIMORSKO-GORANSKA",41,"izvanproračunski korisnik državnog proračuna"]
["Razina:",31,{"$f":"IF(B16>0,LOOKUP(B16,R8:R16,S8:S16),\"Razina nije upisana\")","v":"proračunski korisnik jedinice lokalne i područne (regionalne) samouprave koji obavlja poslove u sklopu funkcija koje se decentraliziraju"},null,null,null,null,null,null,null,null,null,null,null,null,9,"LIČKO-SENJSKA",42,"izvanproračunski korisnik jedinice lokalne i područne (regionalne) samouprave"]
[null,null,null,null,null,null,null,null,null,null,null,null,null,null,null,10,"VIROVITIČKO-PODRAVSKA"]
["Šifra djelatnosti:",8520,{"$f":" IF(B18>0,LOOKUP(B18,Sifre!A249:A863,Sifre!B249:B863),\"Djelatnost nije upisana\")","v":"Osnovno obrazovanje"},null,null,null,null,null,null,null,null,null,null,null,null,11,"POŽEŠKO-SLAVONSKA"]
[null,null,null,null,null,null,null,null,null,null,null,null,null,null,null,12,"BRODSKO-POSAVSKA"]
["Razdjel:",0,{"$f":"IF(B20<>\"\",\"Razdjel: \" & LOOKUP(B20,R66:R116,S66:S116),\"Razdjel nije upisan\")","v":"Razdjel: NEMA RAZDJELA"},null,null,null,null,null,null,null,null,null,null,null,null,13,"ZADARSKA"]
[null,null,null,null,null,null,null,null,null,null,null,null,null,null,null,14,"OSIJEČKO-BARANJSKA"]
["Šifra grada/opć.:",133,{"$f":"IF(B22>0, \"Županija: \" & LOOKUP(N22,P8:P28,Q8:Q28) & \", grad/općina: \" & LOOKUP(B22,N66:N622,O66:O622),\"šifra grada/općine nije upisana\")","v":"Županija: GRAD ZAGREB, grad/općina: GRAD ZAGREB"},null,null,null,null,null,null,null,null,null,null,{"$f":"LOOKUP(B22,N66:N622,P66:P622)","v":21},null,15,"ŠIBENSKO-KNINSKA"]
[null,null,null,null,null,null,null,null,null,null,null,null,null,null,null,16,"VUKOVARSKO-SRIJEMSKA"]
[null,"Popunjen",null,"Pogreški",null,null,null,null,null,null,null,null,null,null,null,17,"SPLITSKO-DALMATINSKA"]
["Pregled \npopunjenosti\nobrazaca:",{"$f":"IF(SUM(Skriveni!C2:F615)=0,\"NE\", \"DA\")","v":"DA"},"PR-RAS (VP 151)",null,{"$f":"IF(AND(B25=\"DA\",Kont!E26>0),Kont!E26,\"NE\")","v":"NE"},null,"Osoba za kontaktiranje:","NADA MILEC",null,null,null,null,null,null,null,18,"ISTARSKA"]
[null,null,null,null,null,null,null,null,null,null,null,null,null,null,null,19,"DUBROVAČKO-NERETVANSKA"]
[null,{"$f":"IF(SUM(Skriveni!C901:C1165)<>0,\"DA\",\"NE\")","v":"NE"},"NT (VP 153)",null,{"$f":"IF(AND(B27=\"DA\",Kont!E270>0),Kont!E270,\"NE\")","v":"NE"},null,"Telefon:","012059256",null,"Telefax:","012056837",null,null,null,null,20,"MEĐIMURSKA"]
[null,null,null,null,null,null,null,null,null,null,null,null,null,null,null,21,"GRAD ZAGREB"]
[null,{"$f":"IF(SUM(Skriveni!C1300:D1435)<>0,\"DA\",\"NE\")","v":"NE"},"RAS funkcijski (VP 154)",null,{"$f":"IF(AND(B29=\"DA\",Kont!E319>0),Kont!E319,\"NE\")","v":"NE"},null,"Adresa e-pošte za kontakt:","nadamilec1@gmail.com"]
[]
[null,"DA","P-VRIO (VP 156)",null,{"$f":"IF(AND(B31=\"DA\",Kont!E265>0),Kont!E265,\"NE\")","v":"NE"},null,"Adresa e-pošte obveznika:","ured@os-vugrovec-kasina.skole.hr"]
[]
[null,{"$f":"IF(SUM(Skriveni!C1481:D1694)<>0,\"DA\",\"NE\")","v":"DA"},"BIL (VP 158)",null,{"$f":"IF(AND(B33=\"DA\",Kont!E237>0),Kont!E237,\"NE\")","v":"NE"},null,"Zakonski predstavnik:","VLADIMIR VUGER"]
[]
[null,{"$f":"IF(SUM(Skriveni!C1756:C1838)<>0,\"DA\",\"NE\")","v":"NE"},"Obveze (VP 159 i 160)",null,{"$f":"IF(AND(B35=\"DA\",Kont!E261>0),Kont!E261,\"NE\")","v":"NE"}]
[]
[null,{"$f":"IF(SUM(Skriveni!C1850:D1922)<>0,\"DA\",\"NE\")","v":"NE"},"S-PR-RAS (VP 161)",null,{"$f":"IF(AND(B37=\"DA\",Kont!E300>0),Kont!E300,\"NE\")","v":"NE"},null,"Stanje kontrola:",{"$f":"IF(Kont!E2>0,\"Nisu zadovoljene sve osnovne kontrole, broj kontrola: \" & Kont!E2,\"Sve osnovne kontrole su zadovoljene\")","v":"Sve osnovne kontrole su zadovoljene"}]
[]
["Obrazac","Opis značenja AOP oznake",null,null,null,null,null,null,"AOP\noznaka","Prvi stupac podataka","Zadnji stupac podataka",null,null,"RAZD","OPIS1\nmjesečni","OPIS2\nkvartal","OPIS3\ngodina","OPIS4\nna dan",null,null,null,null,111]
["PR-RAS",{"$f":"PRRAS!B611","v":"UKUPNI PRIHODI I PRIMICI (AOP 377+384)"},null,null,null,null,null,null,{"$f":"PRRAS!C611","v":598},{"$f":"PRRAS!D611","v":11037394},{"$f":"PRRAS!E611","v":12004529},null,null,null,null,"za odabrano razdoblje i razinu obrazac se ne popunjava","za odabrano razdoblje i razinu obrazac se ne popunjava","za odabrano razdoblje i razinu obrazac se ne popunjava",null,null,null,null,112]
[null,{"$f":"PRRAS!B612","v":"UKUPNI RASHODI I IZDACI (AOP 378+490)"},null,null,null,null,null,null,{"$f":"PRRAS!C612","v":599},{"$f":"PRRAS!D612","v":11088226},{"$f":"PRRAS!E612","v":11799364},null,null,"2013-01","za razdoblje 1. do 31. siječnja 2013. godine","za odabrano razdoblje i razinu obrazac se ne popunjava","za odabrano razdoblje i razinu obrazac se ne popunjava","za odabrano razdoblje i razinu obrazac se ne popunjava",null,null,null,null,113]
[null,{"$f":"PRRAS!B613","v":"VIŠAK PRIHODA I PRIMITAKA (AOP 598-599)"},null,null,null,null,null,null,{"$f":"PRRAS!C613","v":600},{"$f":"PRRAS!D613","v":0},{"$f":"PRRAS!E613","v":205165},null,null,"2013-02","za razdoblje 1. do 28. veljače 2013. godine","za odabrano razdoblje i razinu obrazac se ne popunjava","za odabrano razdoblje i razinu obrazac se ne popunjava","za odabrano razdoblje i razinu obrazac se ne popunjava",null,null,null,null,114]
[null,{"$f":"PRRAS!B614","v":"MANJAK PRIHODA I PRIMITAKA (AOP 599-598)"},null,null,null,null,null,null,{"$f":"PRRAS!C614","v":601},{"$f":"PRRAS!D614","v":50832},{"$f":"PRRAS!E614","v":0},null,null,"2013-03","za razdoblje 1. do 31. ožujka 2013. godine","za razdoblje 1. siječnja do 31. ožujka 2013. godine","za razdoblje 1. siječnja do 31. ožujka 2013. godine","za odabrano razdoblje i razinu obrazac se ne popunjava",null,null,null,null,115]
["NT",{"$f":"NT!B237","v":"UKUPNI NETO PRIMICI (AOP 118+194+224-119-195-225) "},null,null,null,null,null,null,{"$f":"NT!C237","v":226},"-",{"$f":"NT!D237","v":0},null,null,"2013-04","za razdoblje 1. do 30. travnja 2013. godine","za odabrano razdoblje i razinu obrazac se ne popunjava","za odabrano razdoblje i razinu obrazac se ne popunjava","za odabrano razdoblje i razinu obrazac se ne popunjava",null,null,null,null,116]
[null,{"$f":"NT!B238","v":"UKUPNI NETO IZDACI (AOP 119+195+225-118-194-224) "},null,null,null,null,null,null,{"$f":"NT!C238","v":227},"-",{"$f":"NT!D238","v":0},null,null,"2013-05","za razdoblje 1. do 31. svibnja 2013. godine","za odabrano razdoblje i razinu obrazac se ne popunjava","za odabrano razdoblje i razinu obrazac se ne popunjava","za odabrano razdoblje i razinu obrazac se ne popunjava",null,null,null,null,119]
[null,{"$f":"NT!B239","v":"NOVČANA SREDSTVA NA POČETKU RAZDOBLJA"},null,null,null,null,null,null,{"$f":"NT!C239","v":228},"-",{"$f":"NT!D239","v":0},null,null,"2013-06","za razdoblje 1. do 30. lipnja 2013. godine","za razdoblje 1. travnja do 30. lipnja 2013. godine","za razdoblje 1. siječnja  do 30. lipnja 2013. godine","za odabrano razdoblje i razinu obrazac se ne popunjava",null,null,null,null,121]
[null,{"$f":"NT!B240","v":"NOVČANA SREDSTVA NA KRAJU RAZDOBLJA"},null,null,null,null,null,null,{"$f":"NT!C240","v":229},"-",{"$f":"NT!D240","v":0},null,null,"2013-07","za razdoblje 1. do 31. srpnja 2013. godine","za odabrano razdoblje i razinu obrazac se ne popunjava","za odabrano razdoblje i razinu obrazac se ne popunjava","za odabrano razdoblje i razinu obrazac se ne popunjava",null,null,null,null,122]
["RAS-funkcijski",{"$f":"RasF!B12","v":"Opće javne usluge (AOP 002+006+009+013 do 017)"},null,null,null,null,null,null,{"$f":"RasF!C12","v":1},{"$f":"RasF!D12","v":0},{"$f":"RasF!E12","v":0},null,null,"2013-08","za razdoblje 1. do 31. kolovoza 2013. godine","za odabrano razdoblje i razinu obrazac se ne popunjava","za odabrano razdoblje i razinu obrazac se ne popunjava","za odabrano razdoblje i razinu obrazac se ne popunjava",null,null,null,null,123]
[null,{"$f":"RasF!B42","v":"Ekonomski poslovi (AOP 032+035+039+046+050+056+057+062+070)"},null,null,null,null,null,null,{"$f":"RasF!C42","v":31},{"$f":"RasF!D42","v":0},{"$f":"RasF!E42","v":0},null,null,"2013-09","za razdoblje 1. do 30. rujna 2013. godine","za razdoblje 1. srpnja do 30. rujna 2013. godine","za razdoblje 1. siječnja do 30. rujna 2013. godine","za odabrano razdoblje i razinu obrazac se ne popunjava",null,null,null,null,124]
[null,{"$f":"RasF!B95","v":"Rashodi vezani za stanovanje i kom. pogodnosti koji nisu drugdje svrstani"},null,null,null,null,null,null,{"$f":"RasF!C95","v":84},{"$f":"RasF!D95","v":0},{"$f":"RasF!E95","v":0},null,null,"2013-10","za razdoblje 1. do 31. listopada 2013. godine","za odabrano razdoblje i razinu obrazac se ne popunjava","za odabrano razdoblje i razinu obrazac se ne popunjava","za odabrano razdoblje i razinu obrazac se ne popunjava",null,null,null,null,125]
[null,{"$f":"RasF!B121","v":"Obrazovanje (AOP 111+114+117+118+121 do 124)"},null,null,null,null,null,null,{"$f":"RasF!C121","v":110},{"$f":"RasF!D121","v":0},{"$f":"RasF!E121","v":0},null,null,"2013-11","za razdoblje 1. do 30. studenoga 2013. godine","za odabrano razdoblje i razinu obrazac se ne popunjava","za odabrano razdoblje i razinu obrazac se ne popunjava","za odabrano razdoblje i razinu obrazac se ne popunjava",null,null,null,null,125]
[null,{"$f":"RasF!B148","v":"Kontrolni zbroj (AOP 001+018+024+031+071+078+085+103+110+125)"},null,null,null,null,null,null,{"$f":"RasF!C148","v":137},{"$f":"RasF!D148","v":0},{"$f":"RasF!E148","v":0},null,null,"2013-12","za razdoblje 1. do 31. prosinca 2013. godine","za razdoblje 1. listopada do 31. prosinca 2013. godine","za razdoblje 1. siječnja do 31. prosinca 2013. godine","stanje na dan 31. prosinca 2013. godine",null,null,null,null,126]
["P-VRIO",{"$f":"PVRIO!B12","v":"Promjene u vrijednosti i obujmu imovine (AOP 002+018)"},null,null,null,null,null,null,{"$f":"PVRIO!C12","v":1},{"$f":"PVRIO!D12","v":0},{"$f":"PVRIO!E12","v":0},null,null,"2014-01","za razdoblje 1. do 31. siječnja 2014. godine","za odabrano razdoblje i razinu obrazac se ne popunjava","za odabrano razdoblje i razinu obrazac se ne popunjava","za odabrano razdoblje i razinu obrazac se ne popunjava",null,null,null,null,127]
[null,{"$f":"PVRIO!B29","v":"Promjene u obujmu imovine (AOP 019+026)"},null,null,null,null,null,null,{"$f":"PVRIO!C29","v":18},{"$f":"PVRIO!D29","v":0},{"$f":"PVRIO!E29","v":0},null,null,"2014-02","za razdoblje 1. do 28. veljače 2014. godine","za odabrano razdoblje i razinu obrazac se ne popunjava","za odabrano razdoblje i razinu obrazac se ne popunjava","za odabrano razdoblje i razinu obrazac se ne popunjava",null,null,null,null,128]
[null,{"$f":"PVRIO!B45","v":"Promjene u vrijednosti (revalorizacija) i obujmu obveza (AOP 035+040)"},null,null,null,null,null,null,{"$f":"PVRIO!C45","v":34},{"$f":"PVRIO!D45","v":0},{"$f":"PVRIO!E45","v":0},null,null,"2014-03","za razdoblje 1. do 31. ožujka 2014. godine","za razdoblje 1. siječnja do 31. ožujka 2014. godine","za razdoblje 1. siječnja do 31. ožujka 2014. godine","za odabrano razdoblje i razinu obrazac se ne popunjava",null,null,null,null,129]
[null,{"$f":"PVRIO!B51","v":"Promjene u obujmu obveza (AOP 041 do 044)"},null,null,null,null,null,null,{"$f":"PVRIO!C51","v":40},{"$f":"PVRIO!D51","v":0},{"$f":"PVRIO!E51","v":0},null,null,"2014-04","za razdoblje 1. do 30. travnja 2014. godine","za odabrano razdoblje i razinu obrazac se ne popunjava","za odabrano razdoblje i razinu obrazac se ne popunjava","za odabrano razdoblje i razinu obrazac se ne popunjava",null,null,null,null,130]
["Bilanca",{"$f":"Bil!B12","v":"IMOVINA (AOP 002+061)"},null,null,null,null,null,null,{"$f":"Bil!C12","v":1},{"$f":"Bil!D12","v":9003556},{"$f":"Bil!E12","v":9485507},null,null,"2014-05","za razdoblje 1. do 31. svibnja 2014. godine","za odabrano razdoblje i razinu obrazac se ne popunjava","za odabrano razdoblje i razinu obrazac se ne popunjava","za odabrano razdoblje i razinu obrazac se ne popunjava",null,null,null,null,141]
[null,{"$f":"Bil!B73","v":"Novac u banci i blagajni (AOP 063 do 066)"},null,null,null,null,null,null,{"$f":"Bil!C73","v":62},{"$f":"Bil!D73","v":120325},{"$f":"Bil!E73","v":351348},null,null,"2014-06","za razdoblje 1. do 30. lipnja 2014. godine","za razdoblje 1. travnja do 30. lipnja 2014. godine","za razdoblje 1. siječnja  do 30. lipnja 2014. godine","za odabrano razdoblje i razinu obrazac se ne popunjava",null,null,null,null,142]
[null,{"$f":"Bil!B136","v":"Dionice i udjeli u glavnici trgovačkih društava u javnom sektoru"},null,null,null,null,null,null,{"$f":"Bil!C136","v":125},{"$f":"Bil!D136","v":0},{"$f":"Bil!E136","v":0},null,null,"2014-07","za razdoblje 1. do 31. srpnja 2014. godine","za odabrano razdoblje i razinu obrazac se ne popunjava","za odabrano razdoblje i razinu obrazac se ne popunjava","za odabrano razdoblje i razinu obrazac se ne popunjava",null,null,null,null,143]
[null,{"$f":"Bil!B209","v":"Obveze za zajmove od inozemnih osiguravajućih društava"},null,null,null,null,null,null,{"$f":"Bil!C209","v":198},{"$f":"Bil!D209","v":0},{"$f":"Bil!E209","v":0},null,null,"2014-08","za razdoblje 1. do 31. kolovoza 2014. godine","za odabrano razdoblje i razinu obrazac se ne popunjava","za odabrano razdoblje i razinu obrazac se ne popunjava","za odabrano razdoblje i razinu obrazac se ne popunjava",null,null,null,null,144]
["Obveze",{"$f":"Obv!B12","v":"Stanje obveza na početku izvještajnog razdoblja (=AOP 036 iz prethodnog izvještaja)"},null,null,null,null,null,null,{"$f":"Obv!C12","v":1},"-",{"$f":"Obv!D12","v":0},null,null,"2014-09","za razdoblje 1. do 30. rujna 2014. godine","za razdoblje 1. srpnja do 30. rujna 2014. godine","za razdoblje 1. siječnja do 30. rujna 2014. godine","za odabrano razdoblje i razinu obrazac se ne popunjava",null,null,null,null,145]
[null,{"$f":"Obv!B47","v":"Stanje obveza na kraju izvještajnog razdoblja (AOP 001+002-019) i (AOP 037+090)"},null,null,null,null,null,null,{"$f":"Obv!C47","v":36},"-",{"$f":"Obv!D47","v":0},null,null,"2014-10","za razdoblje 1. do 31. listopada 2014. godine","za odabrano razdoblje i razinu obrazac se ne popunjava","za odabrano razdoblje i razinu obrazac se ne popunjava","za odabrano razdoblje i razinu obrazac se ne popunjava",null,null,null,null,146]
[null,{"$f":"Obv!B48","v":"Stanje dospjelih obveza na kraju izvještajnog razdoblja (AOP 038+043+079+084)"},null,null,null,null,null,null,{"$f":"Obv!C48","v":37},"-",{"$f":"Obv!D48","v":0},null,null,"2014-11","za razdoblje 1. do 30. studenoga 2014. godine","za odabrano razdoblje i razinu obrazac se ne popunjava","za odabrano razdoblje i razinu obrazac se ne popunjava","za odabrano razdoblje i razinu obrazac se ne popunjava",null,null,null,null,147]
[null,{"$f":"Obv!B54","v":"Ukupno obveze za rashode poslovanja (AOP 044+049+054+059+064+069+074)"},null,null,null,null,null,null,{"$f":"Obv!C54","v":43},"-",{"$f":"Obv!D54","v":0},null,null,"2014-12","za razdoblje 1. do 31. prosinca 2014. godine","za razdoblje 1. listopada do 31. prosinca 2014. godine","za razdoblje 1. siječnja do 31. prosinca 2014. godine","stanje na dan 31. prosinca 2014. godine",null,null,null,null,149]
["S-PR-RAS",{"$f":"SPRRAS!B12","v":"PRIHODI POSLOVANJA (AOP 002 do 007) "},null,null,null,null,null,null,{"$f":"SPRRAS!C12","v":1},{"$f":"SPRRAS!D12","v":0},{"$f":"SPRRAS!E12","v":0},null,null,null,null,null,null,null,null,null,null,null,150]
[null,{"$f":"SPRRAS!B19","v":"RASHODI POSLOVANJA (AOP 009 do 015) "},null,null,null,null,null,null,{"$f":"SPRRAS!C19","v":8},{"$f":"SPRRAS!D19","v":0},{"$f":"SPRRAS!E19","v":0},null,null,1,"ANDRIJAŠEVCI",16,null,0,"NEMA RAZDJELA",null,null,null,161]
[null,{"$f":"SPRRAS!B38","v":"UKUPNI PRIHODI (AOP 001+020)"},null,null,null,null,null,null,{"$f":"SPRRAS!C38","v":27},{"$f":"SPRRAS!D38","v":0},{"$f":"SPRRAS!E38","v":0},null,null,2,"ANTUNOVAC",14,null,10,"HRVATSKI SABOR",null,null,null,162]
[null,{"$f":"SPRRAS!B53","v":"Rashodi za zaposlene kod korisnika (AOP 042+045+046)"},null,null,null,null,null,null,{"$f":"SPRRAS!C53","v":41},{"$f":"SPRRAS!D53","v":0},{"$f":"SPRRAS!E53","v":0},null,null,3,"BABINA GREDA",16,null,13,"URED PREDSJEDNIKA REPUBLIKE HRVATSKE PO PRESTANKU OBNAŠANJA",null,null,null,163]
[null,null,null,null,null,null,null,null,null,null,null,null,null,4,"BAKAR",8,null,15,"URED PREDSJEDNIKA REPUBLIKE HRVATSKE",null,null,null,164]
["U ___________________________________ dana _________________ 20____ godine.",null,null,null,null,null,null,null,null,{"$f":" \"Verzija Excel datoteke: \" & MID(Skriveni!K36,1,1) & \".\" & MID(Skriveni!K36,2,1) & \".\" & MID(Skriveni!K36,3,1) & \".\"","v":"Verzija Excel datoteke: 3.0.6."},null,null,null,5,"BALE",18,null,17,"USTAVNI SUD REPUBLIKE HRVATSKE",null,null,null,170]
[null,null,null,null,null,null,null,null,null,null,null,null,null,6,"BARBAN",18,null,18,"AGENCIJA ZA ZAŠTITU TRŽIŠNOG NATJECANJA",null,null,null,210]
["(potpis voditelja računovodstva)",null,null,null,null,"M.P.",null,"(potpis zakonskog predstavnika)",null,null,null,null,null,7,"BARILOVIĆI",4,null,20,"VLADA REPUBLIKE HRVATSKE",null,null,null,220]
[null,null,null,null,null,null,null,null,null,null,null,null,null,8,"BAŠKA",8,null,25,"MINISTARSTVO FINANCIJA",null,null,null,230]
[null,null,null,null,null,null,null,null,null,null,null,null,null,9,"BAŠKA VODA",17,null,26,"DRŽAVNI URED ZA TRGOVINSKU POLITIKU",null,null,null,240]
[null,null,null,null,null,null,null,null,null,null,null,null,null,10,"BEBRINA",12,null,27,"RH SIGURNOSNO-OBAVJEŠTAJNA AGENCIJA",null,null,null,311]
[null,null,null,null,null,null,null,null,null,null,null,null,null,11,"BEDEKOVČINA",2,null,28,"DRŽAVNI URED ZA SREDIŠNJU JAVNU NABAVU",null,null,null,312]
[null,null,null,null,null,null,null,null,null,null,null,null,null,12,"BEDNJA",5,null,29,"DRŽAVNI URED ZA UPRAVLJANJE DRŽAVNOM IMOVINOM",null,null,null,321]
[null,null,null,null,null,null,null,null,null,null,null,null,null,13,"BELI MANASTIR",14,null,30,"MINISTARSTVO OBRANE",null,null,null,322]
[null,null,null,null,null,null,null,null,null,null,null,null,null,15,"BELICA",20,null,32,"DRŽAVNI URED ZA HRVATE IZVAN REPUBLIKE HRVATSKE",null,null,null,510]
[null,null,null,null,null,null,null,null,null,null,null,null,null,16,"BELIŠĆE",14,null,33,"DRŽAVNI URED ZA OBNOVU I STAMBENO ZBRINJAVANJE",null,null,null,520]
[null,null,null,null,null,null,null,null,null,null,null,null,null,17,"BENKOVAC",13,null,40,"MINISTARSTVO UNUTARNJIH POSLOVA",null,null,null,610]
[null,null,null,null,null,null,null,null,null,null,null,null,null,18,"BEREK",7,null,41,"MINISTARSTVO BRANITELJA",null,null,null,620]
[null,null,null,null,null,null,null,null,null,null,null,null,null,19,"BERETINEC",5,null,48,"MINISTARSTVO VANJSKIH I EUROPSKIH POSLOVA",null,null,null,710]
[null,null,null,null,null,null,null,null,null,null,null,null,null,20,"BIBINJE",13,null,49,"MINISTARSTVO GOSPODARSTVA",null,null,null,721]
[null,null,null,null,null,null,null,null,null,null,null,null,null,21,"BILJE",14,null,51,"MINISTARSTVO PODUZETNIŠTVA I OBRTA",null,null,null,729]
[null,null,null,null,null,null,null,null,null,null,null,null,null,22,"BIOGRAD NA MORU",13,null,55,"MINISTARSTVO KULTURE",null,null,null,811]
[null,null,null,null,null,null,null,null,null,null,null,null,null,23,"BIZOVAC",14,null,60,"MINISTARSTVO POLJOPRIVREDE",null,null,null,812]
[null,null,null,null,null,null,null,null,null,null,null,null,null,24,"BJELOVAR",7,null,61,"MINISTARSTVO REGIONALNOGA RAZVOJA I FONDOVA EUROPSKE UNIJE",null,null,null,891]
[null,null,null,null,null,null,null,null,null,null,null,null,null,25,"BLATO",19,null,65,"MINISTARSTVO POMORSTVA, PROMETA I INFRASTRUKTURE",null,null,null,892]
[null,null,null,null,null,null,null,null,null,null,null,null,null,26,"BOGDANOVCI",16,null,76,"MINISTARSTVO GRADITELJSTVA I PROSTORNOGA UREĐENJA",null,null,null,893]
[null,null,null,null,null,null,null,null,null,null,null,null,null,27,"BOL",17,null,77,"MINISTARSTVO ZAŠTITE OKOLIŠA I PRIRODE",null,null,null,899]
[null,null,null,null,null,null,null,null,null,null,null,null,null,29,"BOROVO",16,null,80,"MINISTARSTVO ZNANOSTI, OBRAZOVANJA I SPORTA",null,null,null,910]
[null,null,null,null,null,null,null,null,null,null,null,null,null,30,"BOSILJEVO",4,null,86,"MINISTARSTVO RADA I MIROVINSKOGA SUSTAVA",null,null,null,990]
[null,null,null,null,null,null,null,null,null,null,null,null,null,32,"BOŠNJACI",16,null,90,"MINISTARSTVO TURIZMA",null,null,null,1011]
[null,null,null,null,null,null,null,null,null,null,null,null,null,33,"BRCKOVLJANI",1,null,95,"MINISTARSTVO UPRAVE",null,null,null,1012]
[null,null,null,null,null,null,null,null,null,null,null,null,null,34,"BRDOVEC",1,null,96,"MINISTARSTVO ZDRAVLJA",null,null,null,1013]
[null,null,null,null,null,null,null,null,null,null,null,null,null,35,"BRESTOVAC",11,null,102,"MINISTARSTVO SOCIJALNE POLITIKE I MLADIH",null,null,null,1020]
[null,null,null,null,null,null,null,null,null,null,null,null,null,36,"BREZNICA",5,null,106,"HRVATSKA AKADEMIJA ZNANOSTI I UMJETNOSTI",null,null,null,1031]
[null,null,null,null,null,null,null,null,null,null,null,null,null,37,"BRINJE",9,null,110,"MINISTARSTVO PRAVOSUĐA",null,null,null,1032]
[null,null,null,null,null,null,null,null,null,null,null,null,null,38,"BROD MORAVICE",8,null,120,"URED PUČKOG PRAVOBRANITELJA",null,null,null,1039]
[null,null,null,null,null,null,null,null,null,null,null,null,null,39,"BRODSKI STUPNIK",12,null,121,"PRAVOBRANITELJ ZA DJECU",null,null,null,1041]
[null,null,null,null,null,null,null,null,null,null,null,null,null,40,"BRTONIGLA",18,null,122,"PRAVOBRANITELJ/ICA ZA RAVNOPRAVNOST SPOLOVA",null,null,null,1042]
[null,null,null,null,null,null,null,null,null,null,null,null,null,41,"BUDINŠČINA",2,null,123,"PRAVOBRANITELJ ZA OSOBE S INVALIDITETOM",null,null,null,1051]
[null,null,null,null,null,null,null,null,null,null,null,null,null,42,"BUJE",18,null,160,"DRŽAVNI ZAVOD ZA STATISTIKU",null,null,null,1052]
[null,null,null,null,null,null,null,null,null,null,null,null,null,43,"BUZET",18,null,185,"DRŽAVNI URED ZA REVIZIJU",null,null,null,1061]
[null,null,null,null,null,null,null,null,null,null,null,null,null,44,"CERNA",16,null,196,"DRŽAVNA KOMISIJA ZA KONTROLU POSTUPAKA JAVNE NABAVE",null,null,null,1062]
[null,null,null,null,null,null,null,null,null,null,null,null,null,46,"CERNIK",12,null,225,"DRŽAVNI INSPEKTORAT",null,null,null,1071]
[null,null,null,null,null,null,null,null,null,null,null,null,null,47,"CEROVLJE",18,null,230,"KOMISIJA ZA ODNOSE S VJERSKIM ZAJEDNICAMA",null,null,null,1072]
[null,null,null,null,null,null,null,null,null,null,null,null,null,48,"CESTICA",5,null,235,"DIGITALNI INFORMACIJSKO-DOKUMENTACIJSKI URED",null,null,null,1073]
[null,null,null,null,null,null,null,null,null,null,null,null,null,49,"CETINGRAD",4,null,240,"URED VIJEĆA ZA NACIONALNU SIGURNOST",null,null,null,1081]
[null,null,null,null,null,null,null,null,null,null,null,null,null,50,"CISTA PROVO",17,null,241,"OPERATIVNO-TEHNIČKI CENTAR ZA NADZOR TELEKOMUNIKACIJA",null,null,null,1082]
[null,null,null,null,null,null,null,null,null,null,null,null,null,51,"CIVLJANE",15,null,242,"ZAVOD ZA SIGURNOST INFORMACIJSKIH SUSTAVA",null,null,null,1083]
[null,null,null,null,null,null,null,null,null,null,null,null,null,52,"CRES",8,null,250,"AGENCIJA ZA ZAŠTITU OSOBNIH PODATAKA",null,null,null,1084]
[null,null,null,null,null,null,null,null,null,null,null,null,null,53,"CRIKVENICA",8,null,256,"DRŽAVNI ZAVOD ZA RADIOLOŠKU I NUKLEARNU SIGURNOST",null,null,null,1085]
[null,null,null,null,null,null,null,null,null,null,null,null,null,54,"CRNAC",10,null,257,"AGENCIJA ZA REGULACIJU TRŽIŠTA ŽELJEZNIČKIH USLUGA",null,null,null,1086]
[null,null,null,null,null,null,null,null,null,null,null,null,null,55,"ČABAR",8,null,258,"POVJERENIK ZA INFORMIRANJE",null,null,null,1089]
[null,null,null,null,null,null,null,null,null,null,null,null,null,56,"ČAČINCI",10,null,null,null,null,null,null,1091]
[null,null,null,null,null,null,null,null,null,null,null,null,null,57,"ČAĐAVICA",10,null,null,null,null,null,null,1092]
[null,null,null,null,null,null,null,null,null,null,null,null,null,58,"ČAGLIN",11,null,null,null,null,null,null,1101]
[null,null,null,null,null,null,null,null,null,null,null,null,null,60,"ČAKOVEC",20,null,null,null,null,null,null,1102]
[null,null,null,null,null,null,null,null,null,null,null,null,null,61,"ČAVLE",8,null,null,null,null,null,null,1103]
[null,null,null,null,null,null,null,null,null,null,null,null,null,63,"ČAZMA",7,null,null,null,null,null,null,1104]
[null,null,null,null,null,null,null,null,null,null,null,null,null,64,"ČEMINAC",14,null,null,null,null,null,null,1105]
[null,null,null,null,null,null,null,null,null,null,null,null,null,65,"ČEPIN",14,null,null,null,null,null,null,1106]
[null,null,null,null,null,null,null,null,null,null,null,null,null,66,"DARDA",14,null,null,null,null,null,null,1107]
[null,null,null,null,null,null,null,null,null,null,null,null,null,67,"DARUVAR",7,null,null,null,null,null,null,1200]
[null,null,null,null,null,null,null,null,null,null,null,null,null,68,"DAVOR",12,null,null,null,null,null,null,1310]
[null,null,null,null,null,null,null,null,null,null,null,null,null,69,"DELNICE",8,null,null,null,null,null,null,1320]
[null,null,null,null,null,null,null,null,null,null,null,null,null,70,"DESINIĆ",2,null,null,null,null,null,null,1330]
[null,null,null,null,null,null,null,null,null,null,null,null,null,71,"DEŽANOVAC",7,null,null,null,null,null,null,1391]
[null,null,null,null,null,null,null,null,null,null,null,null,null,72,"DICMO",17,null,null,null,null,null,null,1392]
[null,null,null,null,null,null,null,null,null,null,null,null,null,74,"DOBRINJ",8,null,null,null,null,null,null,1393]
[null,null,null,null,null,null,null,null,null,null,null,null,null,75,"DOMAŠINEC",20,null,null,null,null,null,null,1394]
[null,null,null,null,null,null,null,null,null,null,null,null,null,77,"BRELA",17,null,null,null,null,null,null,1395]
[null,null,null,null,null,null,null,null,null,null,null,null,null,78,"DONJA DUBRAVA",20,null,null,null,null,null,null,1396]
[null,null,null,null,null,null,null,null,null,null,null,null,null,79,"DONJA STUBICA",2,null,null,null,null,null,null,1399]
[null,null,null,null,null,null,null,null,null,null,null,null,null,80,"DONJA VOĆA",5,null,null,null,null,null,null,1411]
[null,null,null,null,null,null,null,null,null,null,null,null,null,81,"DONJI ANDRIJEVCI",12,null,null,null,null,null,null,1412]
[null,null,null,null,null,null,null,null,null,null,null,null,null,82,"DONJI KRALJEVEC",20,null,null,null,null,null,null,1413]
[null,null,null,null,null,null,null,null,null,null,null,null,null,83,"DONJI KUKURUZARI",3,null,null,null,null,null,null,1414]
[null,null,null,null,null,null,null,null,null,null,null,null,null,84,"DONJI LAPAC",9,null,null,null,null,null,null,1419]
[null,null,null,null,null,null,null,null,null,null,null,null,null,85,"DONJI MARTIJANEC",5,null,null,null,null,null,null,1420]
[null,null,null,null,null,null,null,null,null,null,null,null,null,86,"DONJI MIHOLJAC",14,null,null,null,null,null,null,1431]
[null,null,null,null,null,null,null,null,null,null,null,null,null,87,"MUĆ",17,null,null,null,null,null,null,1439]
[null,null,null,null,null,null,null,null,null,null,null,null,null,88,"PROLOŽAC",17,null,null,null,null,null,null,1511]
[null,null,null,null,null,null,null,null,null,null,null,null,null,89,"DONJI VIDOVEC",20,null,null,null,null,null,null,1512]
[null,null,null,null,null,null,null,null,null,null,null,null,null,90,"DRAGANIĆ",4,null,null,null,null,null,null,1520]
[null,null,null,null,null,null,null,null,null,null,null,null,null,91,"DRAŽ",14,null,null,null,null,null,null,1610]
[null,null,null,null,null,null,null,null,null,null,null,null,null,92,"DRENOVCI",16,null,null,null,null,null,null,1621]
[null,null,null,null,null,null,null,null,null,null,null,null,null,94,"DRENJE",14,null,null,null,null,null,null,1622]
[null,null,null,null,null,null,null,null,null,null,null,null,null,95,"DRNIŠ",15,null,null,null,null,null,null,1623]
[null,null,null,null,null,null,null,null,null,null,null,null,null,96,"DRNJE",6,null,null,null,null,null,null,1624]
[null,null,null,null,null,null,null,null,null,null,null,null,null,97,"DUBRAVA",1,null,null,null,null,null,null,1629]
[null,null,null,null,null,null,null,null,null,null,null,null,null,98,"DUBROVNIK",19,null,null,null,null,null,null,1711]
[null,null,null,null,null,null,null,null,null,null,null,null,null,99,"DUGA RESA",4,null,null,null,null,null,null,1712]
[null,null,null,null,null,null,null,null,null,null,null,null,null,100,"DUGI RAT",17,null,null,null,null,null,null,1721]
[null,null,null,null,null,null,null,null,null,null,null,null,null,101,"DUGO SELO",1,null,null,null,null,null,null,1722]
[null,null,null,null,null,null,null,null,null,null,null,null,null,102,"DVOR",3,null,null,null,null,null,null,1723]
[null,null,null,null,null,null,null,null,null,null,null,null,null,103,"ĐAKOVO",14,null,null,null,null,null,null,1724]
[null,null,null,null,null,null,null,null,null,null,null,null,null,104,"ĐELEKOVEC",6,null,null,null,null,null,null,1729]
[null,null,null,null,null,null,null,null,null,null,null,null,null,105,"ĐULOVAC",7,null,null,null,null,null,null,1811]
[null,null,null,null,null,null,null,null,null,null,null,null,null,106,"ĐURĐENOVAC",14,null,null,null,null,null,null,1812]
[null,null,null,null,null,null,null,null,null,null,null,null,null,107,"ĐURĐEVAC",6,null,null,null,null,null,null,1813]
[null,null,null,null,null,null,null,null,null,null,null,null,null,108,"ĐURMANEC",2,null,null,null,null,null,null,1814]
[null,null,null,null,null,null,null,null,null,null,null,null,null,110,"ERDUT",14,null,null,null,null,null,null,1820]
[null,null,null,null,null,null,null,null,null,null,null,null,null,111,"ERNESTINOVO",14,null,null,null,null,null,null,1910]
[null,null,null,null,null,null,null,null,null,null,null,null,null,113,"ERVENIK",15,null,null,null,null,null,null,1920]
[null,null,null,null,null,null,null,null,null,null,null,null,null,114,"FARKAŠEVAC",1,null,null,null,null,null,null,2011]
[null,null,null,null,null,null,null,null,null,null,null,null,null,115,"FERDINANDOVAC",6,null,null,null,null,null,null,2012]
[null,null,null,null,null,null,null,null,null,null,null,null,null,116,"FERIČANCI",14,null,null,null,null,null,null,2013]
[null,null,null,null,null,null,null,null,null,null,null,null,null,117,"FUŽINE",8,null,null,null,null,null,null,2014]
[null,null,null,null,null,null,null,null,null,null,null,null,null,118,"GARČIN",12,null,null,null,null,null,null,2015]
[null,null,null,null,null,null,null,null,null,null,null,null,null,119,"GAREŠNICA",7,null,null,null,null,null,null,2016]
[null,null,null,null,null,null,null,null,null,null,null,null,null,120,"GENERALSKI STOL",4,null,null,null,null,null,null,2017]
[null,null,null,null,null,null,null,null,null,null,null,null,null,121,"GLINA",3,null,null,null,null,null,null,2020]
[null,null,null,null,null,null,null,null,null,null,null,null,null,122,"GOLA",6,null,null,null,null,null,null,2030]
[null,null,null,null,null,null,null,null,null,null,null,null,null,123,"GORIČAN",20,null,null,null,null,null,null,2041]
[null,null,null,null,null,null,null,null,null,null,null,null,null,124,"GORJANI",14,null,null,null,null,null,null,2042]
[null,null,null,null,null,null,null,null,null,null,null,null,null,125,"GORNJA STUBICA",2,null,null,null,null,null,null,2051]
[null,null,null,null,null,null,null,null,null,null,null,null,null,127,"GORNJI BOGIĆEVCI",12,null,null,null,null,null,null,2052]
[null,null,null,null,null,null,null,null,null,null,null,null,null,129,"GORNJI KNEGINEC",5,null,null,null,null,null,null,2053]
[null,null,null,null,null,null,null,null,null,null,null,null,null,130,"GOSPIĆ",9,null,null,null,null,null,null,2059]
[null,null,null,null,null,null,null,null,null,null,null,null,null,131,"GRAČAC",13,null,null,null,null,null,null,2060]
[null,null,null,null,null,null,null,null,null,null,null,null,null,132,"GRAČIŠĆE",18,null,null,null,null,null,null,2110]
[null,null,null,null,null,null,null,null,null,null,null,null,null,133,"GRAD ZAGREB",21,null,null,null,null,null,null,2120]
[null,null,null,null,null,null,null,null,null,null,null,null,null,134,"GRADAC",17,null,null,null,null,null,null,2211]
[null,null,null,null,null,null,null,null,null,null,null,null,null,135,"GRADEC",1,null,null,null,null,null,null,2219]
[null,null,null,null,null,null,null,null,null,null,null,null,null,136,"GRADINA",10,null,null,null,null,null,null,2221]
[null,null,null,null,null,null,null,null,null,null,null,null,null,137,"GRADIŠTE",16,null,null,null,null,null,null,2222]
[null,null,null,null,null,null,null,null,null,null,null,null,null,138,"GROŽNJAN",18,null,null,null,null,null,null,2223]
[null,null,null,null,null,null,null,null,null,null,null,null,null,139,"GRUBIŠNO POLJE",7,null,null,null,null,null,null,2229]
[null,null,null,null,null,null,null,null,null,null,null,null,null,140,"GUNDINCI",12,null,null,null,null,null,null,2311]
[null,null,null,null,null,null,null,null,null,null,null,null,null,141,"GUNJA",16,null,null,null,null,null,null,2312]
[null,null,null,null,null,null,null,null,null,null,null,null,null,144,"HERCEGOVAC",7,null,null,null,null,null,null,2313]
[null,null,null,null,null,null,null,null,null,null,null,null,null,145,"HLEBINE",6,null,null,null,null,null,null,2314]
[null,null,null,null,null,null,null,null,null,null,null,null,null,146,"HRAŠĆINA",2,null,null,null,null,null,null,2319]
[null,null,null,null,null,null,null,null,null,null,null,null,null,148,"HRVACE",17,null,null,null,null,null,null,2320]
[null,null,null,null,null,null,null,null,null,null,null,null,null,149,"HRVATSKA DUBICA",3,null,null,null,null,null,null,2331]
[null,null,null,null,null,null,null,null,null,null,null,null,null,150,"HRVATSKA KOSTAJNICA",3,null,null,null,null,null,null,2332]
[null,null,null,null,null,null,null,null,null,null,null,null,null,151,"BREZNIČKI HUM",5,null,null,null,null,null,null,2341]
[null,null,null,null,null,null,null,null,null,null,null,null,null,152,"HUM NA SUTLI",2,null,null,null,null,null,null,2342]
[null,null,null,null,null,null,null,null,null,null,null,null,null,153,"HVAR",17,null,null,null,null,null,null,2343]
[null,null,null,null,null,null,null,null,null,null,null,null,null,154,"ILOK",16,null,null,null,null,null,null,2344]
[null,null,null,null,null,null,null,null,null,null,null,null,null,155,"IMOTSKI",17,null,null,null,null,null,null,2349]
[null,null,null,null,null,null,null,null,null,null,null,null,null,156,"IVANEC",5,null,null,null,null,null,null,2351]
[null,null,null,null,null,null,null,null,null,null,null,null,null,158,"IVANIĆ-GRAD",1,null,null,null,null,null,null,2352]
[null,null,null,null,null,null,null,null,null,null,null,null,null,159,"IVANKOVO",16,null,null,null,null,null,null,2361]
[null,null,null,null,null,null,null,null,null,null,null,null,null,161,"IVANSKA",7,null,null,null,null,null,null,2362]
[null,null,null,null,null,null,null,null,null,null,null,null,null,163,"JAKOVLJE",1,null,null,null,null,null,null,2363]
[null,null,null,null,null,null,null,null,null,null,null,null,null,164,"JAKŠIĆ",11,null,null,null,null,null,null,2364]
[null,null,null,null,null,null,null,null,null,null,null,null,null,165,"JALŽABET",5,null,null,null,null,null,null,2365]
[null,null,null,null,null,null,null,null,null,null,null,null,null,166,"JARMINA",16,null,null,null,null,null,null,2369]
[null,null,null,null,null,null,null,null,null,null,null,null,null,167,"JASENICE",13,null,null,null,null,null,null,2370]
[null,null,null,null,null,null,null,null,null,null,null,null,null,168,"JASENOVAC",3,null,null,null,null,null,null,2391]
[null,null,null,null,null,null,null,null,null,null,null,null,null,169,"JASTREBARSKO",1,null,null,null,null,null,null,2399]
[null,null,null,null,null,null,null,null,null,null,null,null,null,170,"JELENJE",8,null,null,null,null,null,null,2410]
[null,null,null,null,null,null,null,null,null,null,null,null,null,171,"JELSA",17,null,null,null,null,null,null,2420]
[null,null,null,null,null,null,null,null,null,null,null,null,null,172,"JOSIPDOL",4,null,null,null,null,null,null,2431]
[null,null,null,null,null,null,null,null,null,null,null,null,null,173,"KALI",13,null,null,null,null,null,null,2432]
[null,null,null,null,null,null,null,null,null,null,null,null,null,175,"KANFANAR",18,null,null,null,null,null,null,2433]
[null,null,null,null,null,null,null,null,null,null,null,null,null,176,"KAPELA",7,null,null,null,null,null,null,2434]
[null,null,null,null,null,null,null,null,null,null,null,null,null,177,"KAPTOL",11,null,null,null,null,null,null,2441]
[null,null,null,null,null,null,null,null,null,null,null,null,null,178,"KARLOBAG",9,null,null,null,null,null,null,2442]
[null,null,null,null,null,null,null,null,null,null,null,null,null,179,"KARLOVAC",4,null,null,null,null,null,null,2443]
[null,null,null,null,null,null,null,null,null,null,null,null,null,180,"KASTAV",8,null,null,null,null,null,null,2444]
[null,null,null,null,null,null,null,null,null,null,null,null,null,181,"KAŠTELA",17,null,null,null,null,null,null,2445]
[null,null,null,null,null,null,null,null,null,null,null,null,null,183,"KIJEVO",15,null,null,null,null,null,null,2446]
[null,null,null,null,null,null,null,null,null,null,null,null,null,184,"KISTANJE",15,null,null,null,null,null,null,2451]
[null,null,null,null,null,null,null,null,null,null,null,null,null,185,"KLAKAR",12,null,null,null,null,null,null,2452]
[null,null,null,null,null,null,null,null,null,null,null,null,null,186,"KLANA",8,null,null,null,null,null,null,2453]
[null,null,null,null,null,null,null,null,null,null,null,null,null,187,"KLANJEC",2,null,null,null,null,null,null,2454]
[null,null,null,null,null,null,null,null,null,null,null,null,null,189,"KLENOVNIK",5,null,null,null,null,null,null,2511]
[null,null,null,null,null,null,null,null,null,null,null,null,null,190,"KLINČA SELA",1,null,null,null,null,null,null,2512]
[null,null,null,null,null,null,null,null,null,null,null,null,null,192,"KLIS",17,null,null,null,null,null,null,2521]
[null,null,null,null,null,null,null,null,null,null,null,null,null,193,"KLOŠTAR IVANIĆ",1,null,null,null,null,null,null,2529]
[null,null,null,null,null,null,null,null,null,null,null,null,null,194,"KLOŠTAR PODRAVSKI",6,null,null,null,null,null,null,2530]
[null,null,null,null,null,null,null,null,null,null,null,null,null,195,"KNEŽEVI VINOGRADI",14,null,null,null,null,null,null,2540]
[null,null,null,null,null,null,null,null,null,null,null,null,null,196,"KNIN",15,null,null,null,null,null,null,2550]
[null,null,null,null,null,null,null,null,null,null,null,null,null,197,"KOMIŽA",17,null,null,null,null,null,null,2561]
[null,null,null,null,null,null,null,null,null,null,null,null,null,198,"KONAVLE",19,null,null,null,null,null,null,2562]
[null,null,null,null,null,null,null,null,null,null,null,null,null,199,"KONČANICA",7,null,null,null,null,null,null,2571]
[null,null,null,null,null,null,null,null,null,null,null,null,null,200,"KONJŠČINA",2,null,null,null,null,null,null,2572]
[null,null,null,null,null,null,null,null,null,null,null,null,null,201,"KOPRIVNICA",6,null,null,null,null,null,null,2573]
[null,null,null,null,null,null,null,null,null,null,null,null,null,202,"KOPRIVNIČKI BREGI",6,null,null,null,null,null,null,2591]
[null,null,null,null,null,null,null,null,null,null,null,null,null,203,"KOPRIVNIČKI IVANEC",6,null,null,null,null,null,null,2592]
[null,null,null,null,null,null,null,null,null,null,null,null,null,204,"KORČULA",19,null,null,null,null,null,null,2593]
[null,null,null,null,null,null,null,null,null,null,null,null,null,205,"KOŠKA",14,null,null,null,null,null,null,2594]
[null,null,null,null,null,null,null,null,null,null,null,null,null,206,"KOTORIBA",20,null,null,null,null,null,null,2599]
[null,null,null,null,null,null,null,null,null,null,null,null,null,208,"KRALJEVEC NA SUTLI",2,null,null,null,null,null,null,2611]
[null,null,null,null,null,null,null,null,null,null,null,null,null,209,"KRALJEVICA",8,null,null,null,null,null,null,2612]
[null,null,null,null,null,null,null,null,null,null,null,null,null,211,"KRAPINA",2,null,null,null,null,null,null,2620]
[null,null,null,null,null,null,null,null,null,null,null,null,null,212,"KRAPINSKE TOPLICE",2,null,null,null,null,null,null,2630]
[null,null,null,null,null,null,null,null,null,null,null,null,null,213,"KRIŽ",1,null,null,null,null,null,null,2640]
[null,null,null,null,null,null,null,null,null,null,null,null,null,214,"KRIŽEVCI",6,null,null,null,null,null,null,2651]
[null,null,null,null,null,null,null,null,null,null,null,null,null,215,"KRK",8,null,null,null,null,null,null,2652]
[null,null,null,null,null,null,null,null,null,null,null,null,null,216,"KRNJAK",4,null,null,null,null,null,null,2660]
[null,null,null,null,null,null,null,null,null,null,null,null,null,217,"KRŠAN",18,null,null,null,null,null,null,2670]
[null,null,null,null,null,null,null,null,null,null,null,null,null,219,"KULA NORINSKA",19,null,null,null,null,null,null,2680]
[null,null,null,null,null,null,null,null,null,null,null,null,null,220,"KUTINA",3,null,null,null,null,null,null,2711]
[null,null,null,null,null,null,null,null,null,null,null,null,null,221,"KUTJEVO",11,null,null,null,null,null,null,2712]
[null,null,null,null,null,null,null,null,null,null,null,null,null,222,"LABIN",18,null,null,null,null,null,null,2720]
[null,null,null,null,null,null,null,null,null,null,null,null,null,223,"LANIŠĆE",18,null,null,null,null,null,null,2731]
[null,null,null,null,null,null,null,null,null,null,null,null,null,225,"LASINJA",4,null,null,null,null,null,null,2732]
[null,null,null,null,null,null,null,null,null,null,null,null,null,226,"LASTOVO",19,null,null,null,null,null,null,2733]
[null,null,null,null,null,null,null,null,null,null,null,null,null,227,"LEGRAD",6,null,null,null,null,null,null,2740]
[null,null,null,null,null,null,null,null,null,null,null,null,null,228,"LEKENIK",3,null,null,null,null,null,null,2751]
[null,null,null,null,null,null,null,null,null,null,null,null,null,229,"LEPOGLAVA",5,null,null,null,null,null,null,2752]
[null,null,null,null,null,null,null,null,null,null,null,null,null,230,"LEVANJSKA VAROŠ",14,null,null,null,null,null,null,2790]
[null,null,null,null,null,null,null,null,null,null,null,null,null,231,"LIPIK",11,null,null,null,null,null,null,2811]
[null,null,null,null,null,null,null,null,null,null,null,null,null,232,"LIPOVLJANI",3,null,null,null,null,null,null,2812]
[null,null,null,null,null,null,null,null,null,null,null,null,null,234,"LIŠANE OSTROVIČKE",13,null,null,null,null,null,null,2813]
[null,null,null,null,null,null,null,null,null,null,null,null,null,235,"LIŽNJAN",18,null,null,null,null,null,null,2814]
[null,null,null,null,null,null,null,null,null,null,null,null,null,236,"LOBOR",2,null,null,null,null,null,null,2815]
[null,null,null,null,null,null,null,null,null,null,null,null,null,237,"LOKVE",8,null,null,null,null,null,null,2821]
[null,null,null,null,null,null,null,null,null,null,null,null,null,239,"LOVAS",16,null,null,null,null,null,null,2822]
[null,null,null,null,null,null,null,null,null,null,null,null,null,240,"LOVINAC",9,null,null,null,null,null,null,2823]
[null,null,null,null,null,null,null,null,null,null,null,null,null,242,"LOVRAN",8,null,null,null,null,null,null,2824]
[null,null,null,null,null,null,null,null,null,null,null,null,null,243,"LOVREĆ",17,null,null,null,null,null,null,2825]
[null,null,null,null,null,null,null,null,null,null,null,null,null,244,"LUDBREG",5,null,null,null,null,null,null,2829]
[null,null,null,null,null,null,null,null,null,null,null,null,null,245,"LUKAČ",10,null,null,null,null,null,null,2830]
[null,null,null,null,null,null,null,null,null,null,null,null,null,246,"LUPOGLAV",18,null,null,null,null,null,null,2841]
[null,null,null,null,null,null,null,null,null,null,null,null,null,247,"LJUBEŠĆICA",5,null,null,null,null,null,null,2849]
[null,null,null,null,null,null,null,null,null,null,null,null,null,248,"MAČE",2,null,null,null,null,null,null,2891]
[null,null,null,null,null,null,null,null,null,null,null,null,null,249,"MAKARSKA",17,null,null,null,null,null,null,2892]
[null,null,null,null,null,null,null,null,null,null,null,null,null,250,"MALA SUBOTICA",20,null,null,null,null,null,null,2893]
[null,null,null,null,null,null,null,null,null,null,null,null,null,251,"MALI BUKOVEC",5,null,null,null,null,null,null,2894]
[null,null,null,null,null,null,null,null,null,null,null,null,null,252,"MALI LOŠINJ",8,null,null,null,null,null,null,2895]
[null,null,null,null,null,null,null,null,null,null,null,null,null,253,"MALINSKA-DUBAŠNICA",8,null,null,null,null,null,null,2896]
[null,null,null,null,null,null,null,null,null,null,null,null,null,254,"MARČANA",18,null,null,null,null,null,null,2899]
[null,null,null,null,null,null,null,null,null,null,null,null,null,256,"MARIJA BISTRICA",2,null,null,null,null,null,null,2910]
[null,null,null,null,null,null,null,null,null,null,null,null,null,257,"MARIJANCI",14,null,null,null,null,null,null,2920]
[null,null,null,null,null,null,null,null,null,null,null,null,null,258,"MARINA",17,null,null,null,null,null,null,2931]
[null,null,null,null,null,null,null,null,null,null,null,null,null,259,"MARTINSKA VES",3,null,null,null,null,null,null,2932]
[null,null,null,null,null,null,null,null,null,null,null,null,null,260,"MARUŠEVEC",5,null,null,null,null,null,null,3011]
[null,null,null,null,null,null,null,null,null,null,null,null,null,261,"MATULJI",8,null,null,null,null,null,null,3012]
[null,null,null,null,null,null,null,null,null,null,null,null,null,263,"MEDULIN",18,null,null,null,null,null,null,3020]
[null,null,null,null,null,null,null,null,null,null,null,null,null,264,"METKOVIĆ",19,null,null,null,null,null,null,3030]
[null,null,null,null,null,null,null,null,null,null,null,null,null,265,"MIHOVLJAN",2,null,null,null,null,null,null,3040]
[null,null,null,null,null,null,null,null,null,null,null,null,null,266,"MIKLEUŠ",10,null,null,null,null,null,null,3091]
[null,null,null,null,null,null,null,null,null,null,null,null,null,267,"MILNA",17,null,null,null,null,null,null,3092]
[null,null,null,null,null,null,null,null,null,null,null,null,null,268,"MLJET",19,null,null,null,null,null,null,3099]
[null,null,null,null,null,null,null,null,null,null,null,null,null,270,"MOLVE",6,null,null,null,null,null,null,3101]
[null,null,null,null,null,null,null,null,null,null,null,null,null,271,"PODRAVSKA MOSLAVINA",14,null,null,null,null,null,null,3102]
[null,null,null,null,null,null,null,null,null,null,null,null,null,273,"MOŠĆENIČKA DRAGA",8,null,null,null,null,null,null,3103]
[null,null,null,null,null,null,null,null,null,null,null,null,null,274,"MOTOVUN",18,null,null,null,null,null,null,3109]
[null,null,null,null,null,null,null,null,null,null,null,null,null,275,"MRKOPALJ",8,null,null,null,null,null,null,3211]
[null,null,null,null,null,null,null,null,null,null,null,null,null,276,"MURSKO SREDIŠĆE",20,null,null,null,null,null,null,3212]
[null,null,null,null,null,null,null,null,null,null,null,null,null,278,"NAŠICE",14,null,null,null,null,null,null,3213]
[null,null,null,null,null,null,null,null,null,null,null,null,null,279,"NEDELIŠĆE",20,null,null,null,null,null,null,3220]
[null,null,null,null,null,null,null,null,null,null,null,null,null,280,"NEREŽIŠĆA",17,null,null,null,null,null,null,3230]
[null,null,null,null,null,null,null,null,null,null,null,null,null,281,"NETRETIĆ",4,null,null,null,null,null,null,3240]
[null,null,null,null,null,null,null,null,null,null,null,null,null,282,"NIN",13,null,null,null,null,null,null,3250]
[null,null,null,null,null,null,null,null,null,null,null,null,null,283,"NOVA BUKOVICA",10,null,null,null,null,null,null,3291]
[null,null,null,null,null,null,null,null,null,null,null,null,null,284,"NOVA GRADIŠKA",12,null,null,null,null,null,null,3299]
[null,null,null,null,null,null,null,null,null,null,null,null,null,285,"NOVA KAPELA",12,null,null,null,null,null,null,3311]
[null,null,null,null,null,null,null,null,null,null,null,null,null,287,"NOVA RAČA",7,null,null,null,null,null,null,3312]
[null,null,null,null,null,null,null,null,null,null,null,null,null,288,"NOVALJA",9,null,null,null,null,null,null,3313]
[null,null,null,null,null,null,null,null,null,null,null,null,null,289,"NOVI MAROF",5,null,null,null,null,null,null,3314]
[null,null,null,null,null,null,null,null,null,null,null,null,null,290,"NOVI VINODOLSKI",8,null,null,null,null,null,null,3315]
[null,null,null,null,null,null,null,null,null,null,null,null,null,291,"NOVIGRAD",18,null,null,null,null,null,null,3316]
[null,null,null,null,null,null,null,null,null,null,null,null,null,292,"NOVIGRAD PODRAVSKI",6,null,null,null,null,null,null,3317]
[null,null,null,null,null,null,null,null,null,null,null,null,null,293,"NOVSKA",3,null,null,null,null,null,null,3319]
[null,null,null,null,null,null,null,null,null,null,null,null,null,294,"NUŠTAR",16,null,null,null,null,null,null,3320]
[null,null,null,null,null,null,null,null,null,null,null,null,null,295,"NIJEMCI",16,null,null,null,null,null,null,3511]
[null,null,null,null,null,null,null,null,null,null,null,null,null,296,"OBROVAC",13,null,null,null,null,null,null,3512]
[null,null,null,null,null,null,null,null,null,null,null,null,null,297,"OGULIN",4,null,null,null,null,null,null,3513]
[null,null,null,null,null,null,null,null,null,null,null,null,null,298,"PROMINA",15,null,null,null,null,null,null,3514]
[null,null,null,null,null,null,null,null,null,null,null,null,null,299,"OKUČANI",12,null,null,null,null,null,null,3521]
[null,null,null,null,null,null,null,null,null,null,null,null,null,300,"OMIŠ",17,null,null,null,null,null,null,3522]
[null,null,null,null,null,null,null,null,null,null,null,null,null,301,"OMIŠALJ",8,null,null,null,null,null,null,3523]
[null,null,null,null,null,null,null,null,null,null,null,null,null,302,"OPATIJA",8,null,null,null,null,null,null,3530]
[null,null,null,null,null,null,null,null,null,null,null,null,null,303,"OPRISAVCI",12,null,null,null,null,null,null,3600]
[null,null,null,null,null,null,null,null,null,null,null,null,null,304,"OPRTALJ",18,null,null,null,null,null,null,3700]
[null,null,null,null,null,null,null,null,null,null,null,null,null,306,"OPUZEN",19,null,null,null,null,null,null,3811]
[null,null,null,null,null,null,null,null,null,null,null,null,null,307,"ORAHOVICA",10,null,null,null,null,null,null,3812]
[null,null,null,null,null,null,null,null,null,null,null,null,null,308,"OREBIĆ",19,null,null,null,null,null,null,3821]
[null,null,null,null,null,null,null,null,null,null,null,null,null,309,"ORIOVAC",12,null,null,null,null,null,null,3822]
[null,null,null,null,null,null,null,null,null,null,null,null,null,310,"BISKUPIJA",15,null,null,null,null,null,null,3831]
[null,null,null,null,null,null,null,null,null,null,null,null,null,311,"OROSLAVJE",2,null,null,null,null,null,null,3832]
[null,null,null,null,null,null,null,null,null,null,null,null,null,312,"OSIJEK",14,null,null,null,null,null,null,3900]
[null,null,null,null,null,null,null,null,null,null,null,null,null,313,"OTOČAC",9,null,null,null,null,null,null,4110]
[null,null,null,null,null,null,null,null,null,null,null,null,null,314,"OTOK",17,null,null,null,null,null,null,4120]
[null,null,null,null,null,null,null,null,null,null,null,null,null,315,"OZALJ",4,null,null,null,null,null,null,4211]
[null,null,null,null,null,null,null,null,null,null,null,null,null,316,"PAG",13,null,null,null,null,null,null,4212]
[null,null,null,null,null,null,null,null,null,null,null,null,null,317,"PAKOŠTANE",13,null,null,null,null,null,null,4213]
[null,null,null,null,null,null,null,null,null,null,null,null,null,318,"PAKRAC",11,null,null,null,null,null,null,4221]
[null,null,null,null,null,null,null,null,null,null,null,null,null,320,"PAŠMAN",13,null,null,null,null,null,null,4222]
[null,null,null,null,null,null,null,null,null,null,null,null,null,321,"PAZIN",18,null,null,null,null,null,null,4291]
[null,null,null,null,null,null,null,null,null,null,null,null,null,323,"PERUŠIĆ",9,null,null,null,null,null,null,4299]
[null,null,null,null,null,null,null,null,null,null,null,null,null,324,"PETERANEC",6,null,null,null,null,null,null,4311]
[null,null,null,null,null,null,null,null,null,null,null,null,null,325,"PETLOVAC",14,null,null,null,null,null,null,4312]
[null,null,null,null,null,null,null,null,null,null,null,null,null,326,"PETRIJANEC",5,null,null,null,null,null,null,4313]
[null,null,null,null,null,null,null,null,null,null,null,null,null,327,"PETRIJEVCI",14,null,null,null,null,null,null,4321]
[null,null,null,null,null,null,null,null,null,null,null,null,null,328,"PETRINJA",3,null,null,null,null,null,null,4322]
[null,null,null,null,null,null,null,null,null,null,null,null,null,329,"PETROVSKO",2,null,null,null,null,null,null,4329]
[null,null,null,null,null,null,null,null,null,null,null,null,null,330,"PIĆAN",18,null,null,null,null,null,null,4331]
[null,null,null,null,null,null,null,null,null,null,null,null,null,331,"PISAROVINA",1,null,null,null,null,null,null,4332]
[null,null,null,null,null,null,null,null,null,null,null,null,null,332,"PITOMAČA",10,null,null,null,null,null,null,4333]
[null,null,null,null,null,null,null,null,null,null,null,null,null,333,"PLAŠKI",4,null,null,null,null,null,null,4334]
[null,null,null,null,null,null,null,null,null,null,null,null,null,334,"PLETERNICA",11,null,null,null,null,null,null,4339]
[null,null,null,null,null,null,null,null,null,null,null,null,null,335,"PLOČE",19,null,null,null,null,null,null,4391]
[null,null,null,null,null,null,null,null,null,null,null,null,null,337,"PODBABLJE",17,null,null,null,null,null,null,4399]
[null,null,null,null,null,null,null,null,null,null,null,null,null,338,"PODCRKAVLJE",12,null,null,null,null,null,null,4511]
[null,null,null,null,null,null,null,null,null,null,null,null,null,339,"PODGORA",17,null,null,null,null,null,null,4519]
[null,null,null,null,null,null,null,null,null,null,null,null,null,340,"PODGORAČ",14,null,null,null,null,null,null,4520]
[null,null,null,null,null,null,null,null,null,null,null,null,null,341,"PODSTRANA",17,null,null,null,null,null,null,4531]
[null,null,null,null,null,null,null,null,null,null,null,null,null,342,"PODTUREN",20,null,null,null,null,null,null,4532]
[null,null,null,null,null,null,null,null,null,null,null,null,null,343,"POJEZERJE",19,null,null,null,null,null,null,4540]
[null,null,null,null,null,null,null,null,null,null,null,null,null,344,"POLAČA",13,null,null,null,null,null,null,4611]
[null,null,null,null,null,null,null,null,null,null,null,null,null,345,"POLIČNIK",13,null,null,null,null,null,null,4612]
[null,null,null,null,null,null,null,null,null,null,null,null,null,346,"POPOVAC",14,null,null,null,null,null,null,4613]
[null,null,null,null,null,null,null,null,null,null,null,null,null,347,"POPOVAČA",3,null,null,null,null,null,null,4614]
[null,null,null,null,null,null,null,null,null,null,null,null,null,348,"POREČ",18,null,null,null,null,null,null,4615]
[null,null,null,null,null,null,null,null,null,null,null,null,null,349,"POSEDARJE",13,null,null,null,null,null,null,4616]
[null,null,null,null,null,null,null,null,null,null,null,null,null,350,"POSTIRA",17,null,null,null,null,null,null,4617]
[null,null,null,null,null,null,null,null,null,null,null,null,null,351,"POŽEGA",11,null,null,null,null,null,null,4618]
[null,null,null,null,null,null,null,null,null,null,null,null,null,352,"PREGRADA",2,null,null,null,null,null,null,4619]
[null,null,null,null,null,null,null,null,null,null,null,null,null,354,"PREKO",13,null,null,null,null,null,null,4621]
[null,null,null,null,null,null,null,null,null,null,null,null,null,355,"PRELOG",20,null,null,null,null,null,null,4622]
[null,null,null,null,null,null,null,null,null,null,null,null,null,356,"PRESEKA",1,null,null,null,null,null,null,4623]
[null,null,null,null,null,null,null,null,null,null,null,null,null,357,"PRIMOŠTEN",15,null,null,null,null,null,null,4624]
[null,null,null,null,null,null,null,null,null,null,null,null,null,358,"PUČIŠĆA",17,null,null,null,null,null,null,4631]
[null,null,null,null,null,null,null,null,null,null,null,null,null,359,"PULA",18,null,null,null,null,null,null,4632]
[null,null,null,null,null,null,null,null,null,null,null,null,null,360,"PUNAT",8,null,null,null,null,null,null,4633]
[null,null,null,null,null,null,null,null,null,null,null,null,null,361,"PUNITOVCI",14,null,null,null,null,null,null,4634]
[null,null,null,null,null,null,null,null,null,null,null,null,null,362,"PUŠĆA",1,null,null,null,null,null,null,4635]
[null,null,null,null,null,null,null,null,null,null,null,null,null,363,"RAB",8,null,null,null,null,null,null,4636]
[null,null,null,null,null,null,null,null,null,null,null,null,null,364,"RADOBOJ",2,null,null,null,null,null,null,4637]
[null,null,null,null,null,null,null,null,null,null,null,null,null,365,"RAKOVICA",4,null,null,null,null,null,null,4638]
[null,null,null,null,null,null,null,null,null,null,null,null,null,366,"RASINJA",6,null,null,null,null,null,null,4639]
[null,null,null,null,null,null,null,null,null,null,null,null,null,368,"RAŠA",18,null,null,null,null,null,null,4641]
[null,null,null,null,null,null,null,null,null,null,null,null,null,369,"RAVNA GORA",8,null,null,null,null,null,null,4642]
[null,null,null,null,null,null,null,null,null,null,null,null,null,371,"RAŽANAC",13,null,null,null,null,null,null,4643]
[null,null,null,null,null,null,null,null,null,null,null,null,null,372,"REŠETARI",12,null,null,null,null,null,null,4644]
[null,null,null,null,null,null,null,null,null,null,null,null,null,373,"RIJEKA",8,null,null,null,null,null,null,4645]
[null,null,null,null,null,null,null,null,null,null,null,null,null,374,"ROVINJ",18,null,null,null,null,null,null,4646]
[null,null,null,null,null,null,null,null,null,null,null,null,null,375,"ROVIŠĆE",7,null,null,null,null,null,null,4647]
[null,null,null,null,null,null,null,null,null,null,null,null,null,376,"RUGVICA",1,null,null,null,null,null,null,4648]
[null,null,null,null,null,null,null,null,null,null,null,null,null,377,"RUŽIĆ",15,null,null,null,null,null,null,4649]
[null,null,null,null,null,null,null,null,null,null,null,null,null,378,"SABORSKO",4,null,null,null,null,null,null,4651]
[null,null,null,null,null,null,null,null,null,null,null,null,null,379,"SALI",13,null,null,null,null,null,null,4652]
[null,null,null,null,null,null,null,null,null,null,null,null,null,380,"SAMOBOR",1,null,null,null,null,null,null,4661]
[null,null,null,null,null,null,null,null,null,null,null,null,null,381,"SATNICA ĐAKOVAČKA",14,null,null,null,null,null,null,4662]
[null,null,null,null,null,null,null,null,null,null,null,null,null,382,"SEGET",17,null,null,null,null,null,null,4663]
[null,null,null,null,null,null,null,null,null,null,null,null,null,383,"SELCA",17,null,null,null,null,null,null,4664]
[null,null,null,null,null,null,null,null,null,null,null,null,null,385,"SELNICA",20,null,null,null,null,null,null,4665]
[null,null,null,null,null,null,null,null,null,null,null,null,null,386,"SEMELJCI",14,null,null,null,null,null,null,4666]
[null,null,null,null,null,null,null,null,null,null,null,null,null,387,"SENJ",9,null,null,null,null,null,null,4669]
[null,null,null,null,null,null,null,null,null,null,null,null,null,388,"SIBINJ",12,null,null,null,null,null,null,4671]
[null,null,null,null,null,null,null,null,null,null,null,null,null,389,"SINJ",17,null,null,null,null,null,null,4672]
[null,null,null,null,null,null,null,null,null,null,null,null,null,390,"SIRAČ",7,null,null,null,null,null,null,4673]
[null,null,null,null,null,null,null,null,null,null,null,null,null,391,"SISAK",3,null,null,null,null,null,null,4674]
[null,null,null,null,null,null,null,null,null,null,null,null,null,393,"SKRAD",8,null,null,null,null,null,null,4675]
[null,null,null,null,null,null,null,null,null,null,null,null,null,394,"SKRADIN",15,null,null,null,null,null,null,4676]
[null,null,null,null,null,null,null,null,null,null,null,null,null,395,"SLATINA",10,null,null,null,null,null,null,4677]
[null,null,null,null,null,null,null,null,null,null,null,null,null,396,"SLAVONSKI BROD",12,null,null,null,null,null,null,4690]
[null,null,null,null,null,null,null,null,null,null,null,null,null,397,"SLAVONSKI ŠAMAC",12,null,null,null,null,null,null,4711]
[null,null,null,null,null,null,null,null,null,null,null,null,null,399,"SLIVNO",19,null,null,null,null,null,null,4719]
[null,null,null,null,null,null,null,null,null,null,null,null,null,400,"SLUNJ",4,null,null,null,null,null,null,4721]
[null,null,null,null,null,null,null,null,null,null,null,null,null,402,"SMOKVICA",19,null,null,null,null,null,null,4722]
[null,null,null,null,null,null,null,null,null,null,null,null,null,405,"SOKOLOVAC",6,null,null,null,null,null,null,4723]
[null,null,null,null,null,null,null,null,null,null,null,null,null,406,"SOLIN",17,null,null,null,null,null,null,4724]
[null,null,null,null,null,null,null,null,null,null,null,null,null,407,"SOPJE",10,null,null,null,null,null,null,4725]
[null,null,null,null,null,null,null,null,null,null,null,null,null,409,"SPLIT",17,null,null,null,null,null,null,4726]
[null,null,null,null,null,null,null,null,null,null,null,null,null,410,"SRAČINEC",5,null,null,null,null,null,null,4729]
[null,null,null,null,null,null,null,null,null,null,null,null,null,411,"STANKOVCI",13,null,null,null,null,null,null,4730]
[null,null,null,null,null,null,null,null,null,null,null,null,null,412,"STARA GRADIŠKA",12,null,null,null,null,null,null,4741]
[null,null,null,null,null,null,null,null,null,null,null,null,null,413,"STARI GRAD",17,null,null,null,null,null,null,4742]
[null,null,null,null,null,null,null,null,null,null,null,null,null,414,"STARI JANKOVCI",16,null,null,null,null,null,null,4743]
[null,null,null,null,null,null,null,null,null,null,null,null,null,415,"STARI MIKANOVCI",16,null,null,null,null,null,null,4751]
[null,null,null,null,null,null,null,null,null,null,null,null,null,416,"STARIGRAD",13,null,null,null,null,null,null,4752]
[null,null,null,null,null,null,null,null,null,null,null,null,null,418,"STARO PETROVO SELO",12,null,null,null,null,null,null,4753]
[null,null,null,null,null,null,null,null,null,null,null,null,null,419,"STON",19,null,null,null,null,null,null,4754]
[null,null,null,null,null,null,null,null,null,null,null,null,null,421,"STRIZIVOJNA",14,null,null,null,null,null,null,4759]
[null,null,null,null,null,null,null,null,null,null,null,null,null,422,"STUBIČKE TOPLICE",2,null,null,null,null,null,null,4761]
[null,null,null,null,null,null,null,null,null,null,null,null,null,423,"SUĆURAJ",17,null,null,null,null,null,null,4762]
[null,null,null,null,null,null,null,null,null,null,null,null,null,424,"SUHOPOLJE",10,null,null,null,null,null,null,4763]
[null,null,null,null,null,null,null,null,null,null,null,null,null,425,"SUKOŠAN",13,null,null,null,null,null,null,4764]
[null,null,null,null,null,null,null,null,null,null,null,null,null,426,"SUNJA",3,null,null,null,null,null,null,4765]
[null,null,null,null,null,null,null,null,null,null,null,null,null,427,"SUPETAR",17,null,null,null,null,null,null,4771]
[null,null,null,null,null,null,null,null,null,null,null,null,null,428,"SVETI FILIP I JAKOV",13,null,null,null,null,null,null,4772]
[null,null,null,null,null,null,null,null,null,null,null,null,null,429,"SVETI IVAN ZELINA",1,null,null,null,null,null,null,4773]
[null,null,null,null,null,null,null,null,null,null,null,null,null,430,"SVETI KRIŽ ZAČRETJE",2,null,null,null,null,null,null,4774]
[null,null,null,null,null,null,null,null,null,null,null,null,null,431,"SVETI LOVREČ",18,null,null,null,null,null,null,4775]
[null,null,null,null,null,null,null,null,null,null,null,null,null,432,"SVETA NEDELJA",18,null,null,null,null,null,null,4776]
[null,null,null,null,null,null,null,null,null,null,null,null,null,433,"SVETI PETAR U ŠUMI",18,null,null,null,null,null,null,4777]
[null,null,null,null,null,null,null,null,null,null,null,null,null,435,"SVETVINČENAT",18,null,null,null,null,null,null,4778]
[null,null,null,null,null,null,null,null,null,null,null,null,null,436,"SVETA NEDJELJA",1,null,null,null,null,null,null,4779]
[null,null,null,null,null,null,null,null,null,null,null,null,null,437,"SVETI ĐURĐ",5,null,null,null,null,null,null,4781]
[null,null,null,null,null,null,null,null,null,null,null,null,null,438,"SVETI ILIJA",5,null,null,null,null,null,null,4782]
[null,null,null,null,null,null,null,null,null,null,null,null,null,439,"SVETI IVAN ŽABNO",6,null,null,null,null,null,null,4789]
[null,null,null,null,null,null,null,null,null,null,null,null,null,440,"SVETI JURAJ NA BREGU",20,null,null,null,null,null,null,4791]
[null,null,null,null,null,null,null,null,null,null,null,null,null,441,"SVETI MARTIN NA MURI",20,null,null,null,null,null,null,4799]
[null,null,null,null,null,null,null,null,null,null,null,null,null,442,"SVETI PETAR OREHOVEC",6,null,null,null,null,null,null,4910]
[null,null,null,null,null,null,null,null,null,null,null,null,null,443,"ŠESTANOVAC",17,null,null,null,null,null,null,4920]
[null,null,null,null,null,null,null,null,null,null,null,null,null,444,"ŠIBENIK",15,null,null,null,null,null,null,4931]
[null,null,null,null,null,null,null,null,null,null,null,null,null,445,"ŠKABRNJE",13,null,null,null,null,null,null,4932]
[null,null,null,null,null,null,null,null,null,null,null,null,null,447,"ŠOLTA",17,null,null,null,null,null,null,4939]
[null,null,null,null,null,null,null,null,null,null,null,null,null,449,"ŠPIŠIĆ BUKOVICA",10,null,null,null,null,null,null,4941]
[null,null,null,null,null,null,null,null,null,null,null,null,null,450,"ŠTEFANJE",7,null,null,null,null,null,null,4942]
[null,null,null,null,null,null,null,null,null,null,null,null,null,452,"ŠTRIGOVA",20,null,null,null,null,null,null,4950]
[null,null,null,null,null,null,null,null,null,null,null,null,null,453,"TINJAN",18,null,null,null,null,null,null,5010]
[null,null,null,null,null,null,null,null,null,null,null,null,null,454,"TISNO",15,null,null,null,null,null,null,5020]
[null,null,null,null,null,null,null,null,null,null,null,null,null,455,"PLITVIČKA JEZERA",9,null,null,null,null,null,null,5030]
[null,null,null,null,null,null,null,null,null,null,null,null,null,456,"TOMPOJEVCI",16,null,null,null,null,null,null,5040]
[null,null,null,null,null,null,null,null,null,null,null,null,null,457,"TOPUSKO",3,null,null,null,null,null,null,5110]
[null,null,null,null,null,null,null,null,null,null,null,null,null,458,"TORDINCI",16,null,null,null,null,null,null,5121]
[null,null,null,null,null,null,null,null,null,null,null,null,null,459,"TOVARNIK",16,null,null,null,null,null,null,5122]
[null,null,null,null,null,null,null,null,null,null,null,null,null,460,"TRILJ",17,null,null,null,null,null,null,5210]
[null,null,null,null,null,null,null,null,null,null,null,null,null,461,"TRNAVA",14,null,null,null,null,null,null,5221]
[null,null,null,null,null,null,null,null,null,null,null,null,null,462,"TRNOVEC BARTOLOVEČKI",5,null,null,null,null,null,null,5222]
[null,null,null,null,null,null,null,null,null,null,null,null,null,463,"TROGIR",17,null,null,null,null,null,null,5223]
[null,null,null,null,null,null,null,null,null,null,null,null,null,464,"TRPINJA",16,null,null,null,null,null,null,5224]
[null,null,null,null,null,null,null,null,null,null,null,null,null,466,"TUHELJ",2,null,null,null,null,null,null,5229]
[null,null,null,null,null,null,null,null,null,null,null,null,null,467,"UDBINA",9,null,null,null,null,null,null,5310]
[null,null,null,null,null,null,null,null,null,null,null,null,null,468,"UMAG",18,null,null,null,null,null,null,5320]
[null,null,null,null,null,null,null,null,null,null,null,null,null,469,"UNEŠIĆ",15,null,null,null,null,null,null,5510]
[null,null,null,null,null,null,null,null,null,null,null,null,null,471,"VALPOVO",14,null,null,null,null,null,null,5520]
[null,null,null,null,null,null,null,null,null,null,null,null,null,472,"VARAŽDIN",5,null,null,null,null,null,null,5530]
[null,null,null,null,null,null,null,null,null,null,null,null,null,473,"VARAŽDINSKE TOPLICE",5,null,null,null,null,null,null,5590]
[null,null,null,null,null,null,null,null,null,null,null,null,null,474,"VELA LUKA",19,null,null,null,null,null,null,5610]
[null,null,null,null,null,null,null,null,null,null,null,null,null,475,"VELIKA",11,null,null,null,null,null,null,5621]
[null,null,null,null,null,null,null,null,null,null,null,null,null,476,"VELIKA KOPANICA",12,null,null,null,null,null,null,5629]
[null,null,null,null,null,null,null,null,null,null,null,null,null,477,"VELIKA LUDINA",3,null,null,null,null,null,null,5630]
[null,null,null,null,null,null,null,null,null,null,null,null,null,478,"VELIKA PISANICA",7,null,null,null,null,null,null,5811]
[null,null,null,null,null,null,null,null,null,null,null,null,null,480,"VELIKI GRĐEVAC",7,null,null,null,null,null,null,5812]
[null,null,null,null,null,null,null,null,null,null,null,null,null,481,"VELIKO TRGOVIŠĆE",2,null,null,null,null,null,null,5813]
[null,null,null,null,null,null,null,null,null,null,null,null,null,483,"VELIKO TROJSTVO",7,null,null,null,null,null,null,5814]
[null,null,null,null,null,null,null,null,null,null,null,null,null,484,"VIDOVEC",5,null,null,null,null,null,null,5819]
[null,null,null,null,null,null,null,null,null,null,null,null,null,485,"VILJEVO",14,null,null,null,null,null,null,5821]
[null,null,null,null,null,null,null,null,null,null,null,null,null,486,"VINICA",5,null,null,null,null,null,null,5829]
[null,null,null,null,null,null,null,null,null,null,null,null,null,487,"VINKOVCI",16,null,null,null,null,null,null,5911]
[null,null,null,null,null,null,null,null,null,null,null,null,null,488,"VINODOLSKA OPĆINA",8,null,null,null,null,null,null,5912]
[null,null,null,null,null,null,null,null,null,null,null,null,null,489,"VIR",13,null,null,null,null,null,null,5913]
[null,null,null,null,null,null,null,null,null,null,null,null,null,490,"VIRJE",6,null,null,null,null,null,null,5914]
[null,null,null,null,null,null,null,null,null,null,null,null,null,491,"VIROVITICA",10,null,null,null,null,null,null,5920]
[null,null,null,null,null,null,null,null,null,null,null,null,null,492,"VIS",17,null,null,null,null,null,null,6010]
[null,null,null,null,null,null,null,null,null,null,null,null,null,493,"VISOKO",5,null,null,null,null,null,null,6020]
[null,null,null,null,null,null,null,null,null,null,null,null,null,494,"VIŠKOVCI",14,null,null,null,null,null,null,6110]
[null,null,null,null,null,null,null,null,null,null,null,null,null,495,"VIŠKOVO",8,null,null,null,null,null,null,6120]
[null,null,null,null,null,null,null,null,null,null,null,null,null,497,"VIŠNJAN",18,null,null,null,null,null,null,6130]
[null,null,null,null,null,null,null,null,null,null,null,null,null,498,"VIŽINADA",18,null,null,null,null,null,null,6190]
[null,null,null,null,null,null,null,null,null,null,null,null,null,499,"VOĆIN",10,null,null,null,null,null,null,6201]
[null,null,null,null,null,null,null,null,null,null,null,null,null,500,"VODICE",15,null,null,null,null,null,null,6202]
[null,null,null,null,null,null,null,null,null,null,null,null,null,502,"VODNJAN",18,null,null,null,null,null,null,6203]
[null,null,null,null,null,null,null,null,null,null,null,null,null,503,"VOJNIĆ",4,null,null,null,null,null,null,6209]
[null,null,null,null,null,null,null,null,null,null,null,null,null,504,"VRATIŠINEC",20,null,null,null,null,null,null,6311]
[null,null,null,null,null,null,null,null,null,null,null,null,null,505,"VRBANJA",16,null,null,null,null,null,null,6312]
[null,null,null,null,null,null,null,null,null,null,null,null,null,506,"VRBJE",12,null,null,null,null,null,null,6391]
[null,null,null,null,null,null,null,null,null,null,null,null,null,507,"VRBNIK",8,null,null,null,null,null,null,6399]
[null,null,null,null,null,null,null,null,null,null,null,null,null,508,"VRBOVEC",1,null,null,null,null,null,null,6411]
[null,null,null,null,null,null,null,null,null,null,null,null,null,509,"VRBOVSKO",8,null,null,null,null,null,null,6419]
[null,null,null,null,null,null,null,null,null,null,null,null,null,510,"GVOZD",3,null,null,null,null,null,null,6420]
[null,null,null,null,null,null,null,null,null,null,null,null,null,511,"VRGORAC",17,null,null,null,null,null,null,6430]
[null,null,null,null,null,null,null,null,null,null,null,null,null,512,"VRHOVINE",9,null,null,null,null,null,null,6491]
[null,null,null,null,null,null,null,null,null,null,null,null,null,513,"VRLIKA",17,null,null,null,null,null,null,6492]
[null,null,null,null,null,null,null,null,null,null,null,null,null,514,"VRPOLJE",12,null,null,null,null,null,null,6499]
[null,null,null,null,null,null,null,null,null,null,null,null,null,516,"VRSAR",18,null,null,null,null,null,null,6511]
[null,null,null,null,null,null,null,null,null,null,null,null,null,517,"VUKA",14,null,null,null,null,null,null,6512]
[null,null,null,null,null,null,null,null,null,null,null,null,null,518,"VUKOVAR",16,null,null,null,null,null,null,6520]
[null,null,null,null,null,null,null,null,null,null,null,null,null,519,"ZABOK",2,null,null,null,null,null,null,6530]
[null,null,null,null,null,null,null,null,null,null,null,null,null,520,"ZADAR",13,null,null,null,null,null,null,6611]
[null,null,null,null,null,null,null,null,null,null,null,null,null,521,"ZAGORSKA SELA",2,null,null,null,null,null,null,6612]
[null,null,null,null,null,null,null,null,null,null,null,null,null,522,"ZAGVOZD",17,null,null,null,null,null,null,6619]
[null,null,null,null,null,null,null,null,null,null,null,null,null,523,"ZAŽABLJE",19,null,null,null,null,null,null,6621]
[null,null,null,null,null,null,null,null,null,null,null,null,null,524,"ZDENCI",10,null,null,null,null,null,null,6622]
[null,null,null,null,null,null,null,null,null,null,null,null,null,525,"ZEMUNIK DONJI",13,null,null,null,null,null,null,6629]
[null,null,null,null,null,null,null,null,null,null,null,null,null,526,"ZLATAR",2,null,null,null,null,null,null,6630]
[null,null,null,null,null,null,null,null,null,null,null,null,null,527,"ZLATAR-BISTRICA",2,null,null,null,null,null,null,6810]
[null,null,null,null,null,null,null,null,null,null,null,null,null,528,"ZMIJAVCI",17,null,null,null,null,null,null,6820]
[null,null,null,null,null,null,null,null,null,null,null,null,null,530,"ŽAKANJE",4,null,null,null,null,null,null,6831]
[null,null,null,null,null,null,null,null,null,null,null,null,null,531,"ŽMINJ",18,null,null,null,null,null,null,6832]
[null,null,null,null,null,null,null,null,null,null,null,null,null,533,"KRAŠIĆ",1,null,null,null,null,null,null,6910]
[null,null,null,null,null,null,null,null,null,null,null,null,null,534,"ŽUPANJA",16,null,null,null,null,null,null,6920]
[null,null,null,null,null,null,null,null,null,null,null,null,null,535,"OTOK (VINKOVCI)",16,null,null,null,null,null,null,7010]
[null,null,null,null,null,null,null,null,null,null,null,null,null,536,"RAKOVEC",1,null,null,null,null,null,null,7021]
[null,null,null,null,null,null,null,null,null,null,null,null,null,537,"NOVIGRAD",13,null,null,null,null,null,null,7022]
[null,null,null,null,null,null,null,null,null,null,null,null,null,538,"KOSTRENA",8,null,null,null,null,null,null,7111]
[null,null,null,null,null,null,null,null,null,null,null,null,null,539,"MARIJA GORICA",1,null,null,null,null,null,null,7112]
[null,null,null,null,null,null,null,null,null,null,null,null,null,540,"ŽUMBERAK",1,null,null,null,null,null,null,7120]
[null,null,null,null,null,null,null,null,null,null,null,null,null,541,"VELIKA GORICA",1,null,null,null,null,null,null,7211]
[null,null,null,null,null,null,null,null,null,null,null,null,null,542,"ORLE",1,null,null,null,null,null,null,7219]
[null,null,null,null,null,null,null,null,null,null,null,null,null,543,"ZAPREŠIĆ",1,null,null,null,null,null,null,7220]
[null,null,null,null,null,null,null,null,null,null,null,null,null,544,"POKUPSKO",1,null,null,null,null,null,null,7311]
[null,null,null,null,null,null,null,null,null,null,null,null,null,545,"KRAVARSKO",1,null,null,null,null,null,null,7312]
[null,null,null,null,null,null,null,null,null,null,null,null,null,547,"BISTRA",1,null,null,null,null,null,null,7320]
[null,null,null,null,null,null,null,null,null,null,null,null,null,548,"LUKA",1,null,null,null,null,null,null,7410]
[null,null,null,null,null,null,null,null,null,null,null,null,null,549,"DUBRAVICA",1,null,null,null,null,null,null,7420]
[null,null,null,null,null,null,null,null,null,null,null,null,null,550,"BEDENICA",1,null,null,null,null,null,null,7430]
[null,null,null,null,null,null,null,null,null,null,null,null,null,551,"STUPNIK",1,null,null,null,null,null,null,7490]
[null,null,null,null,null,null,null,null,null,null,null,null,null,552,"JESENJE",2,null,null,null,null,null,null,7500]
[null,null,null,null,null,null,null,null,null,null,null,null,null,553,"KUMROVEC",2,null,null,null,null,null,null,7711]
[null,null,null,null,null,null,null,null,null,null,null,null,null,554,"NOVI GOLUBOVEC",2,null,null,null,null,null,null,7712]
[null,null,null,null,null,null,null,null,null,null,null,null,null,555,"MAJUR",3,null,null,null,null,null,null,7721]
[null,null,null,null,null,null,null,null,null,null,null,null,null,556,"RIBNIK",4,null,null,null,null,null,null,7722]
[null,null,null,null,null,null,null,null,null,null,null,null,null,557,"TOUNJ",4,null,null,null,null,null,null,7729]
[null,null,null,null,null,null,null,null,null,null,null,null,null,558,"VELIKI BUKOVEC",5,null,null,null,null,null,null,7731]
[null,null,null,null,null,null,null,null,null,null,null,null,null,559,"KALINOVAC",6,null,null,null,null,null,null,7732]
[null,null,null,null,null,null,null,null,null,null,null,null,null,560,"KALNIK",6,null,null,null,null,null,null,7733]
[null,null,null,null,null,null,null,null,null,null,null,null,null,561,"NOVO VIRJE",6,null,null,null,null,null,null,7734]
[null,null,null,null,null,null,null,null,null,null,null,null,null,562,"SEVERIN",7,null,null,null,null,null,null,7735]
[null,null,null,null,null,null,null,null,null,null,null,null,null,564,"ŠANDROVAC",7,null,null,null,null,null,null,7739]
[null,null,null,null,null,null,null,null,null,null,null,null,null,565,"VELIKA TRNOVITICA",7,null,null,null,null,null,null,7740]
[null,null,null,null,null,null,null,null,null,null,null,null,null,566,"ZRINSKI TOPOLOVAC",7,null,null,null,null,null,null,7810]
[null,null,null,null,null,null,null,null,null,null,null,null,null,567,"BUKOVLJE",12,null,null,null,null,null,null,7820]
[null,null,null,null,null,null,null,null,null,null,null,null,null,568,"DRAGALIĆ",12,null,null,null,null,null,null,7830]
[null,null,null,null,null,null,null,null,null,null,null,null,null,569,"GORNJA VRBA",12,null,null,null,null,null,null,7911]
[null,null,null,null,null,null,null,null,null,null,null,null,null,570,"SIKIREVCI",12,null,null,null,null,null,null,7912]
[null,null,null,null,null,null,null,null,null,null,null,null,null,571,"GALOVAC",13,null,null,null,null,null,null,7990]
[null,null,null,null,null,null,null,null,null,null,null,null,null,572,"KUKLJICA",13,null,null,null,null,null,null,8010]
[null,null,null,null,null,null,null,null,null,null,null,null,null,573,"POVLJANA",13,null,null,null,null,null,null,8020]
[null,null,null,null,null,null,null,null,null,null,null,null,null,574,"PRIVLAKA",13,null,null,null,null,null,null,8030]
[null,null,null,null,null,null,null,null,null,null,null,null,null,575,"TKON",13,null,null,null,null,null,null,8110]
[null,null,null,null,null,null,null,null,null,null,null,null,null,576,"DONJA MOTIČINA",14,null,null,null,null,null,null,8121]
[null,null,null,null,null,null,null,null,null,null,null,null,null,578,"MAGADENOVAC",14,null,null,null,null,null,null,8122]
[null,null,null,null,null,null,null,null,null,null,null,null,null,579,"VLADISLAVCI",14,null,null,null,null,null,null,8129]
[null,null,null,null,null,null,null,null,null,null,null,null,null,581,"PIROVAC",15,null,null,null,null,null,null,8130]
[null,null,null,null,null,null,null,null,null,null,null,null,null,582,"ROGOZNICA",15,null,null,null,null,null,null,8211]
[null,null,null,null,null,null,null,null,null,null,null,null,null,583,"PRIVLAKA",16,null,null,null,null,null,null,8219]
[null,null,null,null,null,null,null,null,null,null,null,null,null,584,"VOĐINCI",16,null,null,null,null,null,null,8220]
[null,null,null,null,null,null,null,null,null,null,null,null,null,585,"DUGOPOLJE",17,null,null,null,null,null,null,8230]
[null,null,null,null,null,null,null,null,null,null,null,null,null,586,"LEĆEVICA",17,null,null,null,null,null,null,8291]
[null,null,null,null,null,null,null,null,null,null,null,null,null,587,"LOKVIČIĆI",17,null,null,null,null,null,null,8292]
[null,null,null,null,null,null,null,null,null,null,null,null,null,588,"OKRUG",17,null,null,null,null,null,null,8299]
[null,null,null,null,null,null,null,null,null,null,null,null,null,589,"PRGOMET",17,null,null,null,null,null,null,8411]
[null,null,null,null,null,null,null,null,null,null,null,null,null,590,"PRIMORSKI DOLAC",17,null,null,null,null,null,null,8412]
[null,null,null,null,null,null,null,null,null,null,null,null,null,591,"RUNOVIĆI",17,null,null,null,null,null,null,8413]
[null,null,null,null,null,null,null,null,null,null,null,null,null,592,"SUTIVAN",17,null,null,null,null,null,null,8421]
[null,null,null,null,null,null,null,null,null,null,null,null,null,593,"TUČEPI",17,null,null,null,null,null,null,8422]
[null,null,null,null,null,null,null,null,null,null,null,null,null,595,"ZADVARJE",17,null,null,null,null,null,null,8423]
[null,null,null,null,null,null,null,null,null,null,null,null,null,596,"KAROJBA",18,null,null,null,null,null,null,8424]
[null,null,null,null,null,null,null,null,null,null,null,null,null,597,"KAŠTELIR - LABINCI",18,null,null,null,null,null,null,8425]
[null,null,null,null,null,null,null,null,null,null,null,null,null,598,"DUBROVAČKO PRIMORJE",19,null,null,null,null,null,null,8430]
[null,null,null,null,null,null,null,null,null,null,null,null,null,599,"JANJINA",19,null,null,null,null,null,null,8510]
[null,null,null,null,null,null,null,null,null,null,null,null,null,600,"LUMBARDA",19,null,null,null,null,null,null,8520]
[null,null,null,null,null,null,null,null,null,null,null,null,null,601,"TRPANJ",19,null,null,null,null,null,null,8531]
[null,null,null,null,null,null,null,null,null,null,null,null,null,602,"ŽUPA DUBROVAČKA",19,null,null,null,null,null,null,8532]
[null,null,null,null,null,null,null,null,null,null,null,null,null,603,"DEKANOVEC",20,null,null,null,null,null,null,8541]
[null,null,null,null,null,null,null,null,null,null,null,null,null,604,"GORNJI MIHALJEVEC",20,null,null,null,null,null,null,8542]
[null,null,null,null,null,null,null,null,null,null,null,null,null,605,"OREHOVICA",20,null,null,null,null,null,null,8551]
[null,null,null,null,null,null,null,null,null,null,null,null,null,606,"STRAHONINEC",20,null,null,null,null,null,null,8552]
[null,null,null,null,null,null,null,null,null,null,null,null,null,607,"SVETA MARIJA",20,null,null,null,null,null,null,8553]
[null,null,null,null,null,null,null,null,null,null,null,null,null,608,"ŠENKOVEC",20,null,null,null,null,null,null,8559]
[null,null,null,null,null,null,null,null,null,null,null,null,null,609,"JAGODNJAK",14,null,null,null,null,null,null,8560]
[null,null,null,null,null,null,null,null,null,null,null,null,null,610,"MARKUŠICA",16,null,null,null,null,null,null,8610]
[null,null,null,null,null,null,null,null,null,null,null,null,null,612,"NEGOSLAVCI",16,null,null,null,null,null,null,8621]
[null,null,null,null,null,null,null,null,null,null,null,null,null,614,"ŠODOLOVCI",14,null,null,null,null,null,null,8622]
[null,null,null,null,null,null,null,null,null,null,null,null,null,616,"PODRAVSKE SESVETE",6,null,null,null,null,null,null,8623]
[null,null,null,null,null,null,null,null,null,null,null,null,null,617,"MURTER",15,null,null,null,null,null,null,8690]
[null,null,null,null,null,null,null,null,null,null,null,null,null,618,"GORNJA REKA",6,null,null,null,null,null,null,8710]
[null,null,null,null,null,null,null,null,null,null,null,null,null,619,"FAŽANA",18,null,null,null,null,null,null,8720]
[null,null,null,null,null,null,null,null,null,null,null,null,null,620,"PRIBISLAVEC",20,null,null,null,null,null,null,8730]
[null,null,null,null,null,null,null,null,null,null,null,null,null,621,"BILICE",15,null,null,null,null,null,null,8790]
[null,null,null,null,null,null,null,null,null,null,null,null,null,622,"KOLAN",13,null,null,null,null,null,null,8810]
[null,null,null,null,null,null,null,null,null,null,null,null,null,623,"KAMANJE",4,null,null,null,null,null,null,8891]
[null,null,null,null,null,null,null,null,null,null,null,null,null,624,"LOPAR",8,null,null,null,null,null,null,8899]
[null,null,null,null,null,null,null,null,null,null,null,null,null,625,"VRSI",13,null,null,null,null,null,null,9001]
[null,null,null,null,null,null,null,null,null,null,null,null,null,626,"TRIBUNJ",15,null,null,null,null,null,null,9002]
[null,null,null,null,null,null,null,null,null,null,null,null,null,628,"ŠTITAR",16,null,null,null,null,null,null,9003]
[null,null,null,null,null,null,null,null,null,null,null,null,null,629,"FUNTANA",18,null,null,null,null,null,null,9004]
[null,null,null,null,null,null,null,null,null,null,null,null,null,631,"TAR-VABRIGA",18,null,null,null,null,null,null,9101]
[null,null,null,null,null,null,null,null,null,null,null,null,null,710,"GRAD ZAGREB (ZAGREBAČKA ŽUPANIJA)",1,null,null,null,null,null,null,9102]
[null,null,null,null,null,null,null,null,null,null,null,null,null,null,null,null,null,null,null,null,null,null,9103]
[null,null,null,null,null,null,null,null,null,null,null,null,null,null,null,null,null,null,null,null,null,null,9104]
[null,null,null,null,null,null,null,null,null,null,null,null,null,null,null,null,null,null,null,null,null,null,9200]
[null,null,null,null,null,null,null,null,null,null,null,null,null,null,null,null,null,null,null,null,null,null,9311]
[null,null,null,null,null,null,null,null,null,null,null,null,null,null,null,null,null,null,null,null,null,null,9312]
[null,null,null,null,null,null,null,null,null,null,null,null,null,null,null,null,null,null,null,null,null,null,9313]
[null,null,null,null,null,null,null,null,null,null,null,null,null,null,null,null,null,null,null,null,null,null,9319]
[null,null,null,null,null,null,null,null,null,null,null,null,null,null,null,null,null,null,null,null,null,null,9321]
[null,null,null,null,null,null,null,null,null,null,null,null,null,null,null,null,null,null,null,null,null,null,9329]
[null,null,null,null,null,null,null,null,null,null,null,null,null,null,null,null,null,null,null,null,null,null,9411]
[null,null,null,null,null,null,null,null,null,null,null,null,null,null,null,null,null,null,null,null,null,null,9412]
[null,null,null,null,null,null,null,null,null,null,null,null,null,null,null,null,null,null,null,null,null,null,9420]
[null,null,null,null,null,null,null,null,null,null,null,null,null,null,null,null,null,null,null,null,null,null,9491]
[null,null,null,null,null,null,null,null,null,null,null,null,null,null,null,null,null,null,null,null,null,null,9492]
[null,null,null,null,null,null,null,null,null,null,null,null,null,null,null,null,null,null,null,null,null,null,9499]
[null,null,null,null,null,null,null,null,null,null,null,null,null,null,null,null,null,null,null,null,null,null,9511]
[null,null,null,null,null,null,null,null,null,null,null,null,null,null,null,null,null,null,null,null,null,null,9512]
[null,null,null,null,null,null,null,null,null,null,null,null,null,null,null,null,null,null,null,null,null,null,9521]
[null,null,null,null,null,null,null,null,null,null,null,null,null,null,null,null,null,null,null,null,null,null,9522]
[null,null,null,null,null,null,null,null,null,null,null,null,null,null,null,null,null,null,null,null,null,null,9523]
[null,null,null,null,null,null,null,null,null,null,null,null,null,null,null,null,null,null,null,null,null,null,9524]
[null,null,null,null,null,null,null,null,null,null,null,null,null,null,null,null,null,null,null,null,null,null,9525]
[null,null,null,null,null,null,null,null,null,null,null,null,null,null,null,null,null,null,null,null,null,null,9529]
[null,null,null,null,null,null,null,null,null,null,null,null,null,null,null,null,null,null,null,null,null,null,9601]
[null,null,null,null,null,null,null,null,null,null,null,null,null,null,null,null,null,null,null,null,null,null,9602]
[null,null,null,null,null,null,null,null,null,null,null,null,null,null,null,null,null,null,null,null,null,null,9603]
[null,null,null,null,null,null,null,null,null,null,null,null,null,null,null,null,null,null,null,null,null,null,9604]
[null,null,null,null,null,null,null,null,null,null,null,null,null,null,null,null,null,null,null,null,null,null,9609]
[null,null,null,null,null,null,null,null,null,null,null,null,null,null,null,null,null,null,null,null,null,null,9700]
[null,null,null,null,null,null,null,null,null,null,null,null,null,null,null,null,null,null,null,null,null,null,9810]
[null,null,null,null,null,null,null,null,null,null,null,null,null,null,null,null,null,null,null,null,null,null,9820]
[null,null,null,null,null,null,null,null,null,null,null,null,null,null,null,null,null,null,null,null,null,null,9900]

{"sheet":"PRRAS","index":3,"n_rows":916,"n_cols":6,"rows_kept":916,"cut":false,"hidden":false,"merged":[[2,0,2,3],[0,0,0,1],[1,4,1,5],[0,2,0,5],[1,0,1,3],[3,1,3,5],[4,1,4,5],[5,1,5,5],[6,1,6,5],[877,0,877,3],[261,0,261,5],[10,0,10,5],[395,0,395,5],[619,0,619,5]]}
["<–––– Povratak na RefStr",null,"Kontrole obrasca PR-RAS ––––>"]
["IZVJEŠTAJ O PRIHODIMA I RASHODIMA, PRIMICIMA I IZDACIMA",null,null,null,"Obrazac PR-RAS\nVP 151"]
[{"$f":"IF(RefStr!F6<>\"\",LOOKUP(RefStr!F6,RefStr!N40:N64,RefStr!Q40:Q64),\" - razdoblje izvještavanja nije odabrano - \")","v":"za razdoblje 1. siječnja do 31. prosinca 2014. godine"}]
["Obveznik:",{"$f":" \"RKP: \" & TEXT(INT(VALUE(RefStr!B6)),\"00000\") & \",  \" & \"MB: \" & TEXT(INT(VALUE(RefStr!B8)), \"00000000\") & \"  \" & RefStr!B10","v":"RKP: 14402,  MB: 03324281  OŠ VUGROVEC - KAŠINA"}]
[null,{"$f":"RefStr!B12 & \" \" & RefStr!C12 & \", \" & RefStr!B14","v":"10362 KAŠINA, IVANA MAŽURANIĆA 43"}]
[null,{"$f":" \"Razina: \" & RefStr!B16 & \", Razdjel: \" & TEXT(INT(VALUE(RefStr!B20)), \"000\")","v":"Razina: 31, Razdjel: 000"}]
[null,{"$f":"\"Djelatnost: \" & RefStr!B18 & \" \" & RefStr!C18","v":"Djelatnost: 8520 Osnovno obrazovanje"}]
[null,null,null,null,null,"iznosi u kunama, bez lipa"]
["Račun iz rač. plana","NAZIV","AOP","Ostvareno u izvještajnom razdoblju prethodne godine","Ostvareno u izvještajnom razdoblju \ntekuće godine","Indeks\n(5/4)"]
[1,2,3,4,5,6]
["PRIHODI I RASHODI POSLOVANJA"]
[6,"PRIHODI POSLOVANJA (AOP 002+039+047+067+090+107+114+119) ",1,{"$f":"D13+D50+D58+D78+D101+D118+D125+D130","v":11037394},{"$f":"E13+E50+E58+E78+E101+E118+E125+E130","v":12004529},{"$f":"IF(D12>0,IF(E12/D12>=100,\">>100\",E12/D12*100),\"-\")","v":108.76234915596925}]
[61,"Prihodi od poreza (AOP 003+012+018+024+032+035)",2,{"$f":"D14+D23+D29+D35+D43+D46","v":0},{"$f":"E14+E23+E29+E35+E43+E46","v":0},{"$f":"IF(D13>0,IF(E13/D13>=100,\">>100\",E13/D13*100),\"-\")","v":"-"}]
[611,"Porez i prirez na dohodak (AOP 004 do 009 - 010 - 011)",3,{"$f":"SUM(D15:D20)-D21-D22","v":0},{"$f":"SUM(E15:E20)-E21-E22","v":0},"-"]
[6111,"Porez i prirez na dohodak od nesamostalnog rada",4,0,0,"-"]
[6112,"Porez i prirez na dohodak od samostalnih djelatnosti",5,0,0,"-"]
[6113,"Porez i prirez na dohodak od imovine i imovinskih prava",6,0,0,"-"]
[6114,"Porez i prirez na dohodak od kapitala",7,0,0,"-"]
[6115,"Porez i prirez na dohodak po godišnjoj prijavi",8,0,0,"-"]
[6116,"Porez i prirez na dohodak utvrđen u postupku nadzora za prethodne godine ",9,0,0,"-"]
[6117,"Povrat poreza i prireza na dohodak po godišnjoj prijavi",10,0,0,"-"]
[6119,"Povrat više ostvarenog poreza na dohodak za decentralizirane funkcije",11,0,0,"-"]
[612,"Porez na dobit (AOP 013 do 016 - 017)",12,{"$f":"SUM(D24:D27)-D28","v":0},{"$f":"SUM(E24:E27)-E28","v":0},"-"]
[6121,"Porez na dobit od poduzetnika",13,0,0,"-"]
[6122,"Porez na dobit po odbitku na naknade za korištenje prava i za usluge",14,0,0,"-"]
[6123,"Porez na dobit po odbitku na kamate, dividende i udjele u dobiti",15,0,0,"-"]
[6124,"Porez na dobit po godišnjoj prijavi",16,0,0,"-"]
[6125,"Povrat poreza na dobit po godišnjoj prijavi",17,0,0,"-"]
[613,"Porezi na imovinu (AOP 019 do 023)",18,{"$f":"SUM(D30:D34)","v":0},{"$f":"SUM(E30:E34)","v":0},"-"]
[6131,"Stalni porezi na nepokretnu imovinu",19,0,0,"-"]
[6132,"Porez na nasljedstva i darove",20,0,0,"-"]
[6133,"Porez na kapitalne i financijske transakcije",21,0,0,"-"]
[6134,"Povremeni porezi na imovinu",22,0,0,"-"]
[6135,"Ostali stalni porezi na imovinu",23,0,0,"-"]
[614,"Porezi na robu i usluge (AOP 025 do 031) ",24,{"$f":"SUM(D36:D42)","v":0},{"$f":"SUM(E36:E42)","v":0},"-"]
[6141,"Porez na dodanu vrijednost",25,0,0,"-"]
[6142,"Porez na promet",26,0,0,"-"]
[6143,"Posebni porezi i trošarine ",27,0,0,"-"]
[6145,"Porezi na korištenje dobara ili izvođenje aktivnosti",28,0,0,"-"]
[6146,"Ostali porezi na robu i usluge",29,0,0,"-"]
[6147,"Porez na dobitke od igara na sreću i ostali porezi od igara na sreću",30,0,0,"-"]
[6148,"Naknade za priređivanje igara na sreću",31,0,0,"-"]
[615,"Porezi na međunarodnu trgovinu i transakcije (AOP 033+034)",32,{"$f":"SUM(D44:D45)","v":0},{"$f":"SUM(E44:E45)","v":0},"-"]
[6151,"Carine i carinske pristojbe",33,0,0,"-"]
[6152,"Ostali porezi na međunarodnu trgovinu i transakcije",34,0,0,"-"]
[616,"Ostali prihodi od poreza (AOP 036 do 038)",35,{"$f":"SUM(D47:D49)","v":0},{"$f":"SUM(E47:E49)","v":0},"-"]
[6161,"Ostali prihodi od poreza koje plaćaju pravne osobe",36,0,0,"-"]
[6162,"Ostali prihodi od poreza koje plaćaju fizičke osobe",37,0,0,"-"]
[6163,"Ostali neraspoređeni prihodi od poreza",38,0,0,"-"]
[62,"Doprinosi (AOP 040+043+045)",39,{"$f":"D51+D54+D56","v":0},{"$f":"E51+E54+E56","v":0},"-"]
[621,"Doprinosi za zdravstveno osiguranje (AOP 041+042) ",40,{"$f":"SUM(D52:D53)","v":0},{"$f":"SUM(E52:E53)","v":0},"-"]
[6211,"Doprinosi za obvezno zdravstveno osiguranje ",41,0,0,"-"]
[6212,"Doprinosi za obvezno zdravstveno osiguranje za slučaj ozljede na radu",42,0,0,"-"]
[622,"Doprinosi za mirovinsko osiguranje (AOP 044)",43,{"$f":"D55","v":0},{"$f":"E55","v":0},"-"]
[6221,"Doprinosi za mirovinsko osiguranje ",44,0,0,"-"]
[623,"Doprinosi za zapošljavanje (AOP 046)",45,{"$f":"D57","v":0},{"$f":"E57","v":0},"-"]
[6232,"Doprinosi za obvezno osiguranje u slučaju nezaposlenosti",46,0,0,"-"]
[63,"Pomoći iz inozemstva (darovnice) i od subjekata unutar općeg proračuna \n(AOP 048+051+056+061+064)",47,{"$f":"D59+D62+D67+D72+D75","v":0},{"$f":"E59+E62+E67+E72+E75","v":0},"-"]
[631,"Pomoći od inozemnih vlada (AOP 049+050)",48,{"$f":"SUM(D60:D61)","v":0},{"$f":"SUM(E60:E61)","v":0},"-"]
[6311,"Tekuće pomoći od inozemnih vlada",49,0,0,"-"]
[6312,"Kapitalne pomoći od inozemnih vlada",50,0,0,"-"]
[632,"Pomoći od međunarodnih organizacija te institucija i tijela EU (AOP 052 do 055)",51,{"$f":"SUM(D63:D66)","v":0},{"$f":"SUM(E63:E66)","v":0},"-"]
[6321,"Tekuće pomoći od međunarodnih organizacija",52,0,0,"-"]
[6322,"Kapitalne pomoći od međunarodnih organizacija",53,0,0,"-"]
[6323,"Tekuće pomoći od institucija i tijela EU",54,0,0,"-"]
[6324,"Kapitalne pomoći od institucija i tijela EU",55,0,0,"-"]
[633,"Pomoći iz proračuna (AOP 057 do 060)",56,{"$f":"SUM(D68:D71)","v":0},{"$f":"SUM(E68:E71)","v":0},"-"]
[6331,"Tekuće pomoći iz proračuna ",57,0,0,"-"]
[6332,"Kapitalne pomoći iz proračuna ",58,0,0,"-"]
[6333,"Tekuće pomoći od proračunskih korisnika temeljem prijenosa sredstava EU",59,0,0,"-"]
[6334,"Kapitalne pomoći od proračunskih korisnika temeljem prijenosa sredstava EU",60,0,0,"-"]
[634,"Pomoći od ostalih subjekata unutar općeg proračuna (AOP 062+063)",61,{"$f":"SUM(D73:D74)","v":0},{"$f":"SUM(E73:E74)","v":0},"-"]
[6341,"Tekuće pomoći od ostalih subjekata unutar općeg proračuna ",62,0,0,"-"]
[6342,"Kapitalne pomoći od ostalih subjekata unutar općeg proračuna ",63,0,0,"-"]
[635,"Pomoći izravnanja za decentralizirane funkcije (AOP 065+066)",64,{"$f":"SUM(D76:D77)","v":0},{"$f":"SUM(E76:E77)","v":0},"-"]
[6351,"Tekuće pomoći izravnanja za decentralizirane funkcije",65,0,0,"-"]
[6352,"Kapitalne pomoći izravnanja za decentralizirane funkcije",66,0,0,{"$f":"IF(D77>0,IF(E77/D77>=100,\">>100\",E77/D77*100),\"-\")","v":"-"}]
[64,"Prihodi od imovine (AOP 068+076+082)",67,{"$f":"D79+D87+D93","v":491},{"$f":"E79+E87+E93","v":276},56.211812627291245]
[641,"Prihodi od financijske imovine (AOP 069 do 075) ",68,{"$f":"SUM(D80:D86)","v":491},{"$f":"SUM(E80:E86)","v":276},56.211812627291245]
[6412,"Prihodi od kamata po vrijednosnim papirima",69,0,0,"-"]
[6413,"Kamate na oročena sredstva i depozite po viđenju",70,491,276,56.211812627291245]
[6414,"Prihodi od zateznih kamata ",71,0,0,"-"]
[6415,"Prihodi od pozitivnih tečajnih razlika i razlika zbog primjene valutne klauzule",72,0,0,"-"]
[6416,"Prihodi od dividendi",73,0,0,"-"]
[6417,"Prihodi iz dobiti trgovačkih društava, kreditnih i ostalih financijskih institucija po posebnim propisima",74,0,0,"-"]
[6419,"Ostali prihodi od financijske imovine",75,0,0,"-"]
[642,"Prihodi od nefinancijske imovine (AOP 077 do 081)",76,{"$f":"SUM(D88:D92)","v":0},{"$f":"SUM(E88:E92)","v":0},"-"]
[6421,"Naknade za koncesije",77,0,0,"-"]
[6422,"Prihodi od zakupa i iznajmljivanja imovine",78,0,0,"-"]
[6423,"Naknada za korištenje nefinancijske imovine",79,0,0,"-"]
[6424,"Naknade za ceste",80,0,0,"-"]
[6429,"Ostali prihodi od nefinancijske imovine",81,0,0,"-"]
[643,"Prihodi od kamata na dane zajmove (AOP 083 do 089)",82,{"$f":"SUM(D94:D100)","v":0},{"$f":"SUM(E94:E100)","v":0},"-"]
[6431,"Prihodi od kamata na dane zajmove međunarodnim organizacijama, institucijama i tijelima EU te inozemnim vladama",83,0,0,"-"]
[6432,"Prihodi od kamata na dane zajmove neprofitnim organizacijama, građanima i kućanstvima",84,0,0,"-"]
[6433,"Prihodi od kamata na dane zajmove kreditnim i ostalim financijskim institucijama u javnom sektoru",85,0,0,"-"]
[6434,"Prihodi od kamata na dane zajmove trgovačkim društvima u javnom sektoru",86,0,0,"-"]
[6435,"Prihodi od kamata na dane zajmove kreditnim i ostalim financijskim institucijama izvan javnog sektora",87,0,0,"-"]
[6436,"Prihodi od kamata na dane zajmove trgovačkim društvima i obrtnicima izvan javnog sektora",88,0,0,"-"]
[6437,"Prihodi od kamata na dane zajmove drugim razinama vlasti",89,0,0,"-"]
[65,"Prihodi od upravnih i administrativnih pristojbi, pristojbi po posebnim propisima i naknada (AOP 091+096+103)",90,{"$f":"D102+D107+D114","v":626906},{"$f":"E102+E107+E114","v":626425},99.923273983659428]
[651,"Upravne i administrativne pristojbe (AOP 092 do 095)",91,{"$f":"SUM(D103:D106)","v":0},{"$f":"SUM(E103:E106)","v":0},"-"]
[6511,"Državne upravne i sudske pristojbe",92,0,0,"-"]
[6512,"Županijske, gradske i općinske pristojbe i naknade",93,0,0,"-"]
[6513,"Ostale upravne pristojbe i naknade",94,0,0,"-"]
[6514,"Ostale pristojbe i naknade",95,0,0,"-"]
[652,"Prihodi po posebnim propisima (AOP 097 do 102)",96,{"$f":"SUM(D108:D113)","v":626906},{"$f":"SUM(E108:E113)","v":626425},99.923273983659428]
[6521,"Prihodi državne uprave",97,0,0,"-"]
[6522,"Prihodi vodnog gospodarstva",98,0,0,"-"]
[6524,"Doprinosi za šume",99,0,0,"-"]
[6525,"Mjesni samodoprinos",100,0,0,"-"]
[6526,"Ostali nespomenuti prihodi",101,626906,626425,99.923273983659428]
[6527,"Naknade od financijske imovine",102,0,0,"-"]
[653,"Komunalni doprinosi i naknade (AOP 104 do 106)",103,{"$f":"SUM(D115:D117)","v":0},{"$f":"SUM(E115:E117)","v":0},"-"]
[6531,"Komunalni doprinosi",104,0,0,"-"]
[6532,"Komunalne naknade",105,0,0,"-"]
[6533,"Naknade za priključak",106,0,0,"-"]
[66,"Prihodi od prodaje proizvoda i robe te pruženih usluga i prihodi od donacija (AOP 108+111)",107,{"$f":"D119+D122","v":62057},{"$f":"E119+E122","v":42207},68.013278115281111]
[661,"Prihodi od prodaje proizvoda i robe te pruženih usluga (AOP 109+110)",108,{"$f":"D120+D121","v":62057},{"$f":"E120+E121","v":42207},68.013278115281111]
[6614,"Prihodi od prodaje proizvoda i robe",109,0,0,"-"]
[6615,"Prihodi od pruženih usluga",110,62057,42207,68.013278115281111]
[663,"Donacije od pravnih i fizičkih osoba izvan općeg proračuna (AOP 112+113)",111,{"$f":"D123+D124","v":0},{"$f":"E123+E124","v":0},"-"]
[6631,"Tekuće donacije",112,0,0,"-"]
[6632,"Kapitalne donacije",113,0,0,"-"]
[67,"Prihodi iz proračuna (AOP 115)",114,{"$f":"D126","v":10342492},{"$f":"E126","v":11308266},109.33792358746808]
[671,"Prihodi iz proračuna za financiranje redovne djelatnosti proračunskih korisnika (AOP 116 do 118)",115,{"$f":"SUM(D127:D129)","v":10342492},{"$f":"SUM(E127:E129)","v":11308266},109.33792358746808]
[6711,"Prihodi za financiranje rashoda poslovanja",116,10258407,11081580,108.02437454470271]
[6712,"Prihodi za financiranje rashoda za nabavu nefinancijske imovine",117,84085,226686,269.5914848070405]
[6713,"Prihodi na temelju ugovorenih obveza",118,0,0,"-"]
[68,"Kazne, upravne mjere i ostali prihodi (AOP 120+130)",119,{"$f":"D131+D141","v":5448},{"$f":"E131+E141","v":27355},502.11086637298087]
[681,"Kazne i upravne mjere (AOP 121 do 129)",120,{"$f":"SUM(D132:D140)","v":0},{"$f":"SUM(E132:E140)","v":0},"-"]
[6811,"Kazne za carinske prekršaje",121,0,0,"-"]
[6812,"Kazne za devizne prekršaje",122,0,0,"-"]
[6813,"Kazne za porezne prekršaje",123,0,0,"-"]
[6814,"Kazne za prekršaje trgovačkih društava - privredne prijestupe",124,0,0,"-"]
[6815,"Kazne za prekršaje u prometu",125,0,0,"-"]
[6816,"Kazne i druge mjere u kaznenom postupku",126,0,0,"-"]
[6817,"Kazne za prekršaje na kulturnim dobrima",127,0,0,"-"]
[6818,"Upravne mjere",128,0,0,"-"]
[6819,"Ostale kazne",129,0,0,"-"]
[683,"Ostali prihodi (AOP 131)",130,{"$f":"D142","v":5448},{"$f":"E142","v":27355},{"$f":"IF(D141>0,IF(E141/D141>=100,\">>100\",E141/D141*100),\"-\")","v":502.11086637298087}]
[6831,"Ostali prihodi",131,5448,27355,502.11086637298087]
[3,"RASHODI POSLOVANJA (AOP 133+145+178+197+205+217+224) ",132,{"$f":"D144+D156+D189+D208+D216+D228+D235","v":10990856},{"$f":"E144+E156+E189+E208+E216+E228+E235","v":11572861},105.29535643083669]
[31,"Rashodi za zaposlene (AOP 134+139+141)",133,{"$f":"D145+D150+D152","v":7856688},{"$f":"E145+E150+E152","v":8220529},104.63097172752691]
[311,"Plaće (bruto) (AOP 135 do 138) ",134,{"$f":"SUM(D146:D149)","v":5422763},{"$f":"SUM(E146:E149)","v":5585972},103.00970188075709]
[3111,"Plaće za redovan rad",135,5232265,5365884,102.55375062234042]
[3112,"Plaće u naravi",136,0,0,"-"]
[3113,"Plaće za prekovremeni rad",137,56244,71226,126.63750800085343]
[3114,"Plaće za posebne uvjete rada",138,134254,148862,110.88086760915876]
[312,"Ostali rashodi za zaposlene (AOP 140)",139,{"$f":"D151","v":85981},{"$f":"E151","v":62578},72.7811958455938]
[3121,"Ostali rashodi za zaposlene",140,85981,62578,72.7811958455938]
[313,"Doprinosi na plaće (AOP 142 do 144)",141,{"$f":"SUM(D153:D155)","v":2347944},{"$f":"SUM(E153:E155)","v":2571979},109.54175227347842]
[3131,"Doprinosi za mirovinsko osiguranje",142,1352552,1404437,103.8360817181151]
[3132,"Doprinosi za obvezno zdravstveno osiguranje",143,890245,1050262,117.97449016843677]
[3133,"Doprinosi za obvezno osiguranje u slučaju nezaposlenosti",144,105147,117280,111.53908337850818]
[32,"Materijalni rashodi (AOP 146+151+159+169+171)",145,{"$f":"D157+D162+D170+D180+D182","v":2599075},{"$f":"E157+E162+E170+E180+E182","v":2725050},104.84691669151525]
[321,"Naknade troškova zaposlenima (AOP 147 do 150)",146,{"$f":"SUM(D158:D161)","v":307030},{"$f":"SUM(E158:E161)","v":358091},116.63062241474775]
[3211,"Službena putovanja",147,25063,33474,133.55943023580576]
[3212,"Naknade za prijevoz, za rad na terenu i odvojeni život",148,268583,294073,109.49054854551478]
[3213,"Stručno usavršavanje zaposlenika",149,9736,21920,225.14379622021363]
[3214,"Ostale naknade troškova zaposlenima",150,3648,8624,236.40350877192984]
[322,"Rashodi za materijal i energiju (AOP 152 do 158)",151,{"$f":"SUM(D163:D169)","v":1361856},{"$f":"SUM(E163:E169)","v":1206912},88.622585647821793]
[3221,"Uredski materijal i ostali materijalni rashodi",152,119353,105908,88.735096729868545]
[3222,"Materijal i sirovine",153,597155,504873,84.546390803057832]
[3223,"Energija",154,600159,521637,86.916467136208908]
[3224,"Materijal i dijelovi za tekuće i investicijsko održavanje",155,30228,34577,114.38732301177717]
[3225,"Sitni inventar i auto gume",156,13018,35017,268.98909202642494]
[3226,"Vojna oprema ",157,0,0,"-"]
[3227,"Službena, radna i zaštitna odjeća i obuća",158,1943,4900,252.18733916623779]
[323,"Rashodi za usluge (AOP 160 do 168)",159,{"$f":"SUM(D171:D179)","v":679882},{"$f":"SUM(E171:E179)","v":748902},110.15176162922388]
[3231,"Usluge telefona, pošte i prijevoza",160,254507,294797,115.83060583795337]
[3232,"Usluge tekućeg i investicijskog održavanja",161,74037,88186,119.11071491281386]
[3233,"Usluge promidžbe i informiranja",162,3539,4196,118.56456626165584]
[3234,"Komunalne usluge",163,141065,137037,97.144578740297021]
[3235,"Zakupnine i najamnine",164,0,0,"-"]
[3236,"Zdravstvene i veterinarske usluge",165,44490,43005,96.662171274443693]
[3237,"Intelektualne i osobne usluge",166,121157,140731,116.15589689411259]
[3238,"Računalne usluge",167,14099,15381,109.09284346407546]
[3239,"Ostale usluge",168,26988,25569,94.742107603379281]
[324,"Naknade troškova osobama izvan radnog odnosa (AOP 170)",169,{"$f":"D181","v":0},{"$f":"E181","v":0},"-"]
[3241,"Naknade troškova osobama izvan radnog odnosa",170,0,0,"-"]
[329,"Ostali nespomenuti rashodi poslovanja (AOP 172 do 177)",171,{"$f":"SUM(D183:D188)","v":250307},{"$f":"SUM(E183:E188)","v":411145},164.25629327186215]
[3291,"Naknade za rad predstavničkih i izvršnih tijela, povjerenstava i slično",172,41694,107969,258.95572504437092]
[3292,"Premije osiguranja",173,30908,29216,94.525689141969721]
[3293,"Reprezentacija",174,883,2580,292.18573046432613]
[3294,"Članarine",175,1950,2350,120.51282051282051]
[3295,"Pristojbe i naknade",176,0,30,"-"]
[3299,"Ostali nespomenuti rashodi poslovanja ",177,174872,269000,153.82679903014778]
[34,"Financijski rashodi (AOP 179+184+192) ",178,{"$f":"D190+D195+D203","v":6338},{"$f":"E190+E195+E203","v":5295},83.543704638687288]
[341,"Kamate za izdane vrijednosne papire (AOP 180 do 183)",179,{"$f":"SUM(D191:D194)","v":0},{"$f":"SUM(E191:E194)","v":0},"-"]
[3411,"Kamate za izdane trezorske zapise",180,0,0,"-"]
[3412,"Kamate za izdane mjenice",181,0,0,"-"]
[3413,"Kamate za izdane obveznice",182,0,0,"-"]
[3419,"Kamate za ostale vrijednosne papire",183,0,0,"-"]
[342,"Kamate za primljene kredite i zajmove (AOP 185 do 191)",184,{"$f":"SUM(D196:D202)","v":0},{"$f":"SUM(E196:E202)","v":0},"-"]
[3421,"Kamate za primljene kredite i zajmove od međunarodnih organizacija, institucija i tijela EU te inozemnih vlada",185,0,0,"-"]
[3422,"Kamate za primljene kredite i zajmove od kreditnih i ostalih financijskih institucija u javnom sektoru",186,0,0,"-"]
[3423,"Kamate za primljene kredite i zajmove od kreditnih i ostalih financijskih institucija izvan javnog sektora",187,0,0,"-"]
[3425,"Kamate za odobrene, a nerealizirane kredite i zajmove",188,0,0,"-"]
[3426,"Kamate za primljene zajmove od trgovačkih društava u javnom sektoru",189,0,0,"-"]
[3427,"Kamate za primljene zajmove od trgovačkih društava i obrtnika izvan javnog sektora",190,0,0,"-"]
[3428,"Kamate za primljene zajmove od drugih razina vlasti",191,0,0,"-"]
[343,"Ostali financijski rashodi (AOP 193 do 196)",192,{"$f":"SUM(D204:D207)","v":6338},{"$f":"SUM(E204:E207)","v":5295},83.543704638687288]
[3431,"Bankarske usluge i usluge platnog prometa",193,4707,5295,112.49203314212875]
[3432,"Negativne tečajne razlike i razlike zbog primjene valutne klauzule",194,0,0,{"$f":"IF(D205>0,IF(E205/D205>=100,\">>100\",E205/D205*100),\"-\")","v":"-"}]
[3433,"Zatezne kamate ",195,1631,0,0]
[3434,"Ostali nespomenuti financijski rashodi",196,0,0,"-"]
[35,"Subvencije (AOP 198+201)",197,{"$f":"D209+D212","v":0},{"$f":"E209+E212","v":0},"-"]
[351,"Subvencije trgovačkim društvima u javnom sektoru (AOP 199+200)",198,{"$f":"SUM(D210:D211)","v":0},{"$f":"SUM(E210:E211)","v":0},"-"]
[3511,"Subvencije kreditnim i ostalim financijskim institucijama u javnom sektoru",199,0,0,"-"]
[3512,"Subvencije trgovačkim društvima u javnom sektoru",200,0,0,"-"]
[352,"Subvencije trgovačkim društvima, poljoprivrednicima i obrtnicima izvan javnog sektora \n(AOP 202 do 204)",201,{"$f":"SUM(D213:D215)","v":0},{"$f":"SUM(E213:E215)","v":0},"-"]
[3521,"Subvencije kreditnim i ostalim financijskim institucijama izvan javnog sektora",202,0,0,"-"]
[3522,"Subvencije trgovačkim društvima izvan javnog sektora",203,0,0,"-"]
[3523,"Subvencije poljoprivrednicima i obrtnicima",204,0,0,"-"]
[36,"Pomoći dane u inozemstvo i unutar općeg proračuna (AOP 206+209+212)",205,{"$f":"D217+D220+D223","v":0},{"$f":"E217+E220+E223","v":0},"-"]
[361,"Pomoći inozemnim vladama (AOP 207+208)",206,{"$f":"SUM(D218:D219)","v":0},{"$f":"SUM(E218:E219)","v":0},"-"]
[3611,"Tekuće pomoći inozemnim vladama",207,0,0,"-"]
[3612,"Kapitalne pomoći inozemnim vladama",208,0,0,"-"]
[362,"Pomoći međunarodnim organizacijama te institucijama i tijelima EU (AOP 210+211)",209,{"$f":"SUM(D221:D222)","v":0},{"$f":"SUM(E221:E222)","v":0},"-"]
[3621,"Tekuće pomoći međunarodnim organizacijama te institucijama i tijelima EU",210,0,0,"-"]
[3622,"Kapitalne pomoći međunarodnim organizacijama te institucijama i tijelima EU",211,0,0,"-"]
[363,"Pomoći unutar općeg proračuna (AOP 213 do 216)",212,{"$f":"SUM(D224:D227)","v":0},{"$f":"SUM(E224:E227)","v":0},"-"]
[3631,"Tekuće pomoći unutar općeg proračuna",213,0,0,"-"]
[3632,"Kapitalne pomoći unutar općeg proračuna ",214,0,0,"-"]
[3633,"Tekuće pomoći proračunskim korisnicima temeljem prijenosa sredstava EU",215,0,0,"-"]
[3634,"Kapitalne pomoći proračunskim korisnicima temeljem prijenosa sredstava EU",216,0,0,"-"]
[37,"Naknade građanima i kućanstvima na temelju osiguranja i druge naknade (AOP 218+221)",217,{"$f":"D229+D232","v":528755},{"$f":"E229+E232","v":621987},117.63236281453604]
[371,"Naknade građanima i kućanstvima na temelju osiguranja (AOP 219 +220)",218,{"$f":"SUM(D230:D231)","v":0},{"$f":"SUM(E230:E231)","v":0},"-"]
[3711,"Naknade građanima i kućanstvima u novcu",219,0,0,"-"]
[3712,"Naknade građanima i kućanstvima u naravi",220,0,0,"-"]
[372,"Ostale naknade građanima i kućanstvima iz proračuna (AOP 222+223) ",221,{"$f":"SUM(D233:D234)","v":528755},{"$f":"SUM(E233:E234)","v":621987},117.63236281453604]
[3721,"Naknade građanima i kućanstvima u novcu ",222,0,0,"-"]
[3722,"Naknade građanima i kućanstvima u naravi",223,528755,621987,117.63236281453604]
[38,"Ostali rashodi (AOP 225+228+231+236)",224,{"$f":"D236+D239+D242+D247","v":0},{"$f":"E236+E239+E242+E247","v":0},"-"]
[381,"Tekuće donacije (AOP 226+227) ",225,{"$f":"SUM(D237:D238)","v":0},{"$f":"SUM(E237:E238)","v":0},"-"]
[3811,"Tekuće donacije u novcu",226,0,0,"-"]
[3812,"Tekuće donacije u naravi",227,0,0,"-"]
[382,"Kapitalne donacije (AOP 229+230) ",228,{"$f":"SUM(D240:D241)","v":0},{"$f":"SUM(E240:E241)","v":0},"-"]
[3821,"Kapitalne donacije neprofitnim organizacijama",229,0,0,"-"]
[3822,"Kapitalne donacije građanima i kućanstvima",230,0,0,"-"]
[383,"Kazne, penali i naknade štete (AOP 232 do 235)",231,{"$f":"SUM(D243:D246)","v":0},{"$f":"SUM(E243:E246)","v":0},"-"]
[3831,"Naknade šteta pravnim i fizičkim osobama",232,0,0,"-"]
[3832,"Penali, ležarine i drugo",233,0,0,"-"]
[3833,"Naknade šteta zaposlenicima ",234,0,0,"-"]
[3834,"Ugovorene kazne i ostale naknade šteta",235,0,0,"-"]
[386,"Kapitalne pomoći (AOP 237 do 239)",236,{"$f":"SUM(D248:D250)","v":0},{"$f":"SUM(E248:E250)","v":0},"-"]
[3861,"Kapitalne pomoći kreditnim i ostalim financijskim institucijama te trgovačkim društvima u javnom sektoru",237,0,0,"-"]
[3862,"Kapitalne pomoći kreditnim i ostalim financijskim institucijama te trgovačkim društvima izvan javnog sektora",238,0,0,"-"]
[3863,"Kapitalne pomoći poljoprivrednicima i obrtnicima",239,0,0,"-"]
[" ","Stanje zaliha proizvodnje i gotovih proizvoda na početku razdoblja",240,0,0,"-"]
[" ","Stanje zaliha proizvodnje i gotovih proizvoda na kraju razdoblja ",241,0,0,"-"]
[" ","Povećanje zaliha proizvodnje i gotovih proizvoda (AOP 241-240)",242,{"$f":"IF(D252>=D251,D252-D251,0)","v":0},{"$f":"IF(E252>=E251,E252-E251,0)","v":0},"-"]
[" ","Smanjenje zaliha proizvodnje i gotovih proizvoda (AOP 240-241) ",243,{"$f":"IF(D251>=D252,D251-D252,0)","v":0},{"$f":"IF(E251>=E252,E251-E252,0)","v":0},"-"]
[" ","Ukupni rashodi poslovanja (AOP 132-242 ili 132+243)",244,{"$f":"D143-D253+D254","v":10990856},{"$f":"E143-E253+E254","v":11572861},105.29535643083669]
[" ","VIŠAK PRIHODA POSLOVANJA (AOP 001-244) ",245,{"$f":"IF(D12>=D255,D12-D255,0)","v":46538},{"$f":"IF(E12>=E255,E12-E255,0)","v":431668},927.5602733250247]
[" ","MANJAK PRIHODA POSLOVANJA (AOP 244-001)",246,{"$f":"IF(D255>=D12,D255-D12,0)","v":0},{"$f":"IF(E255>=E12,E255-E12,0)","v":0},"-"]
[92211,"Višak prihoda poslovanja - preneseni",247,8716,0,0]
[92221,"Manjak prihoda poslovanja - preneseni",248,0,42116,"-"]
[96,"Obračunati prihodi poslovanja - nenaplaćeni",249,0,0,"-"]
[9661,"Obračunati prihodi od prodaje proizvoda i robe i pruženih usluga - nenaplaćeni",250,0,0,"-"]
["PRIHODI I RASHODI OD NEFINANCIJSKE IMOVINE"]
[7,"Prihodi od prodaje nefinancijske imovine (AOP 252+264+296+300)",251,{"$f":"D264+D276+D308+D312","v":0},{"$f":"E264+E276+E308+E312","v":0},"-"]
[71,"Prihodi od prodaje neproizvedene dugotrajne imovine (AOP 253+257)",252,{"$f":"D265+D269","v":0},{"$f":"E265+E269","v":0},"-"]
[711,"Prihodi od prodaje materijalne imovine - prirodnih bogatstava (AOP 254 do 256)",253,{"$f":"SUM(D266:D268)","v":0},{"$f":"SUM(E266:E268)","v":0},"-"]
[7111,"Zemljište",254,0,0,"-"]
[7112,"Rudna bogatstva",255,0,0,"-"]
[7113,"Prihodi od prodaje ostale prirodne materijalne imovine",256,0,0,"-"]
[712,"Prihodi od prodaje nematerijalne imovine (AOP 258 do 263)",257,{"$f":"SUM(D270:D275)","v":0},{"$f":"SUM(E270:E275)","v":0},{"$f":"IF(D269>0,IF(E269/D269>=100,\">>100\",E269/D269*100),\"-\")","v":"-"}]
[7121,"Patenti",258,0,0,"-"]
[7122,"Koncesije",259,0,0,"-"]
[7123,"Licence",260,0,0,"-"]
[7124,"Ostala prava",261,0,0,"-"]
[7125,"Goodwill",262,0,0,"-"]
[7126,"Ostala nematerijalna imovina",263,0,0,"-"]
[72,"Prihodi od prodaje proizvedene dugotrajne imovine (AOP 265+270+278+283+288+291)",264,{"$f":"D277+D282+D290+D295+D300+D303","v":0},{"$f":"E277+E282+E290+E295+E300+E303","v":0},"-"]
[721,"Prihodi od prodaje građevinskih objekata (AOP 266 do 269)",265,{"$f":"SUM(D278:D281)","v":0},{"$f":"SUM(E278:E281)","v":0},"-"]
[7211,"Stambeni objekti",266,0,0,"-"]
[7212,"Poslovni objekti",267,0,0,"-"]
[7213,"Ceste, željeznice i ostali prometni objekti",268,0,0,"-"]
[7214,"Ostali građevinski objekti",269,0,0,"-"]
[722,"Prihodi od prodaje postrojenja i opreme (AOP 271 do 277)",270,{"$f":"SUM(D283:D289)","v":0},{"$f":"SUM(E283:E289)","v":0},"-"]
[7221,"Uredska oprema i namještaj",271,0,0,"-"]
[7222,"Komunikacijska oprema ",272,0,0,"-"]
[7223,"Oprema za održavanje i zaštitu",273,0,0,"-"]
[7224,"Medicinska i laboratorijska oprema",274,0,0,"-"]
[7225,"Instrumenti, uređaji i strojevi ",275,0,0,"-"]
[7226,"Sportska i glazbena oprema",276,0,0,"-"]
[7227,"Uređaji, strojevi i oprema za ostale namjene",277,0,0,"-"]
[723,"Prihodi od prodaje prijevoznih sredstava (AOP 279 do 282)",278,{"$f":"SUM(D291:D294)","v":0},{"$f":"SUM(E291:E294)","v":0},"-"]
[7231,"Prijevozna sredstva u cestovnom prometu",279,0,0,"-"]
[7232,"Prijevozna sredstva u željezničkom prometu",280,0,0,"-"]
[7233,"Prijevozna sredstva u pomorskom i riječnom prometu",281,0,0,"-"]
[7234,"Prijevozna sredstva u zračnom prometu",282,0,0,"-"]
[724,"Prihodi od prodaje knjiga, umjetničkih djela i ostalih izložbenih vrijednosti (AOP 284 do 287)",283,{"$f":"SUM(D296:D299)","v":0},{"$f":"SUM(E296:E299)","v":0},"-"]
[7241,"Knjige",284,0,0,"-"]
[7242,"Umjetnička djela (izložena u galerijama, muzejima i slično)",285,0,0,"-"]
[7243,"Muzejski izlošci i predmeti prirodnih rijetkosti",286,0,0,"-"]
[7244,"Ostale nespomenute izložbene vrijednosti",287,0,0,"-"]
[725,"Prihodi od prodaje višegodišnjih nasada i osnovnog stada (AOP 289+290)",288,{"$f":"SUM(D301:D302)","v":0},{"$f":"SUM(E301:E302)","v":0},"-"]
[7251,"Višegodišnji nasadi",289,0,0,"-"]
[7252,"Osnovno stado",290,0,0,"-"]
[726,"Prihodi od prodaje nematerijalne proizvedene imovine (AOP 292 do 295)",291,{"$f":"SUM(D304:D307)","v":0},{"$f":"SUM(E304:E307)","v":0},"-"]
[7261,"Istraživanje rudnih bogatstava",292,0,0,"-"]
[7262,"Ulaganja u računalne programe ",293,0,0,"-"]
[7263,"Umjetnička, literarna i znanstvena djela",294,0,0,"-"]
[7264,"Ostala nematerijalna proizvedena imovina",295,0,0,"-"]
[73,"Prihodi od prodaje plemenitih metala i ostalih pohranjenih vrijednosti (AOP 297)",296,{"$f":"D309","v":0},{"$f":"E309","v":0},"-"]
[731,"Prihodi od prodaje plemenitih metala i ostalih pohranjenih vrijednosti (AOP 298+299)",297,{"$f":"SUM(D310:D311)","v":0},{"$f":"SUM(E310:E311)","v":0},"-"]
[7311,"Plemeniti metali i drago kamenje",298,0,0,"-"]
[7312,"Pohranjene knjige, umjetnička djela i slične vrijednosti",299,0,0,"-"]
[74,"Prihodi od prodaje proizvedene kratkotrajne imovine (AOP 301)",300,{"$f":"D313","v":0},{"$f":"E313","v":0},"-"]
[741,"Prihodi od prodaje zaliha (AOP 302)",301,{"$f":"D314","v":0},{"$f":"E314","v":0},"-"]
[7411,"Strateške zalihe",302,0,0,"-"]
[4,"Rashodi za nabavu nefinancijske imovine (AOP 304+318+352+358+361)",303,{"$f":"D316+D330+D364+D370+D373","v":97370},{"$f":"E316+E330+E364+E370+E373","v":226503},232.62093047139777]
[41,"Rashodi za nabavu neproizvedene dugotrajne imovine (AOP 305+309+316)",304,{"$f":"D317+D321+D328","v":0},{"$f":"E317+E321+E328","v":0},"-"]
[411,"Materijalna imovina - prirodna bogatstva (AOP 306 do 308)",305,{"$f":"SUM(D318:D320)","v":0},{"$f":"SUM(E318:E320)","v":0},"-"]
[4111,"Zemljište",306,0,0,"-"]
[4112,"Rudna bogatstva",307,0,0,"-"]
[4113,"Ostala prirodna materijalna imovina",308,0,0,"-"]
[412,"Nematerijalna imovina (AOP 310 do 315)",309,{"$f":"SUM(D322:D327)","v":0},{"$f":"SUM(E322:E327)","v":0},"-"]
[4121,"Patenti",310,0,0,"-"]
[4122,"Koncesije",311,0,0,"-"]
[4123,"Licence",312,0,0,"-"]
[4124,"Ostala prava",313,0,0,"-"]
[4125,"Goodwill",314,0,0,"-"]
[4126,"Ostala nematerijalna imovina",315,0,0,"-"]
[418,"Predujmovi za nabavu neproizvedene imovine (AOP 317)",316,{"$f":"D329","v":0},{"$f":"E329","v":0},"-"]
[4181,"Predujmovi za nabavu neproizvedene imovine",317,0,0,"-"]
[42,"Rashodi za nabavu proizvedene dugotrajne imovine (AOP 319+324+332+337+342+345+350)",318,{"$f":"D331+D336+D344+D349+D354+D357+D362","v":97370},{"$f":"E331+E336+E344+E349+E354+E357+E362","v":226503},232.62093047139777]
[421,"Građevinski objekti (AOP 320 do 323)",319,{"$f":"SUM(D332:D335)","v":0},{"$f":"SUM(E332:E335)","v":195756},"-"]
[4211,"Stambeni objekti",320,0,0,"-"]
[4212,"Poslovni objekti",321,0,195756,{"$f":"IF(D333>0,IF(E333/D333>=100,\">>100\",E333/D333*100),\"-\")","v":"-"}]
[4213,"Ceste, željeznice i ostali prometni objekti",322,0,0,"-"]
[4214,"Ostali građevinski objekti",323,0,0,"-"]
[422,"Postrojenja i oprema (AOP 325 do 331)",324,{"$f":"SUM(D337:D343)","v":93828},{"$f":"SUM(E337:E343)","v":29028},30.937460033252336]
[4221,"Uredska oprema i namještaj",325,0,12059,"-"]
[4222,"Komunikacijska oprema",326,3500,0,0]
[4223,"Oprema za održavanje i zaštitu",327,0,0,"-"]
[4224,"Medicinska i laboratorijska oprema",328,0,0,"-"]
[4225,"Instrumenti, uređaji i strojevi ",329,0,0,"-"]
[4226,"Sportska i glazbena oprema",330,0,0,"-"]
[4227,"Uređaji, strojevi i oprema za ostale namjene",331,90328,16969,18.785979984058098]
[423,"Prijevozna sredstva (AOP 333 do 336)",332,{"$f":"SUM(D345:D348)","v":0},{"$f":"SUM(E345:E348)","v":0},"-"]
[4231,"Prijevozna sredstva u cestovnom prometu",333,0,0,"-"]
[4232,"Prijevozna sredstva u željezničkom prometu",334,0,0,"-"]
[4233,"Prijevozna sredstva u pomorskom i riječnom prometu",335,0,0,"-"]
[4234,"Prijevozna sredstva u zračnom prometu",336,0,0,"-"]
[424,"Knjige, umjetnička djela i ostale izložbene vrijednosti (AOP 338 do 341)",337,{"$f":"SUM(D350:D353)","v":3542},{"$f":"SUM(E350:E353)","v":1719},48.531902879728968]
[4241,"Knjige ",338,3542,1719,48.531902879728968]
[4242,"Umjetnička djela (izložena u galerijama, muzejima i slično)",339,0,0,"-"]
[4243,"Muzejski izlošci i predmeti prirodnih rijetkosti",340,0,0,"-"]
[4244,"Ostale nespomenute izložbene vrijednosti",341,0,0,"-"]
[425,"Višegodišnji nasadi i osnovno stado (AOP 343+344)",342,{"$f":"SUM(D355:D356)","v":0},{"$f":"SUM(E355:E356)","v":0},"-"]
[4251,"Višegodišnji nasadi ",343,0,0,"-"]
[4252,"Osnovno stado",344,0,0,"-"]
[426,"Nematerijalna proizvedena imovina (AOP 346 do 349)",345,{"$f":"SUM(D358:D361)","v":0},{"$f":"SUM(E358:E361)","v":0},"-"]
[4261,"Istraživanje rudnih bogatstava",346,0,0,"-"]
[4262,"Ulaganja u računalne programe ",347,0,0,"-"]
[4263,"Umjetnička, literarna i znanstvena djela",348,0,0,"-"]
[4264,"Ostala nematerijalna proizvedena imovina",349,0,0,"-"]
[428,"Predujmovi za nabavu proizvedene dugotrajne imovine (AOP 351)",350,{"$f":"D363","v":0},{"$f":"E363","v":0},"-"]
[4281,"Predujmovi za nabavu proizvedene dugotrajne imovine",351,0,0,"-"]
[43,"Rashodi za nabavu plemenitih metala i ostalih pohranjenih vrijednosti (AOP 353+356)",352,{"$f":"D365+D368","v":0},{"$f":"E365+E368","v":0},"-"]
[431,"Plemeniti metali i ostale pohranjene vrijednosti (AOP 354+355)",353,{"$f":"SUM(D366:D367)","v":0},{"$f":"SUM(E366:E367)","v":0},"-"]
[4311,"Plemeniti metali i drago kamenje",354,0,0,"-"]
[4312,"Pohranjene knjige, umjetnička djela i slične vrijednosti",355,0,0,"-"]
[438,"Predujmovi za nabavu plemenitih metala, umjetničkih i znanstvenih djela i ostalih \nvrijednosti (AOP 357)",356,{"$f":"D369","v":0},{"$f":"E369","v":0},"-"]
[4381,"Predujmovi za nabavu plemenitih metala, umjetničkih i znanstvenih djela i ostalih vrijednosti",357,0,0,"-"]
[44,"Rashodi za nabavu proizvedene kratkotrajne imovine (AOP 359)",358,{"$f":"D371","v":0},{"$f":"E371","v":0},"-"]
[441,"Rashodi za nabavu zaliha (AOP 360)",359,{"$f":"D372","v":0},{"$f":"E372","v":0},"-"]
[4411,"Strateške zalihe",360,0,0,"-"]
[45,"Rashodi za dodatna ulaganja na nefinancijskoj imovini (AOP 362+364+366+368+370)",361,{"$f":"D374+D376+D378+D380+D382","v":0},{"$f":"E374+E376+E378+E380+E382","v":0},"-"]
[451,"Dodatna ulaganja na građevinskim objektima (AOP 363)",362,{"$f":"D375","v":0},{"$f":"E375","v":0},"-"]
[4511,"Dodatna ulaganja na građevinskim objektima",363,0,0,"-"]
[452,"Dodatna ulaganja na postrojenjima i opremi (AOP 365)",364,{"$f":"D377","v":0},{"$f":"E377","v":0},"-"]
[4521,"Dodatna ulaganja na postrojenjima i opremi",365,0,0,"-"]
[453,"Dodatna ulaganja na prijevoznim sredstvima (AOP 367)",366,{"$f":"D379","v":0},{"$f":"E379","v":0},"-"]
[4531,"Dodatna ulaganja na prijevoznim sredstvima",367,0,0,"-"]
[454,"Dodatna ulaganja za ostalu nefinancijsku imovinu (AOP 369)",368,{"$f":"D381","v":0},{"$f":"E381","v":0},"-"]
[4541,"Dodatna ulaganja za ostalu nefinancijsku imovinu",369,0,0,"-"]
[458,"Predujmovi za dodatna ulaganja na nefinancijskoj imovini (AOP 371)",370,{"$f":"D383","v":0},{"$f":"E383","v":0},"-"]
[4581,"Predujmovi za dodatna ulaganja na nefinancijskoj imovini",371,0,0,"-"]
[" ","VIŠAK PRIHODA OD NEFINANCIJSKE IMOVINE (AOP 251-303) ",372,{"$f":"IF(D263>=D315,D263-D315,0)","v":0},{"$f":"IF(E263>=E315,E263-E315,0)","v":0},"-"]
[" ","MANJAK PRIHODA OD NEFINANCIJSKE IMOVINE (AOP 303-251)",373,{"$f":"IF(D315>=D263,D315-D263,0)","v":97370},{"$f":"IF(E315>=E263,E315-E263,0)","v":226503},232.62093047139777]
[92212,"Višak prihoda od nefinancijske imovine - preneseni ",374,0,0,"-"]
[92222,"Manjak prihoda od nefinancijske imovine - preneseni ",375,0,0,"-"]
[97,"Obračunati prihodi od prodaje nefinancijske imovine - nenaplaćeni",376,0,0,"-"]
[" ","UKUPNI PRIHODI (AOP 001+251)",377,{"$f":"D12+D263","v":11037394},{"$f":"E12+E263","v":12004529},108.76234915596925]
[" ","UKUPNI RASHODI (AOP 244+303)",378,{"$f":"D255+D315","v":11088226},{"$f":"E255+E315","v":11799364},106.41345152957742]
[" ","UKUPAN VIŠAK PRIHODA (AOP 377-378)",379,{"$f":"IF(D389>=D390,D389-D390,0)","v":0},{"$f":"IF(E389>=E390,E389-E390,0)","v":205165},"-"]
[" ","UKUPAN MANJAK PRIHODA (AOP 378-377)",380,{"$f":"IF(D390>=D389,D390-D389,0)","v":50832},{"$f":"IF(E390>=E389,E390-E389,0)","v":0},0]
["9221x, 9222x","Višak prihoda - preneseni (AOP 247+374-248-375)",381,{"$f":"IF(D258-D259+D386-D387>=0,D258-D259+D386-D387,0)","v":8716},{"$f":"IF(E258-E259+E386-E387>=0,E258-E259+E386-E387,0)","v":0},0]
["9221x, 9222x","Manjak prihoda - preneseni (AOP 248+375-247-374)",382,{"$f":"IF(D259-D258+D387-D386>=0,D259-D258+D387-D386,0)","v":0},{"$f":"IF(E259-E258+E387-E386>=0,E259-E258+E387-E386,0)","v":42116},"-"]
["96, 97","Obračunati prihodi - nenaplaćeni (AOP 249+376)",383,{"$f":"D260+D388","v":0},{"$f":"E260+E388","v":0},"-"]
["PRIMICI I IZDACI"]
[8,"Primici od financijske imovine i zaduživanja (AOP 385+420+433+446+477)",384,{"$f":"D398+D433+D446+D459+D490","v":0},{"$f":"E398+E433+E446+E459+E490","v":0},{"$f":"IF(D397>0,IF(E397/D397>=100,\">>100\",E397/D397*100),\"-\")","v":"-"}]
[81,"Primljene otplate (povrati) glavnice danih zajmova (AOP 386+391+394+398+400+407+412)",385,{"$f":"D399+D404+D407+D411+D413+D420+D425","v":0},{"$f":"E399+E404+E407+E411+E413+E420+E425","v":0},"-"]
[811,"Primici (povrati) glavnice zajmova danih međunarodnim organizacijama, institucijama i tijelima EU te inozemnim vladama (AOP 387 do 390)",386,{"$f":"SUM(D400:D403)","v":0},{"$f":"SUM(E400:E403)","v":0},"-"]
[8113,"Povrat zajmova danih međunarodnim organizacijama",387,0,0,"-"]
[8114,"Povrat zajmova danih institucijama i tijelima EU",388,0,0,"-"]
[8115,"Povrat zajmova danih inozemnim vladama u EU",389,0,0,"-"]
[8116,"Povrat zajmova danih inozemnim vladama izvan EU",390,0,0,"-"]
[812,"Primici (povrati) glavnice zajmova danih neprofitnim organizacijama, građanima i kućanstvima (AOP 392+393) ",391,{"$f":"SUM(D405:D406)","v":0},{"$f":"SUM(E405:E406)","v":0},"-"]
[8121,"Povrat zajmova danih neprofitnim organizacijama, građanima i kućanstvima u tuzemstvu",392,0,0,"-"]
[8122,"Povrat zajmova danih neprofitnim organizacijama, građanima i kućanstvima u inozemstvu",393,0,0,"-"]
[813,"Primici (povrati) glavnice zajmova danih kreditnim i ostalim financijskim institucijama u javnom sektoru (AOP 395 do 397)",394,{"$f":"SUM(D408:D410)","v":0},{"$f":"SUM(E408:E410)","v":0},"-"]
[8132,"Povrat zajmova danih kreditnim institucijama u javnom sektoru",395,0,0,"-"]
[8133,"Povrat zajmova danih osiguravajućim društvima u javnom sektoru",396,0,0,"-"]
[8134,"Povrat zajmova danih ostalim financijskim institucijama u javnom sektoru",397,0,0,"-"]
[814,"Primici (povrati) glavnice zajmova danih trgovačkim društvima u javnom sektoru (AOP 399)",398,{"$f":"D412","v":0},{"$f":"E412","v":0},"-"]
[8141,"Povrat zajmova danih trgovačkim društvima u javnom sektoru",399,0,0,"-"]
[815,"Primici (povrati) glavnice zajmova danih kreditnim i ostalim financijskim institucijama izvan javnog sektora (AOP 401 do 406)",400,{"$f":"SUM(D414:D419)","v":0},{"$f":"SUM(E414:E419)","v":0},"-"]
[8153,"Povrat zajmova danih tuzemnim kreditnim institucijama izvan javnog sektora",401,0,0,"-"]
[8154,"Povrat zajmova danih tuzemnim osiguravajućim društvima izvan javnog sektora",402,0,0,"-"]
[8155,"Povrat zajmova danih ostalim tuzemnim financijskim institucijama izvan javnog sektora",403,0,0,"-"]
[8156,"Povrat zajmova danih inozemnim kreditnim institucijama",404,0,0,"-"]
[8157,"Povrat zajmova danih inozemnim osiguravajućim društvima",405,0,0,"-"]
[8158,"Povrat zajmova danih ostalim inozemnim financijskim institucijama",406,0,0,"-"]
[816,"Primici (povrati) glavnice zajmova danih trgovačkim društvima i obrtnicima izvan javnog sektora (AOP 408 do 411) ",407,{"$f":"SUM(D421:D424)","v":0},{"$f":"SUM(E421:E424)","v":0},"-"]
[8163,"Povrat zajmova danih tuzemnim trgovačkim društvima izvan javnog sektora",408,0,0,"-"]
[8164,"Povrat zajmova danih tuzemnim obrtnicima",409,0,0,"-"]
[8165,"Povrat zajmova danih inozemnim trgovačkim društvima",410,0,0,"-"]
[8166,"Povrat zajmova danih inozemnim obrtnicima",411,0,0,"-"]
[817,"Povrat zajmova danih drugim razinama vlasti (AOP 413 do 419)",412,{"$f":"SUM(D426:D432)","v":0},{"$f":"SUM(E426:E432)","v":0},"-"]
[8171,"Povrat zajmova danih državnom proračunu",413,0,0,"-"]
[8172,"Povrat zajmova danih županijskim proračunima",414,0,0,"-"]
[8173,"Povrat zajmova danih gradskim proračunima",415,0,0,"-"]
[8174,"Povrat zajmova danih općinskim proračunima",416,0,0,"-"]
[8175,"Povrat zajmova danih HZMO-u, HZZ-u i HZZO-u",417,0,0,"-"]
[8176,"Povrat zajmova danih ostalim izvanproračunskim korisnicima državnog proračuna",418,0,0,"-"]
[8177,"Povrat zajmova danih izvanproračunskim korisnicima županijskih, gradskih i općinskih proračuna",419,0,0,"-"]
[82,"Primici od izdanih vrijednosnih papira (AOP 421+424+427+430)",420,{"$f":"D434+D437+D440+D443","v":0},{"$f":"E434+E437+E440+E443","v":0},"-"]
[821,"Trezorski zapisi (AOP 422+423)",421,{"$f":"SUM(D435:D436)","v":0},{"$f":"SUM(E435:E436)","v":0},"-"]
[8211,"Trezorski zapisi - tuzemni",422,0,0,"-"]
[8212,"Trezorski zapisi - inozemni",423,0,0,"-"]
[822,"Obveznice (AOP 425+426)",424,{"$f":"SUM(D438:D439)","v":0},{"$f":"SUM(E438:E439)","v":0},"-"]
[8221,"Obveznice - tuzemne",425,0,0,"-"]
[8222,"Obveznice - inozemne",426,0,0,"-"]
[823,"Opcije i drugi financijski derivati (AOP 428+429)",427,{"$f":"SUM(D441:D442)","v":0},{"$f":"SUM(E441:E442)","v":0},"-"]
[8231,"Opcije i drugi financijski derivati - tuzemni",428,0,0,"-"]
[8232,"Opcije i drugi financijski derivati - inozemni",429,0,0,"-"]
[824,"Ostali vrijednosni papiri (AOP 431+432)",430,{"$f":"SUM(D444:D445)","v":0},{"$f":"SUM(E444:E445)","v":0},"-"]
[8241,"Ostali vrijednosni papiri - tuzemni",431,0,0,"-"]
[8242,"Ostali vrijednosni papiri - inozemni",432,0,0,"-"]
[83,"Primici od prodaje dionica i udjela u glavnici (AOP 434+438+440+443)",433,{"$f":"D447+D451+D453+D456","v":0},{"$f":"E447+E451+E453+E456","v":0},"-"]
[831,"Primici od prodaje dionica i udjela u glavnici kreditnih i ostalih financijskih institucija u javnom sektoru (AOP 435 do 437)",434,{"$f":"SUM(D448:D450)","v":0},{"$f":"SUM(E448:E450)","v":0},"-"]
[8312,"Dionice i udjeli u glavnici kreditnih institucija u javnom sektoru",435,0,0,"-"]
[8313,"Dionice i udjeli u glavnici osiguravajućih društava u javnom sektoru",436,0,0,"-"]
[8314,"Dionice i udjeli u glavnici ostalih financijskih institucija u javnom sektoru",437,0,0,"-"]
[832,"Primici od prodaje dionica i udjela u glavnici trgovačkih društava u javnom sektoru (AOP 439)",438,{"$f":"D452","v":0},{"$f":"E452","v":0},"-"]
[8321,"Dionice i udjeli u glavnici trgovačkih društava u javnom sektoru",439,0,0,"-"]
[833,"Primici od prodaje dionica i udjela u glavnici kreditnih i ostalih financijskih institucija izvan javnog sektora (AOP 441+442)",440,{"$f":"SUM(D454:D455)","v":0},{"$f":"SUM(E454:E455)","v":0},"-"]
[8331,"Dionice i udjeli u glavnici tuzemnih kreditnih i ostalih financijskih institucija izvan javnog sektora ",441,0,0,"-"]
[8332,"Dionice i udjeli u glavnici inozemnih kreditnih i ostalih financijskih institucija ",442,0,0,"-"]
[834,"Primici od prodaje dionica i udjela u glavnici trgovačkih društava izvan javnog sektora (AOP 444+445)",443,{"$f":"SUM(D457:D458)","v":0},{"$f":"SUM(E457:E458)","v":0},"-"]
[8341,"Dionice i udjeli u glavnici tuzemnih trgovačkih društva izvan javnog sektora",444,0,0,"-"]
[8342,"Dionice i udjeli u glavnici inozemnih trgovačkih društava",445,0,0,"-"]
[84,"Primici od zaduživanja (AOP 447+452+456+458+465+470) ",446,{"$f":"D460+D465+D469+D471+D478+D483","v":0},{"$f":"E460+E465+E469+E471+E478+E483","v":0},"-"]
[841,"Primljeni krediti i zajmovi od međunarodnih organizacija, institucija i tijela EU te inozemnih vlada (AOP 448 do 451)",447,{"$f":"SUM(D461:D464)","v":0},{"$f":"SUM(E461:E464)","v":0},"-"]
[8413,"Primljeni zajmovi od međunarodnih organizacija",448,0,0,{"$f":"IF(D461>0,IF(E461/D461>=100,\">>100\",E461/D461*100),\"-\")","v":"-"}]
[8414,"Primljeni krediti i zajmovi od institucija i tijela EU",449,0,0,"-"]
[8415,"Primljeni zajmovi od inozemnih vlada u EU",450,0,0,"-"]
[8416,"Primljeni zajmovi od inozemnih vlada izvan EU",451,0,0,"-"]
[842,"Primljeni krediti i zajmovi od kreditnih i ostalih financijskih institucija u javnom sektoru \n(AOP 453 do 455)",452,{"$f":"SUM(D466:D468)","v":0},{"$f":"SUM(E466:E468)","v":0},"-"]
[8422,"Primljeni krediti od kreditnih institucija u javnom sektoru",453,0,0,"-"]
[8423,"Primljeni zajmovi od osiguravajućih društava u javnom sektoru",454,0,0,"-"]
[8424,"Primljeni zajmovi od ostalih financijskih institucija u javnom sektoru",455,0,0,"-"]
[843,"Primljeni zajmovi od trgovačkih društava u javnom sektoru (AOP 457)",456,{"$f":"D470","v":0},{"$f":"E470","v":0},"-"]
[8431,"Primljeni zajmovi od trgovačkih društava u javnom sektoru",457,0,0,"-"]
[844,"Primljeni krediti i zajmovi od kreditnih i ostalih financijskih institucija izvan javnog sektora (AOP 459 do 464)",458,{"$f":"SUM(D472:D477)","v":0},{"$f":"SUM(E472:E477)","v":0},"-"]
[8443,"Primljeni krediti od tuzemnih kreditnih institucija izvan javnog sektora",459,0,0,"-"]
[8444,"Primljeni zajmovi od tuzemnih osiguravajućih društava izvan javnog sektora",460,0,0,"-"]
[8445,"Primljeni zajmovi od ostalih tuzemnih financijskih institucija izvan javnog sektora",461,0,0,"-"]
[8446,"Primljeni krediti od inozemnih kreditnih institucija",462,0,0,"-"]
[8447,"Primljeni zajmovi od inozemnih osiguravajućih društava",463,0,0,"-"]
[8448,"Primljeni zajmovi od ostalih inozemnih financijskih institucija",464,0,0,"-"]
[845,"Primljeni zajmovi od trgovačkih društava i obrtnika izvan javnog sektora (AOP 466 do 469)",465,{"$f":"SUM(D479:D482)","v":0},{"$f":"SUM(E479:E482)","v":0},"-"]
[8453,"Primljeni zajmovi od tuzemnih trgovačkih društava izvan javnog sektora",466,0,0,"-"]
[8454,"Primljeni zajmovi od tuzemnih obrtnika",467,0,0,"-"]
[8455,"Primljeni zajmovi od inozemnih trgovačkih društava",468,0,0,"-"]
[8456,"Primljeni zajmovi od inozemnih obrtnika",469,0,0,"-"]
[847,"Primljeni zajmovi od drugih razina vlasti (AOP 471 do 476)",470,{"$f":"SUM(D484:D489)","v":0},{"$f":"SUM(E484:E489)","v":0},"-"]
[8471,"Primljeni zajmovi od državnog proračuna",471,0,0,"-"]
[8472,"Primljeni zajmovi od županijskih proračuna",472,0,0,"-"]
[8473,"Primljeni zajmovi od gradskih proračuna",473,0,0,"-"]
[8474,"Primljeni zajmovi od općinskih proračuna",474,0,0,"-"]
[8475,"Primljeni zajmovi od HZMO-a, HZZ-a i HZZO-a",475,0,0,"-"]
[8476,"Primljeni zajmovi od ostalih izvanproračunskih korisnika",476,0,0,"-"]
[85,"Primici od prodaje vrijednosnih papira iz portfelja (AOP 478+481+484+487)",477,{"$f":"D491+D494+D497+D500","v":0},{"$f":"E491+E494+E497+E500","v":0},"-"]
[851,"Primici za komercijalne i blagajničke zapise (AOP 479+480)",478,{"$f":"SUM(D492:D493)","v":0},{"$f":"SUM(E492:E493)","v":0},"-"]
[8511,"Komercijalni i blagajnički zapisi – tuzemni",479,0,0,"-"]
[8512,"Komercijalni i blagajnički zapisi – inozemni",480,0,0,"-"]
[852,"Primici za obveznice (AOP 482+483)",481,{"$f":"SUM(D495:D496)","v":0},{"$f":"SUM(E495:E496)","v":0},"-"]
[8521,"Obveznice – tuzemne",482,0,0,"-"]
[8522,"Obveznice – inozemne",483,0,0,"-"]
[853,"Primici za opcije i druge financijske derivate (AOP 485+486)",484,{"$f":"SUM(D498:D499)","v":0},{"$f":"SUM(E498:E499)","v":0},"-"]
[8531,"Opcije i drugi financijski derivati – tuzemni",485,0,0,"-"]
[8532,"Opcije i drugi financijski derivati – inozemni",486,0,0,"-"]
[854,"Primci za ostale vrijednosne papire (AOP 488+489)",487,{"$f":"SUM(D501:D502)","v":0},{"$f":"SUM(E501:E502)","v":0},"-"]
[8541,"Ostali tuzemni vrijednosni papiri",488,0,0,"-"]
[8542,"Ostali inozemni vrijednosni papiri",489,0,0,"-"]
[5,"Izdaci za financijsku imovinu i otplate zajmova (AOP 491+526+539+552+584)",490,{"$f":"D504+D539+D552+D565+D597","v":0},{"$f":"E504+E539+E552+E565+E597","v":0},"-"]
[51,"Izdaci za dane zajmove (AOP 492+497+500+504+506+513+518)",491,{"$f":"D505+D510+D513+D517+D519+D526+D531","v":0},{"$f":"E505+E510+E513+E517+E519+E526+E531","v":0},"-"]
[511,"Izdaci za dane zajmove međunarodnim organizacijama, institucijama i tijelima EU te inozemnim vladama (AOP 493 do 496)",492,{"$f":"SUM(D506:D509)","v":0},{"$f":"SUM(E506:E509)","v":0},"-"]
[5113,"Dani zajmovi međunarodnim organizacijama",493,0,0,"-"]
[5114,"Dani zajmovi institucijama i tijelima EU",494,0,0,"-"]
[5115,"Dani zajmovi inozemnim vladama u EU",495,0,0,"-"]
[5116,"Dani zajmovi inozemnim vladama izvan EU",496,0,0,"-"]
[512,"Izdaci za dane zajmove neprofitnim organizacijama, građanima i kućanstvima (AOP 498+499) ",497,{"$f":"SUM(D511:D512)","v":0},{"$f":"SUM(E511:E512)","v":0},"-"]
[5121,"Dani zajmovi neprofitnim organizacijama, građanima i kućanstvima u tuzemstvu",498,0,0,"-"]
[5122,"Dani zajmovi neprofitnim organizacijama, građanima i kućanstvima u inozemstvu",499,0,0,"-"]
[513,"Izdaci za dane zajmove kreditnim i ostalim financijskim institucijama u javnom sektoru \n(AOP 501 do 503)",500,{"$f":"SUM(D514:D516)","v":0},{"$f":"SUM(E514:E516)","v":0},"-"]
[5132,"Dani zajmovi kreditnim institucijama u javnom sektoru",501,0,0,{"$f":"IF(D514>0,IF(E514/D514>=100,\">>100\",E514/D514*100),\"-\")","v":"-"}]
[5133,"Dani zajmovi osiguravajućim društvima u javnom sektoru",502,0,0,"-"]
[5134,"Dani zajmovi ostalim financijskim institucijama u javnom sektoru",503,0,0,"-"]
[514,"Izdaci za dane zajmove trgovačkim društvima u javnom sektoru (AOP 505)",504,{"$f":"D518","v":0},{"$f":"E518","v":0},"-"]
[5141,"Dani zajmovi trgovačkim društvima u javnom sektoru",505,0,0,"-"]
[515,"Izdaci za dane zajmove kreditnim i ostalim financijskim institucijama izvan javnog sektora \n(AOP 507 do 512)",506,{"$f":"SUM(D520:D525)","v":0},{"$f":"SUM(E520:E525)","v":0},"-"]
[5153,"Dani zajmovi tuzemnim kreditnim institucijama izvan javnog sektora",507,0,0,"-"]
[5154,"Dani zajmovi tuzemnim osiguravajućim društvima izvan javnog sektora",508,0,0,"-"]
[5155,"Dani zajmovi ostalim tuzemnim financijskim institucijama izvan javnog sektora",509,0,0,"-"]
[5156,"Dani zajmovi inozemnim kreditnim institucijama",510,0,0,"-"]
[5157,"Dani zajmovi inozemnim osiguravajućim društvima",511,0,0,"-"]
[5158,"Dani zajmovi ostalim inozemnim financijskim institucijama",512,0,0,"-"]
[516,"Izdaci za dane zajmove trgovačkim društvima i obrtnicima izvan javnog sektora (AOP 514 do 517)",513,{"$f":"SUM(D527:D530)","v":0},{"$f":"SUM(E527:E530)","v":0},"-"]
[5163,"Dani zajmovi tuzemnim trgovačkim društvima izvan javnog sektora",514,0,0,"-"]
[5164,"Dani zajmovi tuzemnim obrtnicima",515,0,0,"-"]
[5165,"Dani zajmovi inozemnim trgovačkim društvima",516,0,0,"-"]
[5166,"Dani zajmovi inozemnim obrtnicima",517,0,0,"-"]
[517,"Dani zajmovi drugim razinama vlasti (AOP 519 do 525)",518,{"$f":"SUM(D532:D538)","v":0},{"$f":"SUM(E532:E538)","v":0},"-"]
[5171,"Dani zajmovi državnom proračunu",519,0,0,"-"]
[5172,"Dani zajmovi županijskim proračunima",520,0,0,"-"]
[5173,"Dani zajmovi gradskim proračunima",521,0,0,"-"]
[5174,"Dani zajmovi općinskim proračunima",522,0,0,"-"]
[5175,"Dani zajmovi HZMO-u, HZZ-u i HZZO-u",523,0,0,"-"]
[5176,"Dani zajmovi ostalim izvanproračunskim korisnicima državnog proračuna",524,0,0,"-"]
[5177,"Dani zajmovi izvanproračunskim korisnicima županijskih, gradskih i općinskih proračuna",525,0,0,"-"]
[52,"Izdaci za ulaganja u vrijednosne papire (AOP 527+530+533+536)",526,{"$f":"D540+D543+D546+D549","v":0},{"$f":"E540+E543+E546+E549","v":0},"-"]
[521,"Izdaci za komercijalne i blagajničke zapise (AOP 528+529)",527,{"$f":"SUM(D541:D542)","v":0},{"$f":"SUM(E541:E542)","v":0},"-"]
[5211,"Komercijalni i blagajnički zapisi - tuzemni ",528,0,0,"-"]
[5212,"Komercijalni i blagajnički zapisi - inozemni",529,0,0,"-"]
[522,"Izdaci za obveznice (AOP 531+532)",530,{"$f":"SUM(D544:D545)","v":0},{"$f":"SUM(E544:E545)","v":0},"-"]
[5221,"Obveznice - tuzemne",531,0,0,"-"]
[5222,"Obveznice - inozemne",532,0,0,"-"]
[523,"Izdaci za opcije i druge financijske derivate (AOP 534+535) ",533,{"$f":"SUM(D547:D548)","v":0},{"$f":"SUM(E547:E548)","v":0},"-"]
[5231,"Opcije i drugi financijski derivati - tuzemni",534,0,0,"-"]
[5232,"Opcije i drugi financijski derivati - inozemni",535,0,0,"-"]
[524,"Izdaci za ostale vrijednosne papire (AOP 537+538)",536,{"$f":"SUM(D550:D551)","v":0},{"$f":"SUM(E550:E551)","v":0},"-"]
[5241,"Ostali tuzemni vrijednosni papiri ",537,0,0,"-"]
[5242,"Ostali inozemni vrijednosni papiri",538,0,0,"-"]
[53,"Izdaci za dionice i udjele u glavnici (AOP 540+544+546+549)",539,{"$f":"D553+D557+D559+D562","v":0},{"$f":"E553+E557+E559+E562","v":0},"-"]
[531,"Dionice i udjeli u glavnici kreditnih i ostalih financijskih institucija u javnom sektoru (AOP 541 do 543)",540,{"$f":"SUM(D554:D556)","v":0},{"$f":"SUM(E554:E556)","v":0},"-"]
[5312,"Dionice i udjeli u glavnici kreditnih institucija u javnom sektoru",541,0,0,"-"]
[5313,"Dionice i udjeli u glavnici osiguravajućih društava u javnom sektoru",542,0,0,"-"]
[5314,"Dionice i udjeli u glavnici ostalih financijskih institucija u javnom sektoru",543,0,0,"-"]
[532,"Dionice i udjeli u glavnici trgovačkih društava u javnom sektoru (AOP 545)",544,{"$f":"D558","v":0},{"$f":"E558","v":0},"-"]
[5321,"Dionice i udjeli u glavnici trgovačkih društava u javnom sektoru",545,0,0,"-"]
[533,"Dionice i udjeli u glavnici kreditnih i ostalih financijskih institucija izvan javnog sektora \n(AOP 547+548)",546,{"$f":"SUM(D560:D561)","v":0},{"$f":"SUM(E560:E561)","v":0},"-"]
[5331,"Dionice i udjeli u glavnici tuzemnih kreditnih i ostalih financijskih institucija izvan javnog sektora",547,0,0,"-"]
[5332,"Dionice i udjeli u glavnici inozemnih kreditnih i ostalih financijskih institucija",548,0,0,"-"]
[534,"Dionice i udjeli u glavnici trgovačkih društava izvan javnog sektora (AOP 550+551) ",549,{"$f":"SUM(D563:D564)","v":0},{"$f":"SUM(E563:E564)","v":0},"-"]
[5341,"Dionice i udjeli u glavnici tuzemnih trgovačkih društava izvan javnog sektora",550,0,0,"-"]
[5342,"Dionice i udjeli u glavnici inozemnih trgovačkih društava",551,0,0,"-"]
[54,"Izdaci za otplatu glavnice primljenih kredita i zajmova (AOP 553+558+562+564+571+576)",552,{"$f":"D566+D571+D575+D577+D584+D589","v":0},{"$f":"E566+E571+E575+E577+E584+E589","v":0},"-"]
[541,"Otplata glavnice primljenih kredita i zajmova od međunarodnih organizacija, institucija i tijela EU te inozemnih vlada (AOP 554 do 557)",553,{"$f":"SUM(D567:D570)","v":0},{"$f":"SUM(E567:E570)","v":0},"-"]
[5413,"Otplata glavnice primljenih zajmova od međunarodnih organizacija",554,0,0,"-"]
[5414,"Otplata glavnice primljenih kredita i zajmova od institucija i tijela EU",555,0,0,"-"]
[5415,"Otplata glavnice primljenih zajmova od inozemnih vlada u EU",556,0,0,"-"]
[5416,"Otplata glavnice primljenih zajmova od inozemnih vlada izvan EU",557,0,0,"-"]
[542,"Otplata glavnice primljenih kredita i zajmova od kreditnih i ostalih financijskih institucija u javnom sektoru (AOP 559 do 561)",558,{"$f":"SUM(D572:D574)","v":0},{"$f":"SUM(E572:E574)","v":0},"-"]
[5422,"Otplata glavnice primljenih kredita od kreditnih institucija u javnom sektoru",559,0,0,"-"]
[5423,"Otplata glavnice primljenih zajmova od osiguravajućih društava u javnom sektoru",560,0,0,"-"]
[5424,"Otplata glavnice primljenih zajmova od ostalih financijskih institucija u javnom sektoru",561,0,0,"-"]
[543,"Otplata glavnice primljenih zajmova od trgovačkih društava u javnom sektoru (AOP 563)",562,{"$f":"D576","v":0},{"$f":"E576","v":0},"-"]
[5431,"Otplata glavnice primljenih zajmova od trgovačkih društava u javnom sektoru",563,0,0,"-"]
[544,"Otplata glavnice primljenih kredita i zajmova od kreditnih i ostalih financijskih institucija izvan javnog sektora (AOP 565 do 570)",564,{"$f":"SUM(D578:D583)","v":0},{"$f":"SUM(E578:E583)","v":0},"-"]
[5443,"Otplata glavnice primljenih kredita od tuzemnih kreditnih institucija izvan javnog sektora",565,0,0,{"$f":"IF(D578>0,IF(E578/D578>=100,\">>100\",E578/D578*100),\"-\")","v":"-"}]
[5444,"Otplata glavnice primljenih zajmova od tuzemnih osiguravajućih društava izvan javnog sektora",566,0,0,"-"]
[5445,"Otplata glavnice primljenih zajmova od ostalih tuzemnih financijskih institucija izvan \njavnog sektora",567,0,0,"-"]
[5446,"Otplata glavnice primljenih kredita od inozemnih kreditnih institucija",568,0,0,"-"]
[5447,"Otplata glavnice primljenih zajmova od inozemnih osiguravajućih društava",569,0,0,"-"]
[5448,"Otplata glavnice primljenih zajmova od ostalih inozemnih financijskih institucija",570,0,0,"-"]
[545,"Otplata glavnice primljenih zajmova od trgovačkih društava i obrtnika izvan javnog sektora \n(AOP 572 do 575)",571,{"$f":"SUM(D585:D588)","v":0},{"$f":"SUM(E585:E588)","v":0},"-"]
[5453,"Otplata glavnice primljenih zajmova od tuzemnih trgovačkih društava izvan javnog sektora",572,0,0,"-"]
[5454,"Otplata glavnice primljenih zajmova od tuzemnih obrtnika",573,0,0,"-"]
[5455,"Otplata glavnice primljenih zajmova od inozemnih trgovačkih društava",574,0,0,"-"]
[5456,"Otplata glavnice primljenih zajmova od inozemnih obrtnika",575,0,0,"-"]
[547,"Otplata glavnice primljenih zajmova od drugih razina vlasti (AOP 577 do 583)",576,{"$f":"SUM(D590:D596)","v":0},{"$f":"SUM(E590:E596)","v":0},"-"]
[5471,"Otplata glavnice primljenih zajmova od državnog proračuna",577,0,0,"-"]
[5472,"Otplata glavnice primljenih zajmova od županijskih proračuna",578,0,0,"-"]
[5473,"Otplata glavnice primljenih zajmova od gradskih proračuna",579,0,0,"-"]
[5474,"Otplata glavnice primljenih zajmova od općinskih proračuna",580,0,0,"-"]
[5475,"Otplata glavnice primljenih zajmova od HZMO-a, HZZ-a i HZZO-a",581,0,0,"-"]
[5476,"Otplata glavnice primljenih zajmova od ostalih izvanproračunskih korisnika državnog proračuna",582,0,0,"-"]
[5477,"Otplata glavnice primljenih zajmova od izvanproračunskih korisnika županijskih, gradskih i općinskih proračuna",583,0,0,"-"]
[55,"Izdaci za otplatu glavnice za izdane vrijednosne papire (AOP 585+588+591)",584,{"$f":"D598+D601+D604","v":0},{"$f":"E598+E601+E604","v":0},"-"]
[551,"Izdaci za otplatu glavnice za izdane trezorske zapise (AOP 586+587)",585,{"$f":"SUM(D599:D600)","v":0},{"$f":"SUM(E599:E600)","v":0},"-"]
[5511,"Izdaci za otplatu glavnice za izdane trezorske zapise u zemlji",586,0,0,"-"]
[5512,"Izdaci za otplatu glavnice za izdane trezorske zapise u inozemstvu",587,0,0,"-"]
[552,"Izdaci za otplatu glavnice za izdane obveznice (AOP 589+590)",588,{"$f":"SUM(D602:D603)","v":0},{"$f":"SUM(E602:E603)","v":0},"-"]
[5521,"Izdaci za otplatu glavnice za izdane obveznice u zemlji",589,0,0,"-"]
[5522,"Izdaci za otplatu glavnice za izdane obveznice u inozemstvu",590,0,0,"-"]
[553,"Izdaci za otplatu glavnice za izdane ostale vrijednosne papire (AOP 592+593)",591,{"$f":"SUM(D605:D606)","v":0},{"$f":"SUM(E605:E606)","v":0},"-"]
[5531,"Izdaci za otplatu glavnice za izdane ostale vrijednosne papire u zemlji",592,0,0,"-"]
[5532,"Izdaci za otplatu glavnice za izdane ostale vrijednosne papire u inozemstvu",593,0,0,"-"]
[" ","VIŠAK PRIMITAKA OD FINANCIJSKE IMOVINE I OBVEZA (AOP 384-490)",594,{"$f":"IF(D397>=D503,D397-D503,0)","v":0},{"$f":"IF(E397>=E503,E397-E503,0)","v":0},"-"]
[" ","MANJAK PRIMITAKA OD FINANCIJSKE IMOVINE I OBVEZA (AOP 490-384)",595,{"$f":"IF(D503>=D397,D503-D397,0)","v":0},{"$f":"IF(E503>=E397,E503-E397,0)","v":0},"-"]
[92213,"Višak primitaka od financijske imovine - preneseni ",596,0,0,"-"]
[92223,"Manjak primitaka od financijske imovine - preneseni",597,0,0,"-"]
[" ","UKUPNI PRIHODI I PRIMICI (AOP 377+384)",598,{"$f":"D389+D397","v":11037394},{"$f":"E389+E397","v":12004529},108.76234915596925]
[" ","UKUPNI RASHODI I IZDACI (AOP 378+490)",599,{"$f":"D390+D503","v":11088226},{"$f":"E390+E503","v":11799364},106.41345152957742]
[" ","VIŠAK PRIHODA I PRIMITAKA (AOP 598-599)",600,{"$f":"IF(D611>=D612,D611-D612,0)","v":0},{"$f":"IF(E611>=E612,E611-E612,0)","v":205165},"-"]
[" ","MANJAK PRIHODA I PRIMITAKA (AOP 599-598)",601,{"$f":"IF(D612>=D611,D612-D611,0)","v":50832},{"$f":"IF(E612>=E611,E612-E611,0)","v":0},0]
["9221-9222","Višak prihoda i primitaka - preneseni (AOP 381+596-382-597)",602,{"$f":"IF(D393-D394+D609-D610>=0,D393-D394+D609-D610,0)","v":8716},{"$f":"IF(E393-E394+E609-E610>=0,E393-E394+E609-E610,0)","v":0},0]
["9222-9221","Manjak prihoda i primitaka - preneseni (AOP 382+597-381-596)",603,{"$f":"IF(D394-D393+D610-D609>=0,D394-D393+D610-D609,0)","v":0},{"$f":"IF(E394-E393+E610-E609>=0,E394-E393+E610-E609,0)","v":42116},"-"]
[" ","Višak prihoda i primitaka raspoloživ u sljedećem razdoblju (AOP 600+602-601-603)",604,{"$f":"IF(D613+D615-D614-D616>=0,D613+D615-D614-D616,0)","v":0},{"$f":"IF(E613+E615-E614-E616>=0,E613+E615-E614-E616,0)","v":163049},"-"]
[" ","Manjak prihoda i primitaka za pokriće u sljedećem razdoblju (AOP 601+603-600-602)",605,{"$f":"IF(D614+D616-D613-D615>=0,D614+D616-D613-D615,0)","v":42116},{"$f":"IF(E614+E616-E613-E615>=0,E614+E616-E613-E615,0)","v":0},0]
[191,"Rashodi budućih razdoblja",606,718730,673784,93.746469466976464]
["OBVEZNI ANALITIČKI PODACI"]
[11,"Stanje novčanih sredstava na početku tromjesečja",607,109327,154873,141.66034008067541]
["11-dugov.","Ukupni priljevi na novčane račune i blagajne",608,3522963,4134756,117.36586504030839]
["11-potraž.","Ukupni odljevi s novčanih računa i blagajni",609,3511965,3938281,112.13895924361432]
[11,"Stanje novčanih sredstava na kraju tromjesečja (607+608-609)",610,{"$f":"D621+D622-D623","v":120325},{"$f":"E621+E622-E623","v":351348},291.99916891751508]
[" ","Prosječan broj zaposlenih u tijelima na osnovi stanja krajem izvještajnog razdoblja (cijeli broj)",611,0,0,"-"]
[" ","Prosječan broj zaposlenih kod korisnika na osnovi stanja krajem izvještajnom razdoblja (cijeli broj)",612,82,86,104.8780487804878]
[" ","Prosječan broj zaposlenih u tijelima na osnovi sati rada (cijeli broj)",613,0,0,"-"]
[" ","Prosječan broj zaposlenih kod korisnika na osnovi sati rada (cijeli broj)",614,78,78,100]
["dio 611","Ostvareni prihodi iz dodatnog udjela poreza na dohodak za decentralizirane funkcije",615,0,0,"-"]
[61315,"Porez na korištenje javnih površina",616,0,0,"-"]
[61451,"Porez na cestovna motorna vozila",617,0,0,"-"]
[61453,"Porez na tvrtku odnosno naziv tvrtke",618,0,0,{"$f":"IF(D632>0,IF(E632/D632>=100,\">>100\",E632/D632*100),\"-\")","v":"-"}]
[63311,"Tekuće pomoći iz državnog proračuna",619,0,0,"-"]
[63312,"Tekuće pomoći iz županijskih proračuna",620,0,0,"-"]
[63313,"Tekuće pomoći iz gradskih proračuna",621,0,0,"-"]
[63314,"Tekuće pomoći iz općinskih proračuna",622,0,0,"-"]
[63321,"Kapitalne pomoći iz državnog proračuna",623,0,0,"-"]
[63322,"Kapitalne pomoći iz županijskih proračuna",624,0,0,"-"]
[63323,"Kapitalne pomoći iz gradskih proračuna",625,0,0,"-"]
[63324,"Kapitalne pomoći iz općinskih proračuna",626,0,0,"-"]
[63331,"Tekuće pomoći od proračunskih korisnika državnog proračuna temeljem prijenosa sredstava EU",627,0,0,"-"]
[63332,"Tekuće pomoći od proračunskih korisnika županijskih, gradskih i općinskih proračuna temeljem prijenosa sredstava EU",628,0,0,"-"]
[63341,"Kapitalne pomoći od proračunskih korisnika državnog proračuna temeljem prijenosa sredstava EU",629,0,0,"-"]
[63342,"Kapitalne pomoći od proračunskih korisnika županijskih, gradskih i općinskih proračuna temeljem prijenosa sredstava EU",630,0,0,"-"]
[63414,"Tekuće pomoći od HZMO-a, HZZ-a i HZZO-a ",631,0,0,"-"]
[63415,"Tekuće pomoći od ostalih izvanproračunskih korisnika državnog proračuna",632,0,0,"-"]
[63416,"Tekuće pomoći od izvanproračunskih korisnika županijskih, gradskih i općinskih proračuna",633,0,0,"-"]
[63424,"Kapitalne pomoći od HZMO-a, HZZ-a i HZZO-a ",634,0,0,"-"]
[63425,"Kapitalne pomoći od ostalih izvanproračunskih korisnika državnog proračuna",635,0,0,"-"]
[63426,"Kapitalne pomoći od izvanproračunskih korisnika županijskih, gradskih i općinskih proračuna",636,0,0,"-"]
[64191,"Premije na izdane vrijednosne papire",637,0,0,"-"]
[64371,"Prihodi od kamata na dane zajmove državnom proračunu",638,0,0,"-"]
[64372,"Prihodi od kamata na dane zajmove županijskim proračunima",639,0,0,"-"]
[64373,"Prihodi od kamata na dane zajmove gradskim proračunima",640,0,0,"-"]
[64374,"Prihodi od kamata na dane zajmove općinskim proračunima",641,0,0,"-"]
[64375,"Prihodi od kamata na dane zajmove HZMO-u, HZZ-u i HZZO-u",642,0,0,"-"]
[64376,"Prihodi od kamata na dane zajmove ostalim izvanproračunskim korisnicima državnog proračuna",643,0,0,"-"]
[64377,"Prihodi od kamata na dane zajmove izvanproračunskim korisnicima županijskih, gradskih i općinskih proračuna",644,0,0,"-"]
[65264,"Sufinanciranje cijene usluge, participacije i slično",645,497307,479657,96.450884463721607]
[65265,"Dopunsko zdravstveno osiguranje",646,0,0,"-"]
[null,"Kontrolni zbroj (AOP 607 do 646)",647,{"$f":"SUM(D621:D660)","v":7762047},{"$f":"SUM(E621:E660)","v":9059079},116.70992200897521]
[31,"Rashodi za zaposlene u tijelima ",648,0,0,"-"]
[31,"Rashodi za zaposlene kod korisnika",649,7856688,8220529,104.63097172752691]
["dio 311","Neto plaća u tijelima",650,0,0,"-"]
["dio 311","Neto plaća kod korisnika",651,5570948,5585972,100.26968480050434]
["dio 311","Porez i prirez iz plaća u tijelima",652,0,0,"-"]
["dio 311","Porez i prirez iz plaća kod korisnika",653,564010,575795,102.08950195918511]
[31214,"Otpremnine",654,0,0,"-"]
[31215,"Naknade za bolest, invalidnost i smrtni slučaj",655,28501,23285,81.698887758324261]
[32,"Materijalni rashodi u tijelima ",656,0,0,"-"]
[32,"Materijalni rashodi kod korisnika",657,2599075,2725050,104.84691669151525]
[32121,"Naknade za prijevoz na posao i s posla",658,268583,294073,109.49054854551478]
["32361","Obvezni i preventivni zdravstveni pregledi zaposlenika",659,19177,20415,106.45564999739273]
["32371","Autorski honorari",660,0,6918,"-"]
["32372","Ugovori o djelu",661,22762,7572,33.265969598453566]
["32377","Usluge agencija, studentskog servisa (prijepisi, prijevodi i drugo)",662,56899,42852,75.312395648429671]
[32911,"Naknade članovima predstavničkih i izvršnih tijela i upravnih vijeća",663,41694,107969,258.95572504437092]
["32923","Premije osiguranja zaposlenih",664,3805,3882,102.02365308804204]
[34111,"Kamate za izdane trezorske zapise u zemlji",665,0,0,"-"]
[34112,"Kamate za izdane trezorske zapise u inozemstvu",666,0,0,"-"]
[34121,"Kamate za izdane mjenice u domaćoj valuti",667,0,0,"-"]
[34122,"Kamate za izdane mjenice u stranoj valuti",668,0,0,"-"]
[34131,"Kamate za izdane obveznice u zemlji",669,0,0,"-"]
[34132,"Kamate za izdane obveznice u inozemstvu",670,0,0,"-"]
[34191,"Kamate za ostale vrijednosne papire u zemlji",671,0,0,"-"]
[34192,"Kamate za ostale vrijednosne papire u inozemstvu",672,0,0,"-"]
[34213,"Kamate za primljene zajmove od međunarodnih organizacija",673,0,0,"-"]
[34214,"Kamate za primljene kredite i zajmove od institucija i tijela EU",674,0,0,"-"]
[34215,"Kamate za primljene zajmove od inozemnih vlada u EU",675,0,0,"-"]
[34216,"Kamate za primljene zajmove od inozemnih vlada izvan EU",676,0,0,"-"]
[34222,"Kamate za primljene kredite od kreditnih institucija u javnom sektoru",677,0,0,"-"]
[34223,"Kamate za primljene zajmove od osiguravajućih društava u javnom sektoru",678,0,0,"-"]
[34224,"Kamate za primljene zajmove od ostalih financijskih institucija u javnom sektoru",679,0,0,"-"]
[34233,"Kamate za primljene kredite od tuzemnih kreditnih institucija izvan javnog sektora",680,0,0,"-"]
[34234,"Kamate za primljene zajmove od tuzemnih osiguravajućih društava izvan javnog sektora",681,0,0,"-"]
[34235,"Kamate za primljene zajmove od ostalih tuzemnih financijskih institucija izvan javnog sektora",682,0,0,{"$f":"IF(D696>0,IF(E696/D696>=100,\">>100\",E696/D696*100),\"-\")","v":"-"}]
[34236,"Kamate za primljene kredite od inozemnih kreditnih institucija",683,0,0,"-"]
[34237,"Kamate za primljene zajmove od inozemnih osiguravajućih društava",684,0,0,"-"]
[34238,"Kamate za primljene zajmove od ostalih inozemnih financijskih institucija",685,0,0,"-"]
[34273,"Kamate za primljene zajmove od tuzemnih trgovačkih društava izvan javnog sektora",686,0,0,"-"]
[34274,"Kamate za primljene zajmove od tuzemnih obrtnika",687,0,0,"-"]
[34275,"Kamate za primljene zajmove od inozemnih trgovačkih društava",688,0,0,"-"]
[34281,"Kamate za primljene zajmove od državnog proračuna",689,0,0,"-"]
[34282,"Kamate za primljene zajmove od županijskih proračuna",690,0,0,"-"]
[34283,"Kamate za primljene zajmove od gradskih proračuna",691,0,0,"-"]
[34284,"Kamate za primljene zajmove od općinskih proračuna",692,0,0,"-"]
[34285,"Kamate za primljene zajmove od HZMO-a, HZZ-a, HZZO-a",693,0,0,"-"]
[34286,"Kamate za primljene zajmove od ostalih izvanproračunskih korisnika državnog proračuna",694,0,0,"-"]
[34287,"Kamate za primljene zajmove od izvanproračunskih korisnika županijskih, gradskih i općinskih proračuna",695,0,0,"-"]
[34341,"Diskont na izdane vrijednosne papire",696,0,0,"-"]
[35231,"Subvencije poljoprivrednicima",697,0,0,"-"]
[35232,"Subvencije obrtnicima",698,0,0,"-"]
[36313,"Tekuće pomoći državnom proračunu",699,0,0,"-"]
[36314,"Tekuće pomoći županijskim proračunima",700,0,0,"-"]
[36315,"Tekuće pomoći gradskim proračunima",701,0,0,"-"]
[36316,"Tekuće pomoći općinskim proračunima",702,0,0,"-"]
[36317,"Tekuće pomoći HZMO-u, HZZ-u i HZZO-u",703,0,0,"-"]
[36318,"Tekuće pomoći ostalim izvanproračunskim korisnicima državnog proračuna",704,0,0,"-"]
[36319,"Tekuće pomoći izvanproračunskim korisnicima županijskih, gradskih i općinskih proračuna",705,0,0,"-"]
[36323,"Kapitalne pomoći državnom proračunu",706,0,0,"-"]
[36324,"Kapitalne pomoći županijskim proračunima",707,0,0,"-"]
[36325,"Kapitalne pomoći gradskim proračunima",708,0,0,"-"]
[36326,"Kapitalne pomoći općinskim proračunima",709,0,0,"-"]
[36327,"Kapitalne pomoći HZMO-u, HZZ-u i HZZO-u",710,0,0,"-"]
[36328,"Kapitalne pomoći ostalim izvanproračunskim korisnicima državnog proračuna",711,0,0,"-"]
[36329,"Kapitalne pomoći izvanproračunskim korisnicima županijskih, gradskih i općinskih proračuna",712,0,0,"-"]
[36331,"Tekuće pomoći proračunskim korisnicima državnog proračuna temeljem prijenosa sredstava EU",713,0,0,"-"]
[36332,"Tekuće pomoći izvanproračunskim korisnicima županijskih, gradskih i općinskih proračuna temeljem prijenosa sredstava EU",714,0,0,"-"]
[36341,"Kapitalne pomoći proračunskim korisnicima državnog proračuna temeljem prijenosa sredstava EU",715,0,0,"-"]
[36342,"Kapitalne pomoći izvanproračunskim korisnicima županijskih, gradskih i općinskih proračuna temeljem prijenosa sredstava EU",716,0,0,"-"]
[37215," Stipendije i školarine",717,0,0,"-"]
[37216,"Naknade za pomoć bivšim političkim zatvorenicima i neosnovano pritvorenim osobama",718,0,0,"-"]
[37221,"Sufinanciranje cijene prijevoza",719,0,0,"-"]
[38117,"Tekuće donacije građanima i kućanstvima",720,0,0,"-"]
[38612,"Kapitalne pomoći trgovačkim društvima u javnom sektoru",721,0,0,"-"]
[38613,"Kapitalne pomoći kreditnim institucijama u javnom sektoru",722,0,0,"-"]
[38614,"Kapitalne pomoći osiguravajućim društvima u javnom sektoru",723,0,0,"-"]
[38615,"Kapitalne pomoći ostalim financijskim institucijama u javnom sektoru",724,0,0,"-"]
[38622,"Kapitalne pomoći trgovačkim društvima izvan javnog sektora",725,0,0,"-"]
[38623,"Kapitalne pomoći kreditnim institucijama izvan javnog sektora",726,0,0,"-"]
[38624,"Kapitalne pomoći osiguravajućim društvima izvan javnog sektora",727,0,0,"-"]
[38625,"Kapitalne pomoći ostalim financijskim institucijama izvan javnog sektora",728,0,0,"-"]
[38631,"Kapitalne pomoći poljoprivrednicima",729,0,0,"-"]
[38632,"Kapitalne pomoći obrtnicima",730,0,0,"-"]
[41,"Rashodi za nabavu neproizvedene dugotrajne imovine u tijelima ",731,0,0,"-"]
[41,"Rashodi za nabavu neproizvedene dugotrajne imovine kod korisnika",732,0,0,"-"]
[42,"Rashodi za nabavu proizvedene dugotrajne imovine u tijelima",733,0,0,"-"]
[42,"Rashodi za nabavu proizvedene dugotrajne imovine kod korisnika",734,97369,226503,232.62331953701897]
[45,"Rashodi za dodatna ulaganja na nefinancijskoj imovini u tijelima",735,0,0,"-"]
[45,"Rashodi za dodatna ulaganja na nefinancijskoj imovini kod korisnika",736,0,0,"-"]
[null,"Kontrolni zbroj (AOP 648 do 736)",737,{"$f":"SUM(D662:D750)","v":17129511},{"$f":"SUM(E662:E750)","v":17840815},104.15250616319402]
[81212,"Povrat zajmova danih neprofitnim organizacijama, građanima i kućanstvima u tuzemstvu – dugoročni",738,0,0,"-"]
[81322,"Povrat zajmova danih kreditnim institucijama u javnom sektoru – dugoročni",739,0,0,"-"]
[81332,"Povrat zajmova danih osiguravajućim društvima u javnom sektoru – dugoročni",740,0,0,"-"]
[81342,"Povrat zajmova danih ostalim financijskim institucijama u javnom sektoru – dugoročni",741,0,0,"-"]
[81411,"Povrat zajmova danih trgovačkim društvima u javnom sektoru – kratkoročni",742,0,0,"-"]
[81412,"Povrat zajmova danih trgovačkim društvima u javnom sektoru – dugoročni",743,0,0,"-"]
[81532,"Povrat zajmova danih tuzemnim kreditnim institucijama izvan javnog sektora – dugoročni",744,0,0,"-"]
[81542,"Povrat zajmova danih tuzemnim osiguravajućim društvima izvan javnog sektora – dugoročni",745,0,0,"-"]
[81552,"Povrat zajmova danih ostalim tuzemnim financijskim institucijama izvan javnog sektora - dugoročni",746,0,0,{"$f":"IF(D760>0,IF(E760/D760>=100,\">>100\",E760/D760*100),\"-\")","v":"-"}]
[81631,"Povrat zajmova danih tuzemnim trgovačkim društvima izvan javnog sektora - kratkoročni",747,0,0,"-"]
[81632,"Povrat zajmova danih tuzemnim trgovačkim društvima izvan javnog sektora - dugoročni",748,0,0,"-"]
[81641,"Povrat zajmova danih tuzemnim obrtnicima - kratkoročni",749,0,0,"-"]
[81642,"Povrat zajmova danih tuzemnim obrtnicima - dugoročni",750,0,0,"-"]
[81711,"Povrat zajmova danih državnom proračunu - kratkoročni",751,0,0,"-"]
[81712,"Povrat zajmova danih državnom proračunu - dugoročni",752,0,0,"-"]
[81721,"Povrat zajmova danih županijskim proračunima - kratkoročni",753,0,0,"-"]
[81722,"Povrat zajmova danih županijskim proračunima - dugoročni",754,0,0,"-"]
[81731,"Povrat zajmova danih gradskim proračunima - kratkoročni",755,0,0,"-"]
[81732,"Povrat zajmova danih gradskim proračunima - dugoročni",756,0,0,"-"]
[81741,"Povrat zajmova danih općinskim proračunima - kratkoročni",757,0,0,"-"]
[81742,"Povrat zajmova danih općinskim proračunima - dugoročni",758,0,0,"-"]
[81751,"Povrat zajmova danih HZMO-u, HZZ-u i HZZO-u - kratkoročni",759,0,0,"-"]
[81752,"Povrat zajmova danih HZMO-u, HZZ-u i HZZO-u - dugoročni",760,0,0,"-"]
[81761,"Povrat zajmova danih ostalim izvanproračunskim korisnicima državnog proračuna - kratkoročni",761,0,0,"-"]
[81762,"Povrat zajmova danih ostalim izvanproračunskim korisnicima državnog proračuna - dugoročni",762,0,0,"-"]
[81771,"Povrat zajmova danih izvanproračunskim korisnicima županijskih, gradskih i općinskih proračuna - kratkoročni",763,0,0,"-"]
[81772,"Povrat zajmova danih izvanproračunskim korisnicima županijskih, gradskih i općinskih proračuna - dugoročni",764,0,0,"-"]
[82412,"Ostali vrijednosni papiri - tuzemni - dugoročni",765,0,0,"-"]
[84132,"Primljeni zajmovi od međunarodnih organizacija - dugoročni",766,0,0,"-"]
[84142,"Primljeni krediti i zajmovi od institucija i tijela EU - dugoročni",767,0,0,"-"]
[84152,"Primljeni zajmovi od inozemnih vlada u EU - dugoročni",768,0,0,"-"]
[84162,"Primljeni zajmovi od inozemnih vlada izvan EU - dugoročni",769,0,0,"-"]
[84221,"Primljeni krediti od kreditnih institucija u javnom sektoru - kratkoročni",770,0,0,"-"]
[84222,"Primljeni krediti od kreditnih institucija u javnom sektoru - dugoročni",771,0,0,"-"]
[84232,"Primljeni zajmovi od osiguravajućih društava u javnom sektoru - dugoročni",772,0,0,"-"]
[84242,"Primljeni zajmovi od ostalih financijskih institucija u javnom sektoru - dugoročni",773,0,0,{"$f":"IF(D787>0,IF(E787/D787>=100,\">>100\",E787/D787*100),\"-\")","v":"-"}]
[84312,"Primljeni zajmovi od trgovačkih društava u javnom sektoru - dugoročni",774,0,0,"-"]
[84431,"Primljeni krediti od tuzemnih kreditnih institucija izvan javnog sektora - kratkoročni",775,0,0,"-"]
[84432,"Primljeni krediti od tuzemnih kreditnih institucija izvan javnog sektora - dugoročni",776,0,0,"-"]
[84442,"Primljeni zajmovi od tuzemnih osiguravajućih društava izvan javnog sektora - dugoročni",777,0,0,"-"]
[84452,"Primljeni zajmovi od ostalih tuzemnih financijskih institucija izvan javnog sektora - dugoročni",778,0,0,"-"]
[84461,"Primljeni krediti od inozemnih kreditnih institucija - kratkoročni",779,0,0,"-"]
[84462,"Primljeni krediti od inozemnih kreditnih institucija - dugoročni",780,0,0,"-"]
[84472,"Primljeni zajmovi od inozemnih osiguravajućih društava - dugoročni",781,0,0,"-"]
[84482,"Primljeni zajmovi od ostalih inozemnih financijskih institucija - dugoročni",782,0,0,"-"]
[84532,"Primljeni zajmovi od tuzemnih trgovačkih društava izvan javnog sektora - dugoročni",783,0,0,"-"]
[84542,"Primljeni zajmovi od tuzemnih obrtnika - dugoročni",784,0,0,"-"]
[84552,"Primljeni zajmovi od inozemnih trgovačkih društava - dugoročni",785,0,0,"-"]
[84711,"Primljeni zajmovi od državnog proračuna - kratkoročni",786,0,0,"-"]
[84712,"Primljeni zajmovi od državnog proračuna - dugoročni",787,0,0,"-"]
[84721,"Primljeni zajmovi od županijskih proračuna - kratkoročni",788,0,0,"-"]
[84722,"Primljeni zajmovi od županijskih proračuna - dugoročni",789,0,0,"-"]
[84731,"Primljeni zajmovi od gradskih proračuna - kratkoročni",790,0,0,"-"]
[84732,"Primljeni zajmovi od gradskih proračuna - dugoročni",791,0,0,"-"]
[84741,"Primljeni zajmovi od općinskih proračuna - kratkoročni",792,0,0,"-"]
[84742,"Primljeni zajmovi od općinskih proračuna - dugoročni",793,0,0,"-"]
[84751,"Primljeni zajmovi od HZMO-a, HZZ-a i HZZO-a - kratkoročni",794,0,0,"-"]
[84752,"Primljeni zajmovi od HZMO-a, HZZ-a i HZZO-a - dugoročni",795,0,0,"-"]
[84761,"Primljeni zajmovi od ostalih izvanproračunskih korisnika - kratkoročni",796,0,0,"-"]
[84762,"Primljeni zajmovi od ostalih izvanproračunskih korisnika - dugoročni",797,0,0,"-"]
[85412,"Ostali tuzemni vrijednosni papiri - dugoročni",798,0,0,"-"]
[null,"Kontrolni zbroj (AOP 738 do 798)",799,{"$f":"SUM(D752:D812)","v":0},{"$f":"SUM(E752:E812)","v":0},"-"]
[51212,"Dani zajmovi neprofitnim organizacijama, građanima i kućanstvima u tuzemstvu – dugoročni",800,0,0,"-"]
[51322,"Dani zajmovi kreditnim institucijama u javnom sektoru – dugoročni",801,0,0,"-"]
[51332,"Dani zajmovi osiguravajućim društvima u javnom sektoru – dugoročni",802,0,0,"-"]
[51342,"Dani zajmovi ostalim financijskim institucijama u javnom sektoru – dugoročni",803,0,0,"-"]
[51411,"Dani zajmovi trgovačkim društvima u javnom sektoru – kratkoročni",804,0,0,"-"]
[51412,"Dani zajmovi trgovačkim društvima u javnom sektoru – dugoročni",805,0,0,"-"]
[51532,"Dani zajmovi tuzemnim kreditnim institucijama izvan javnog sektora – dugoročni",806,0,0,"-"]
[51542,"Dani zajmovi tuzemnim osiguravajućim društvima izvan javnog sektora – dugoročni",807,0,0,"-"]
[51552,"Dani zajmovi ostalim tuzemnim financijskim institucijama izvan javnog sektora – dugoročni",808,0,0,"-"]
[51631,"Dani zajmovi tuzemnim trgovačkim društvima izvan javnog sektora – kratkoročni",809,0,0,"-"]
[51632,"Dani zajmovi tuzemnim trgovačkim društvima izvan javnog sektora – dugoročni",810,0,0,"-"]
[51641,"Dani zajmovi tuzemnim obrtnicima – kratkoročni",811,0,0,"-"]
[51642,"Dani zajmovi tuzemnim obrtnicima – dugoročni",812,0,0,"-"]
[51711,"Dani zajmovi državnom proračunu – kratkoročni",813,0,0,"-"]
[51712,"Dani zajmovi državnom proračunu – dugoročni",814,0,0,"-"]
[51721,"Dani zajmovi županijskim proračunima – kratkoročni",815,0,0,"-"]
[51722,"Dani zajmovi županijskim proračunima – dugoročni",816,0,0,"-"]
[51731,"Dani zajmovi gradskim proračunima – kratkoročni",817,0,0,"-"]
[51732,"Dani zajmovi gradskim proračunima – dugoročni",818,0,0,"-"]
[51741,"Dani zajmovi općinskim proračunima – kratkoročni",819,0,0,"-"]
[51742,"Dani zajmovi općinskim proračunima – dugoročni",820,0,0,"-"]
[51751,"Dani zajmovi HZMO-u, HZZ-u i HZZO-u – kratkoročni",821,0,0,"-"]
[51752,"Dani zajmovi HZMO-u, HZZ-u i HZZO-u – dugoročni",822,0,0,"-"]
[51761,"Dani zajmovi ostalim izvanproračunskim korisnicima državnog proračuna – kratkoročni",823,0,0,"-"]
[51762,"Dani zajmovi ostalim izvanproračunskim korisnicima državnog proračuna – dugoročni",824,0,0,"-"]
[51771,"Dani zajmovi izvanproračunskim korisnicima županijskih, gradskih i općinskih proračuna – kratkoročni",825,0,0,"-"]
[51772,"Dani zajmovi izvanproračunskim korisnicima županijskih, gradskih i općinskih proračuna – dugoročni",826,0,0,"-"]
[54132,"Otplata glavnice primljenih zajmova od međunarodnih organizacija – dugoročnih",827,0,0,"-"]
[54142,"Otplata glavnice primljenih kredita i zajmova od institucija i tijela EU – dugoročnih",828,0,0,"-"]
[54152,"Otplata glavnice primljenih zajmova od inozemnih vlada u EU – dugoročnih",829,0,0,"-"]
[54162,"Otplata glavnice primljenih zajmova od inozemnih vlada izvan EU – dugoročnih",830,0,0,"-"]
[54221,"Otplata glavnice primljenih kredita od kreditnih institucija u javnom sektoru – kratkoročnih",831,0,0,"-"]
[54222,"Otplata glavnice primljenih kredita od kreditnih institucija u javnom sektoru – dugoročnih",832,0,0,"-"]
[54232,"Otplata glavnice primljenih zajmova od osiguravajućih društava u javnom sektoru – dugoročnih",833,0,0,"-"]
[54242,"Otplata glavnice primljenih zajmova od ostalih financijskih institucija u javnom sektoru – dugoročnih",834,0,0,"-"]
[54312,"Otplata glavnice primljenih zajmova od trgovačkih društava u javnom sektoru – dugoročnih",835,0,0,"-"]
[54431,"Otplata glavnice primljenih kredita od tuzemnih kreditnih institucija izvan javnog sektora – kratkoročnih",836,0,0,"-"]
[54432,"Otplata glavnice primljenih kredita od tuzemnih kreditnih institucija izvan javnog sektora – dugoročnih",837,0,0,{"$f":"IF(D851>0,IF(E851/D851>=100,\">>100\",E851/D851*100),\"-\")","v":"-"}]
[54442,"Otplata glavnice primljenih zajmova od tuzemnih osiguravajućih društava izvan javnog sektora – dugoročnih",838,0,0,"-"]
[54452,"Otplata glavnice primljenih zajmova od ostalih tuzemnih financijskih institucija izvan javnog sektora – dugoročnih",839,0,0,"-"]
[54461,"Otplata glavnice primljenih kredita od inozemnih kreditnih institucija – kratkoročnih",840,0,0,"-"]
[54462,"Otplata glavnice primljenih kredita od inozemnih kreditnih institucija – dugoročnih",841,0,0,"-"]
[54472,"Otplata glavnice primljenih zajmova od inozemnih osiguravajućih društava – dugoročnih",842,0,0,"-"]
[54482,"Otplata glavnice primljenih zajmova od ostalih inozemnih financijskih institucija – dugoročnih",843,0,0,"-"]
[54532,"Otplata glavnice primljenih zajmova od tuzemnih trgovačkih društava izvan javnog sektora – dugoročnih",844,0,0,"-"]
[54542,"Otplata glavnice primljenih zajmova od tuzemnih obrtnika – dugoročnih",845,0,0,"-"]
[54552,"Otplata glavnice primljenih zajmova od inozemnih trgovačkih društava – dugoročnih",846,0,0,"-"]
[54711,"Otplata glavnice primljenih zajmova od državnog proračuna – kratkoročnih",847,0,0,"-"]
[54712,"Otplata glavnice primljenih zajmova od državnog proračuna – dugoročnih",848,0,0,"-"]
[54721,"Otplata glavnice primljenih zajmova od županijskih proračuna – kratkoročnih",849,0,0,"-"]
[54722,"Otplata glavnice primljenih zajmova od županijskih proračuna – dugoročnih",850,0,0,"-"]
[54731,"Otplata glavnice primljenih zajmova od gradskih proračuna – kratkoročnih",851,0,0,"-"]
[54732,"Otplata glavnice primljenih zajmova od gradskih proračuna – dugoročnih",852,0,0,"-"]
[54741,"Otplata glavnice primljenih zajmova od općinskih proračuna – kratkoročnih",853,0,0,"-"]
[54742,"Otplata glavnice primljenih zajmova od općinskih proračuna – dugoročnih",854,0,0,"-"]
[54751,"Otplata glavnice primljenih zajmova od HZMO-a, HZZ-a i HZZO-a – kratkoročnih",855,0,0,"-"]
[54752,"Otplata glavnice primljenih zajmova od HZMO-a, HZZ-a i HZZO-a – dugoročnih",856,0,0,"-"]
[54761,"Otplata glavnice primljenih zajmova od ostalih izvanproračunskih korisnika državnog proračuna – kratkoročnih",857,0,0,"-"]
[54762,"Otplata glavnice primljenih zajmova od ostalih izvanproračunskih korisnika državnog proračuna – dugoročnih",858,0,0,"-"]
[54771,"Otplata glavnice primljenih zajmova od izvanproračunskih korisnika županijskih, gradskih i općinskih proračuna – kratkoročnih",859,0,0,"-"]
[54772,"Otplata glavnice primljenih zajmova od izvanproračunskih korisnika županijskih, gradskih i općinskih proračuna – dugoročnih",860,0,0,"-"]
[55312,"Izdaci za otplatu glavnice za izdane ostale vrijednosne papire u zemlji – dugoročne",861,0,0,"-"]
[null,"Vrijednost ostvarenih investicija u dugotrajnu imovinu",862,0,0,"-"]
[null,"Kontrolni zbroj (AOP 800 do 862)",863,{"$f":"SUM(D814:D876)","v":0},{"$f":"SUM(E814:E876)","v":0},"-"]
["OBVEZNI DODATNI PODACI"]
["Račun iz rač. plana","OPIS","AOP","Stanje na kraju izvještajnog razdoblja"]
[1,2,3,4]
[null,"Stanje potraživanja za dane zajmove tuzemnim trgovačkim društvima i obrtnicima te drugim razinama vlasti (AOP 865 do 884)",864,{"$f":"SUM(D882:D901)","v":0}]
[13411,"Zajmovi trgovačkim društvima u javnom sektoru - kratkoročni",865,0]
[13412,"Zajmovi trgovačkim društvima u javnom sektoru - dugoročni",866,0]
[13631,"Zajmovi tuzemnim trgovačkim društvima izvan javnog sektora - kratkoročni",867,0]
[13632,"Zajmovi tuzemnim trgovačkim društvima izvan javnog sektora - dugoročni",868,0]
[13641,"Zajmovi tuzemnim obrtnicima - kratkoročni",869,0]
[13642,"Zajmovi tuzemnim obrtnicima - dugoročni",870,0]
[13711,"Zajmovi državnom proračunu - kratkoročni",871,0]
[13712,"Zajmovi državnom proračunu - dugoročni",872,0]
[13721,"Zajmovi županijskim proračunima - kratkoročni",873,0]
[13722,"Zajmovi županijskim proračunima - dugoročni",874,0]
[13731,"Zajmovi gradskim proračunima - kratkoročni",875,0]
[13732,"Zajmovi gradskim proračunima - dugoročni",876,0]
[13741,"Zajmovi općinskim proračunima - kratkoročni",877,0]
[13742,"Zajmovi općinskim proračunima - dugoročni",878,0]
[13751,"Zajmovi HZMO-u, HZZ-u i HZZO-u - kratkoročni",879,0]
[13752,"Zajmovi HZMO-u, HZZ-u i HZZO-u - dugoročni",880,0]
[13761,"Zajmovi ostalim izvanproračunskim korisnicima državnog proračuna - kratkoročni",881,0]
[13762,"Zajmovi ostalim izvanproračunskim korisnicima državnog proračuna - dugoročni",882,0]
[13771,"Zajmovi izvanproračunskim korisnicima županijskih, gradskih i općinskih proračuna - kratkoročni",883,0]
[13772,"Zajmovi izvanproračunskim korisnicima županijskih, gradskih i općinskih proračuna - dugoročni",884,0]
[267,"Stanje obveza za primljene zajmove od drugih razina vlasti (AOP 886 do 899)",885,{"$f":"SUM(D903:D916)","v":0}]
[26711,"Obveze za zajmove od državnog proračuna - kratkoročne",886,0]
[26712,"Obveze za zajmove od državnog proračuna - dugoročne",887,0]
[26721,"Obveze za zajmove od županijskih proračuna - kratkoročne",888,0]
[26722,"Obveze za zajmove od županijskih proračuna - dugoročne",889,0]
[26731,"Obveze za zajmove od gradskih proračuna - kratkoročne",890,0]
[26732,"Obveze za zajmove od gradskih proračuna - dugoročne",891,0]
[26741,"Obveze za zajmove od općinskih proračuna - kratkoročne",892,0]
[26742,"Obveze za zajmove od općinskih proračuna - dugoročne",893,0]
[26751,"Obveze za zajmove od HZMO-a, HZZ-a i HZZO-a - kratkoročne",894,0]
[26752,"Obveze za zajmove od HZMO-a, HZZ-a i HZZO-a - dugoročne",895,0]
[26761,"Obveze za zajmove od ostalih izvanproračunskih korisnika državnog proračuna - kratkoročne",896,0]
[26762,"Obveze za zajmove od ostalih izvanproračunskih korisnika državnog proračuna - dugoročne",897,0]
[26771,"Obveze za zajmove od izvanproračunskih korisnika županijskih, gradskih i općinskih proračuna - kratkoročne",898,0]
[26772,"Obveze za zajmove od izvanproračunskih korisnika županijskih, gradskih i općinskih proračuna - dugoročne",899,0]

{"sheet":"NT","index":4,"n_rows":411,"n_cols":4,"rows_kept":411,"cut":false,"hidden":false,"merged":[[242,0,242,3],[1,0,1,1],[0,0,0,1],[1,2,1,3],[0,2,0,3],[2,0,2,1],[3,1,3,5],[4,1,4,5],[5,1,5,5],[6,1,6,5]]}
["<–––– Povratak na RefStr",null,"Kontrole NT"]
["IZVJEŠTAJ O NOVČANIM TIJEKOVIMA",null,"Obrazac NT\n(VP 153)"]
[{"$f":"IF(RefStr!F6<>\"\",LOOKUP(RefStr!F6,RefStr!N40:N64,RefStr!Q40:Q64),\" - razdoblje izvještavanja nije odabrano - \")","v":"za razdoblje 1. siječnja do 31. prosinca 2014. godine"}]
["Obveznik:",{"$f":" \"RKP: \" & TEXT(INT(VALUE(RefStr!B6)),\"00000\") & \",  \" & \"MB: \" & TEXT(INT(VALUE(RefStr!B8)), \"00000000\") & \"  \" & RefStr!B10","v":"RKP: 14402,  MB: 03324281  OŠ VUGROVEC - KAŠINA"}]
[null,{"$f":"RefStr!B12 & \" \" & RefStr!C12 & \", \" & RefStr!B14","v":"10362 KAŠINA, IVANA MAŽURANIĆA 43"}]
[null,{"$f":" \"Razina: \" & RefStr!B16 & \", Razdjel: \" & TEXT(INT(VALUE(RefStr!B20)), \"000\")","v":"Razina: 31, Razdjel: 000"}]
[null,{"$f":"\"Djelatnost: \" & RefStr!B18 & \" \" & RefStr!C18","v":"Djelatnost: 8520 Osnovno obrazovanje"}]
[]
[null,null,null,"iznosi u kunama, bez lipa"]
["Račun iz rač. plana","NAZIV","AOP","Ostvareno u izvještajnom razdoblju"]
[1,2,3,4]
[6,"PRIMICI POSLOVANJA (AOP 002 do 009)",1,{"$f":"SUM(D13:D20)","v":0}]
[61,"Porezi",2]
[62,"Doprinosi",3]
[63,"Pomoći iz inozemstva (darovnice) i od subjekata unutar općeg proračuna",4]
[64,"Primici od imovine",5]
[65,"Primici od upravnih i administrativnih pristojbi, pristojbi po posebnim propisima i naknada",6]
[66,"Primici od prodaje proizvoda i robe te pruženih usluga i primici od donacija",7]
[67,"Primici iz proračuna",8]
[68,"Kazne, upravne mjere i ostali primici",9]
[3,"IZDACI POSLOVANJA (AOP 011+023+056+075+083+095+102) ",10,{"$f":"D22+D34+D67+D86+D94+D106+D113","v":0}]
[31,"Izdaci za zaposlene (AOP 012+017+019)",11,{"$f":"D23+D28+D30","v":0}]
[311,"Plaće (AOP 013 do 016) ",12,{"$f":"SUM(D24:D27)","v":0}]
[3111,"Plaće za redovan rad",13]
[3112,"Plaće u naravi",14]
[3113,"Plaće za prekovremeni rad",15]
[3114,"Plaće za posebne uvjete rada",16]
[312,"Ostali rashodi za zaposlene (AOP 018)",17,{"$f":"D29","v":0}]
[3121,"Ostali rashodi za zaposlene",18]
[313,"Doprinosi na plaće (AOP 020 do 022)",19,{"$f":"SUM(D31:D33)","v":0}]
[3131,"Doprinosi za mirovinsko osiguranje",20]
[3132,"Doprinosi za obvezno zdravstveno osiguranje",21]
[3133,"Doprinosi za obvezno osiguranje u slučaju nezaposlenosti ",22]
[32,"Materijalni izdaci (AOP 024+029+037+047+049)",23,{"$f":"D35+D40+D48+D58+D60","v":0}]
[321,"Naknade troškova zaposlenima (AOP 025 do 028)",24,{"$f":"SUM(D36:D39)","v":0}]
[3211,"Službena putovanja",25]
[3212,"Naknade za prijevoz, za rad na terenu i odvojeni život",26,0]
[3213,"Stručno usavršavanje zaposlenika",27]
[3214,"Ostale naknade troškova zaposlenima",28]
[322,"Izdaci za materijal i energiju (AOP 030 do 036)",29,{"$f":"SUM(D41:D47)","v":0}]
[3221,"Uredski materijal i ostali materijalni izdaci",30]
[3222,"Materijal i sirovine",31]
[3223,"Energija",32]
[3224,"Materijal i dijelovi za tekuće i investicijsko održavanje",33]
[3225,"Sitni inventar i auto gume",34]
[3226,"Vojna oprema ",35]
[3227,"Službena, radna i zaštitna odjeća i obuća",36]
[323,"Izdaci za usluge (AOP 038 do 046)",37,{"$f":"SUM(D49:D57)","v":0}]
[3231,"Usluge telefona, pošte i prijevoza",38]
[3232,"Usluge tekućeg i investicijskog održavanja",39]
[3233,"Usluge promidžbe i informiranja",40]
[3234,"Komunalne usluge",41]
[3235,"Zakupnine i najamnine",42]
[3236,"Zdravstvene i veterinarske usluge",43]
[3237,"Intelektualne i osobne usluge",44]
[3238,"Računalne usluge",45]
[3239,"Ostale usluge",46]
[324,"Naknade troškova osobama izvan radnog odnosa (AOP 048)",47,{"$f":"D59","v":0}]
[3241,"Naknade troškova osobama izvan radnog odnosa",48]
[329,"Ostali nespomenuti izdaci poslovanja (AOP 050 do 055)",49,{"$f":"SUM(D61:D66)","v":0}]
[3291,"Naknade za rad predstavničkih i izvršnih tijela, povjerenstava i slično",50]
[3292,"Premije osiguranja",51]
[3293,"Reprezentacija",52]
[3294,"Članarine",53]
[3295,"Pristojbe i naknade",54]
[3299,"Ostali nespomenuti izdaci poslovanja ",55]
[34,"Financijski izdaci (AOP 057+062+070) ",56,{"$f":"D68+D73+D81","v":0}]
[341,"Kamate za izdane vrijednosne papire (AOP 058 do 061)",57,{"$f":"SUM(D69:D72)","v":0}]
[3411,"Kamate za izdane trezorske zapise",58]
[3412,"Kamate za izdane mjenice",59]
[3413,"Kamate za izdane obveznice",60]
[3419,"Kamate za ostale vrijednosne papire",61]
[342,"Kamate za primljene kredite i zajmove (AOP 063 do 069)",62,{"$f":"SUM(D74:D80)","v":0}]
[3421,"Kamate za primljene kredite i zajmove od međunarodnih organizacija, institucija i tijela EU te inozemnih vlada ",63]
[3422,"Kamate za primljene kredite i zajmove od kreditnih i ostalih financijskih institucija u javnom sektoru",64]
[3423,"Kamate za primljene kredite i zajmove od kreditnih i ostalih financijskih institucija izvan javnog sektora",65]
[3425,"Kamate za odobrene, a nerealizirane kredite i zajmove",66]
[3426,"Kamate za primljene zajmove od trgovačkih društava u javnom sektoru",67]
[3427,"Kamate za primljene zajmove od trgovačkih društava i obrtnika izvan javnog sektora",68]
[3428,"Kamate za primljene zajmove od drugih razina vlasti",69]
[343,"Ostali financijski izdaci (AOP 071 do 074)",70,{"$f":"SUM(D82:D85)","v":0}]
[3431,"Bankarske usluge i usluge platnog prometa",71]
[3432,"Negativne tečajne razlike i razlike zbog primjene valutne klauzule",72]
[3433,"Zatezne kamate ",73]
[3434,"Ostali nespomenuti financijski izdaci",74]
[35,"Subvencije (AOP 076+079)",75,{"$f":"D87+D90","v":0}]
[351,"Subvencije trgovačkim društvima u javnom sektoru (AOP 077+078)",76,{"$f":"SUM(D88:D89)","v":0}]
[3511,"Subvencije kreditnim i ostalim financijskim institucijama u javnom sektoru",77]
[3512,"Subvencije trgovačkim društvima u javnom sektoru",78]
[352,"Subvencije trgovačkim društvima, poljoprivrednicima i obrtnicima izvan javnog sektora (AOP 080 do 082)",79,{"$f":"SUM(D91:D93)","v":0}]
[3521,"Subvencije kreditnim i ostalim financijskim institucijama izvan javnog sektora",80]
[3522,"Subvencije trgovačkim društvima izvan javnog sektora",81]
[3523,"Subvencije poljoprivrednicima i obrtnicima",82]
[36,"Pomoći dane u inozemstvo i unutar općeg proračuna (AOP 084+087+090)",83,{"$f":"D95+D98+D101","v":0}]
[361,"Pomoći inozemnim vladama (AOP 085+086)",84,{"$f":"SUM(D96:D97)","v":0}]
[3611,"Tekuće pomoći inozemnim vladama",85]
[3612,"Kapitalne pomoći inozemnim vladama",86]
[362,"Pomoći međunarodnim organizacijama te institucijama i tijelima EU (AOP 088+089)",87,{"$f":"SUM(D99:D100)","v":0}]
[3621,"Tekuće pomoći međunarodnim organizacijama te institucijama i tijelima EU",88]
[3622,"Kapitalne pomoći međunarodnim organizacijama te institucijama i tijelima EU",89]
[363,"Pomoći unutar općeg proračuna (AOP 091 do 094)",90,{"$f":"SUM(D102:D105)","v":0}]
[3631,"Tekuće pomoći unutar općeg proračuna",91]
[3632,"Kapitalne pomoći unutar općeg proračuna ",92]
[3633,"Tekuće pomoći proračunskim korisnicima temeljem prijenosa sredstava EU",93]
[3634,"Kapitalne pomoći proračunskim korisnicima temeljem prijenosa sredstava EU",94]
[37,"Naknade građanima i kućanstvima na temelju osiguranja i druge naknade (AOP 096+099)",95,{"$f":"D107+D110","v":0}]
[371,"Naknade građanima i kućanstvima na temelju osiguranja (AOP 097+098)",96,{"$f":"SUM(D108:D109)","v":0}]
[3711,"Naknade građanima i kućanstvima u novcu",97]
[3712,"Naknade građanima i kućanstvima u naravi",98]
[372,"Naknade građanima i kućanstvima iz proračuna (AOP 100+101)",99,{"$f":"SUM(D111:D112)","v":0}]
[3721,"Naknade građanima i kućanstvima u novcu ",100]
[3722,"Ostale naknade građanima i kućanstvima u naravi",101]
[38,"Ostali izdaci (AOP 103+106+109+114)",102,{"$f":"D114+D117+D120+D125","v":0}]
[381,"Tekuće donacije (AOP 104+105) ",103,{"$f":"SUM(D115:D116)","v":0}]
[3811,"Tekuće donacije u novcu",104]
[3812,"Tekuće donacije u naravi",105]
[382,"Kapitalne donacije (AOP 107+108) ",106,{"$f":"SUM(D118:D119)","v":0}]
[3821,"Kapitalne donacije neprofitnim organizacijama",107]
[3822,"Kapitalne donacije građanima i kućanstvima",108]
[383,"Kazne, penali i naknade štete (AOP 110 do 113)",109,{"$f":"SUM(D121:D124)","v":0}]
[3831,"Naknade štete pravnim i fizičkim osobama",110]
[3832,"Penali, ležarine i drugo",111]
[3833,"Naknade šteta zaposlenicima ",112]
[3834,"Ugovorene kazne i ostale naknade šteta",113]
[386,"Kapitalne pomoći (AOP 115 do 117)",114,{"$f":"SUM(D126:D128)","v":0}]
[3861,"Kapitalne pomoći kreditnim i ostalim financijskim institucijama te trgovačkim društvima u javnom sektoru",115]
[3862,"Kapitalne pomoći kreditnim i ostalim financijskim institucijama te trgovačkim društvima izvan javnog sektora",116]
[3863,"Kapitalne pomoći poljoprivrednicima i obrtnicima",117]
[" ","Neto primici iz poslovnih aktivnosti (AOP 001-010)",118,{"$f":"IF(D12>=D21,D12-D21,0)","v":0}]
[" ","Neto izdaci iz poslovnih aktivnosti (AOP 010-001)",119,{"$f":"IF(D21>=D12,D21-D12,0)","v":0}]
[7,"Primici od prodaje nefinancijske imovine (AOP 121 do 124)",120,{"$f":"SUM(D132:D135)","v":0}]
[71,"Primici od prodaje neproizvedene dugotrajne imovine ",121]
[72,"Primici od prodaje proizvedene dugotrajne imovine",122]
[73,"Primici od prodaje plemenitih metala i ostalih pohranjenih vrijednosti",123]
[74,"Primici od prodaje proizvedene kratkotrajne imovine",124]
[4,"Izdaci za nabavu nefinancijske imovine (AOP 126+140+174+180+183)",125,{"$f":"D137+D151+D185+D191+D194","v":0}]
[41,"Izdaci za nabavu neproizvedene dugotrajne imovine (AOP 127+131+138)",126,{"$f":"D138+D142+D149","v":0}]
[411,"Materijalna imovina - prirodna bogatstva (AOP 128 do 130)",127,{"$f":"SUM(D139:D141)","v":0}]
[4111,"Zemljište",128]
[4112,"Rudna bogatstva",129]
[4113,"Ostala prirodna materijalna imovina",130]
[412,"Nematerijalna imovina (AOP 132 do 137)",131,{"$f":"SUM(D143:D148)","v":0}]
[4121,"Patenti",132]
[4122,"Koncesije",133]
[4123,"Licence",134]
[4124,"Ostala prava",135]
[4125,"Goodwill",136]
[4126,"Ostala nematerijalna imovina",137]
[418,"Predujmovi za nabavu neproizvedene imovine (AOP 139)",138,{"$f":"D150","v":0}]
[4181,"Predujmovi za nabavu neproizvedene imovine",139]
[42,"Izdaci za nabavu proizvedene dugotrajne imovine (AOP 141+146+154+159+164+167+172)",140,{"$f":"D152+D157+D165+D170+D175+D178+D183","v":0}]
[421,"Građevinski objekti (AOP 142 do 145)",141,{"$f":"SUM(D153:D156)","v":0}]
[4211,"Stambeni objekti",142]
[4212,"Poslovni objekti",143]
[4213,"Ceste, željeznice i ostali prometni objekti",144]
[4214,"Ostali građevinski objekti",145]
[422,"Postrojenja i oprema (AOP 147 do 153)",146,{"$f":"SUM(D158:D164)","v":0}]
[4221,"Uredska oprema i namještaj",147]
[4222,"Komunikacijska oprema",148]
[4223,"Oprema za održavanje i zaštitu",149]
[4224,"Medicinska i laboratorijska oprema",150]
[4225,"Instrumenti, uređaji i strojevi ",151]
[4226,"Sportska i glazbena oprema",152]
[4227,"Uređaji, strojevi i oprema za ostale namjene",153]
[423,"Prijevozna sredstva (AOP 155 do 158)",154,{"$f":"SUM(D166:D169)","v":0}]
[4231,"Prijevozna sredstva u cestovnom prometu",155]
[4232,"Prijevozna sredstva u željezničkom prometu",156]
[4233,"Prijevozna sredstva u pomorskom i riječnom prometu",157]
[4234,"Prijevozna sredstva u zračnom prometu",158]
[424,"Knjige, umjetnička djela i ostale izložbene vrijednosti (AOP 160 do 163)",159,{"$f":"SUM(D171:D174)","v":0}]
[4241,"Knjige ",160]
[4242,"Umjetnička djela (izložena u galerijama, muzejima i slično)",161]
[4243,"Muzejski izlošci i predmeti prirodnih rijetkosti",162]
[4244,"Ostale nespomenute izložbene vrijednosti",163]
[425,"Višegodišnji nasadi i osnovno stado (AOP 165+166)",164,{"$f":"SUM(D176:D177)","v":0}]
[4251,"Višegodišnji nasadi ",165]
[4252,"Osnovno stado",166]
[426,"Nematerijalna proizvedena imovina (AOP 168 do 171)",167,{"$f":"SUM(D179:D182)","v":0}]
[4261,"Istraživanje rudnih bogatstava",168]
[4262,"Ulaganja u računalne programe ",169]
[4263,"Umjetnička, literarna i znanstvena djela",170]
[4264,"Ostala nematerijalna proizvedena imovina",171]
[428,"Predujmovi za nabavu proizvedene dugotrajne imovine (AOP 173)",172,{"$f":"D184","v":0}]
[4281,"Predujmovi za nabavu proizvedene dugotrajne imovine",173]
[43,"Izdaci za nabavu plemenitih metala i ostalih pohranjenih vrijednosti (AOP 175+178)",174,{"$f":"D186+D189","v":0}]
[431,"Plemeniti metali i ostale pohranjene vrijednosti (AOP 176+177)",175,{"$f":"SUM(D187:D188)","v":0}]
[4311,"Plemeniti metali i drago kamenje",176]
[4312,"Pohranjene knjige, umjetnička djela i slične vrijednosti",177]
[438,"Predujmovi za nabavu plemenitih metala, umjetničkih i znanstvenih djela i ostalih vrijednosti (AOP 179)",178,{"$f":"D190","v":0}]
[4381,"Predujmovi za nabavu plemenitih metala, umjetničkih i znanstvenih djela i ostalih vrijednosti",179]
[44,"Izdaci za nabavu proizvedene kratkotrajne imovine (AOP 181)",180,{"$f":"D192","v":0}]
[441,"Izdaci za nabavu zaliha (AOP 182)",181,{"$f":"D193","v":0}]
[4411,"Strateške zalihe",182]
[45,"Izdaci za dodatna ulaganja na nefinancijskoj imovini (AOP 184+186+188+190+192)",183,{"$f":"D195+D197+D199+D201+D203","v":0}]
[451,"Dodatna ulaganja na građevinskim objektima (AOP 185)",184,{"$f":"D196","v":0}]
[4511,"Dodatna ulaganja na građevinskim objektima",185]
[452,"Dodatna ulaganja na postrojenjima i opremi (AOP 187)",186,{"$f":"D198","v":0}]
[4521,"Dodatna ulaganja na postrojenjima i opremi",187]
[453,"Dodatna ulaganja na prijevoznim sredstvima (AOP 189)",188,{"$f":"D200","v":0}]
[4531,"Dodatna ulaganja na prijevoznim sredstvima",189]
[454,"Dodatna ulaganja za ostalu nefinancijsku imovinu (AOP 191)",190,{"$f":"D202","v":0}]
[4541,"Dodatna ulaganja za ostalu nefinancijsku imovinu",191]
[458,"Predujmovi za dodatna ulaganja na nefinancijskoj imovini (AOP 193)",192,{"$f":"D204","v":0}]
[4581,"Predujmovi za dodatna ulaganja na nefinancijskoj imovini",193]
[" ","Neto primici iz transakcija na nefinancijskoj imovini (AOP 120-125)",194,{"$f":"IF(D131>=D136,D131-D136,0)","v":0}]
[" ","Neto izdaci iz transakcija na nefinancijskoj imovini (AOP 125-120)",195,{"$f":"IF(D136>=D131,D136-D131,0)","v":0}]
[8,"Primici od financijske imovine i zaduživanja (AOP 197 do 201)",196,{"$f":"SUM(D208:D212)","v":0}]
[81,"Primljene otplate (povrati) glavnice danih zajmova",197]
[82,"Primici od izdanih vrijednosnih papira",198]
[83,"Primici od prodaje dionica i udjela u glavnici",199]
[84,"Primici od zaduživanja",200]
[85,"Primici od prodaje vrijednosnih papira iz portfelja",201]
[5,"Izdaci za financijsku imovinu i otplate zajmova (AOP 203 do 207) ",202,{"$f":"SUM(D214:D218)","v":0}]
[51,"Izdaci za dane zajmove",203]
[52,"Izdaci za ulaganja u vrijednosne papire",204]
[53,"Izdaci za dionice i udjele u glavnici",205]
[54,"Izdaci za otplatu glavnice primljenih kredita i zajmova",206]
[55,"Izdaci za otplatu glavnice za izdane vrijednosne papire",207]
["1 i 2","Ostali primici (AOP 209 do 216)",208,{"$f":"SUM(D220:D227)","v":0}]
[" ","Depoziti",209]
[" ","Jamčevni polozi",210]
[" ","Naplaćena potraživanja od zaposlenih",211]
[" ","Povrati više plaćenih poreza i doprinosa",212]
[" ","Naplaćena ostala potraživanja",213]
[" ","Naplaćeni čekovi",214]
[" ","Naplaćene mjenice",215]
[" ","Ostali nespomenuti primici",216]
["1 i 2","Ostali izdaci (AOP 218 do 223)",217,{"$f":"SUM(D229:D234)","v":0}]
[" ","Depoziti",218]
[" ","Jamčevni polozi",219]
[" ","Isplate zaposlenima koje nisu izdaci",220]
[" ","Iskupljeni čekovi",221]
[" ","Iskupljene mjenice",222]
[" ","Ostali nespomenuti izdaci",223]
[" ","Neto primici iz transakcija na financijskoj imovini i obvezama (AOP 196+208-202-217)",224,{"$f":"IF((D207+D219)>=(D213+D228),D207+D219-D213-D228,0)","v":0}]
[" ","Neto izdaci iz transakcija na financijskoj imovini i obvezama (AOP 202+217-196-208)",225,{"$f":"IF((D213+D228)>=(D207+D219),D213+D228-D207-D219,0)","v":0}]
[" ","UKUPNI NETO PRIMICI (AOP 118+194+224-119-195-225) ",226,{"$f":"IF((D129+D205+D235)>=(D130+D206+D236),D129+D205+D235-D130-D206-D236,0)","v":0}]
[" ","UKUPNI NETO IZDACI (AOP 119+195+225-118-194-224) ",227,{"$f":"IF((D130+D206+D236)>=(D129+D205+D235),D130+D206+D236-D129-D205-D235,0)","v":0}]
[11,"NOVČANA SREDSTVA NA POČETKU RAZDOBLJA",228]
[11,"NOVČANA SREDSTVA NA KRAJU RAZDOBLJA",229]
[" ","POVEĆANJE NOVČANIH SREDSTAVA (AOP 229-228)",230,{"$f":"IF(D240>=D239,D240-D239,0)","v":0}]
[" ","SMANJENJE NOVČANIH SREDSTAVA (AOP 228-229)",231,{"$f":"IF(D239>=D240,D239-D240,0)","v":0}]
["OBVEZNI ANALITIČKI PODACI"]
["61191","Povrat više ostvarenog poreza na dohodak za decentralizirane funkcije",232]
["63111","Tekuće pomoći od inozemnih vlada u EU",233]
["63112","Tekuće pomoći od inozemnih vlada izvan EU",234]
["63121","Kapitalne pomoći od inozemnih vlada u EU",235]
["63122","Kapitalne pomoći od inozemnih vlada izvan EU",236]
["63211","Tekuće pomoći od međunarodnih organizacija",237]
["63221","Kapitalne pomoći od međunarodnih organizacija ",238]
["63231","Tekuće pomoći od institucija i tijela EU",239]
["63241","Kapitalne pomoći od institucija i tijela EU",240]
["63311","Tekuće pomoći iz državnog proračuna",241]
["63312","Tekuće pomoći iz županijskih proračuna",242]
["63313","Tekuće pomoći iz gradskih proračuna",243]
["63314","Tekuće pomoći iz općinskih proračuna",244]
["63321","Kapitalne pomoći iz državnog proračuna",245]
["63322","Kapitalne pomoći iz županijskih proračuna",246]
["63323","Kapitalne pomoći iz gradskih proračuna",247]
["63324","Kapitalne pomoći iz općinskih proračuna",248]
["63331","Tekuće pomoći od proračunskih korisnika državnog proračuna temeljem prijenosa sredstava EU",249]
["63332","Tekuće pomoći od proračunskih korisnika županijskih, gradskih i općinskih proračuna temeljem prijenosa sredstava EU",250]
["63341","Kapitalne pomoći od proračunskih korisnika državnog proračuna temeljem prijenosa sredstava EU",251]
["63342","Kapitalne pomoći od proračunskih korisnika županijskih, gradskih i općinskih proračuna temeljem prijenosa sredstava EU",252]
["63414","Tekuće pomoći od HZMO-a, HZZ-a i HZZO-a",253]
["63415","Tekuće pomoći od ostalih izvanproračunskih korisnika državnog proračuna",254]
["63416","Tekuće pomoći od izvanproračunskih korisnika županijskih, gradskih i općinskih proračuna",255]
["63424","Kapitalne pomoći od HZMO-a, HZZ-a i HZZO-a",256]
["63425","Kapitalne pomoći od ostalih izvanproračunskih korisnika državnog proračuna",257]
["63426","Kapitalne pomoći od izvanproračunskih korisnika županijskih, gradskih i općinskih proračuna",258]
["63511","Tekuće pomoći izravnanja za decentralizirane funkcije",259]
["63521","Kapitalne pomoći izravnanja za decentralizirane funkcije",260]
["64371","Prihodi od kamata na dane zajmove državnom proračunu",261]
["64372","Prihodi od kamata na dane zajmove županijskim proračunima",262]
["64373","Prihodi od kamata na dane zajmove gradskim proračunima",263]
["64374","Prihodi od kamata na dane zajmove općinskim proračunima",264]
["64375","Prihodi od kamata na dane zajmove HZMO-u, HZZ-u i HZZO-u",265]
["64376","Prihodi od kamata na dane zajmove ostalim izvanproračunskim korisnicima državnog proračuna",266]
["64377","Prihodi od kamata na dane zajmove izvanproračunskim korisnicima županijskih, gradskih i općinskih proračuna",267]
[null,"Kontrolni zbroj (AOP 232 do 267)",268,{"$f":"SUM(D244:D279)","v":0}]
[31214,"Otpremnine",269]
[31215,"Naknade za bolest, invalidnost i smrtni slučaj",270]
[32121,"Naknade za prijevoz na posao i s posla",271]
[34131,"Kamate za izdane obveznice u zemlji",272]
[34132,"Kamate za izdane obveznice u inozemstvu",273]
[34213,"Kamate za primljene zajmove od međunarodnih organizacija",274]
[34214,"Kamate za primljene kredite i zajmove od institucija i tijela EU",275]
[34215,"Kamate za primljene zajmove od inozemnih vlada u EU",276]
[34216,"Kamate za primljene zajmove od inozemnih vlada izvan EU",277]
[34233,"Kamate za primljene kredite od tuzemnih kreditnih institucija izvan javnog sektora",278]
[34234,"Kamate za primljene zajmove od tuzemnih osiguravajućih društava izvan javnog sektora",279]
[34235,"Kamate za primljene zajmove od ostalih tuzemnih financijskih institucija izvan javnog sektora",280]
[34236,"Kamate za primljene kredite od inozemnih kreditnih institucija",281]
[34237,"Kamate za primljene zajmove od inozemnih osiguravajućih društava",282]
[34238,"Kamate za primljene zajmove od ostalih inozemnih financijskih institucija",283]
[34273,"Kamate za primljene zajmove od tuzemnih trgovačkih društava izvan javnog sektora",284]
[34274,"Kamate za primljene zajmove od tuzemnih obrtnika",285]
[34275,"Kamate za primljene zajmove od inozemnih trgovačkih društava",286]
[34281,"Kamate za primljene zajmove od državnog proračuna",287]
[34282,"Kamate za primljene zajmove od županijskih proračuna",288]
[34283,"Kamate za primljene zajmove od gradskih proračuna",289]
[34284,"Kamate za primljene zajmove od općinskih proračuna",290]
[34285,"Kamate za primljene zajmove od HZMO-a, HZZ-a, HZZO-a",291]
[34286,"Kamate za primljene zajmove od ostalih izvanproračunskih korisnika državnog proračuna",292]
[34287,"Kamate za primljene zajmove od izvanproračunskih korisnika županijskih, gradskih i općinskih proračuna",293]
[35231,"Subvencije poljoprivredinicima",294]
[35232,"Subvencije obrtnicima",295]
["36313","Tekuće pomoći državnom proračunu",296]
["36314","Tekuće pomoći županijskim proračunima",297]
["36315","Tekuće pomoći gradskim proračunima",298]
["36316","Tekuće pomoći općinskim proračunima",299]
["36317","Tekuće pomoći HZMO-u, HZZ-u i HZZO-u",300]
["36318","Tekuće pomoći ostalim izvanproračunskim korisnicima državnog proračuna",301]
["36319","Tekuće pomoći izvanproračunskim korisnicima županijskih, gradskih i općinskih proračuna",302]
["36323","Kapitalne pomoći državnom proračunu",303]
["36324","Kapitalne pomoći županijskim proračunima",304]
["36325","Kapitalne pomoći gradskim proračunima",305]
["36326","Kapitalne pomoći općinskim proračunima",306]
["36327","Kapitalne pomoći HZMO-u, HZZ-u i HZZO-u",307]
["36328","Kapitalne pomoći ostalim izvanproračunskim korisnicima državnog proračuna",308]
["36329","Kapitalne pomoći izvanproračunskim korisnicima županijskih, gradskih i općinskih proračuna",309]
["36331","Tekuće pomoći proračunskim korisnicima državnog proračuna temeljem prijenosa sredstava EU",310]
["36332","Tekuće pomoći proračunskim korisnicima županijskih, gradskih i općinskih proračuna temeljem prijenosa sredstava EU",311]
["36341","Kapitalne pomoći proračunskim korisnicima državnog proračuna temeljem prijenosa sredstava EU",312]
["36342","Kapitalne pomoći proračunskim korisnicima županijskih, gradskih i općinskih proračuna temeljem prijenosa sredstava EU",313]
[37215,"Stipendije i školarine",314]
[37216,"Naknade za pomoć bivšim političkim zatvorenicima i neosnovano pritvorenim osobama",315]
[37221,"Sufinanciranje cijene prijevoza",316]
[38612,"Kapitalne pomoći trgovačkim društvima u javnom sektoru",317]
["38613","Kapitalne pomoći kreditnim institucijama u javnom sektoru",318]
["38614","Kapitalne pomoći osiguravajućim društvima u javnom sektoru",319]
["38615","Kapitalne pomoći ostalim financijskim institucijama u javnom sektoru",320]
["38622","Kapitalne pomoći trgovačkim društvima izvan javnog sektora",321]
["38623","Kapitalne pomoći kreditnim institucijama izvan javnog sektora",322]
["38624","Kapitalne pomoći osiguravajućim društvima izvan javnog sektora",323]
["38625","Kapitalne pomoći ostalim financijskim institucijama izvan javnog sektora",324]
["38631","Kapitalne pomoći poljoprivrednicima",325]
["38632","Kapitalne pomoći obrtnicima",326]
[null,"Kontrolni zbroj (AOP 269 do 326)",327,{"$f":"SUM(D281:D338)","v":0}]
["81711","Povrat zajmova danih državnom proračunu - kratkoročni",328]
["81712","Povrat zajmova danih državnom proračunu - dugoročni",329]
["81721","Povrat zajmova danih županijskim proračunima - kratkoročni",330]
["81722","Povrat zajmova danih županijskim proračunima - dugoročni",331]
["81731","Povrat zajmova danih gradskim proračunima - kratkoročni",332]
["81732","Povrat zajmova danih gradskim proračunima - dugoročni",333]
["81741","Povrat zajmova danih općinskim proračunima - kratkoročni",334]
["81742","Povrat zajmova danih općinskim proračunima - dugoročni",335]
["81751","Povrat zajmova danih HZMO-u, HZZ-u i HZZO-u - kratkoročni",336]
["81752","Povrat zajmova danih HZMO-u, HZZ-u i HZZO-u - dugoročni",337]
["81761","Povrat zajmova danih ostalim izvanproračunskim korisnicima državnog proračuna - kratkoročni",338]
["81762","Povrat zajmova danih ostalim izvanproračunskim korisnicima državnog proračuna - dugoročni",339]
["81771","Povrat zajmova danih izvanproračunskim korisnicima županijskih, gradskih i općinskih proračuna - kratkoročni",340]
["81772","Povrat zajmova danih izvanproračunskim korisnicima županijskih, gradskih i općinskih proračuna - dugoročni",341]
["84131","Primljeni zajmovi od međunarodnih organizacija - kratkoročni",342]
["84132","Primljeni zajmovi od međunarodnih organizacija - dugoročni",343]
["84141","Primljeni krediti i zajmovi od institucija i tijela EU - kratkoročni",344]
["84142","Primljeni krediti i zajmovi od institucija i tijela EU - dugoročni",345]
["84151","Primljeni zajmovi od inozemnih vlada u EU - kratkoročni",346]
["84152","Primljeni zajmovi od inozemnih vlada u EU - dugoročni",347]
["84161","Primljeni zajmovi od inozemnih vlada izvan EU - kratkoročni",348]
["84162","Primljeni zajmovi od inozemnih vlada izvan EU - dugoročni",349]
["84711","Primljeni zajmovi od državnog proračuna - kratkoročni",350]
["84712","Primljeni zajmovi od državnog proračuna - dugoročni",351]
["84721","Primljeni zajmovi od županijskih proračuna - kratkoročni",352]
["84722","Primljeni zajmovi od županijskih proračuna - dugoročni",353]
["84731","Primljeni zajmovi od gradskih proračuna - kratkoročni",354]
["84732","Primljeni zajmovi od gradskih proračuna - dugoročni",355]
["84741","Primljeni zajmovi od općinskih proračuna - kratkoročni",356]
["84742","Primljeni zajmovi od općinskih proračuna - dugoročni",357]
["84751","Primljeni zajmovi od HZMO-a, HZZ-a i HZZO-a - kratkoročni",358]
["84752","Primljeni zajmovi od HZMO-a, HZZ-a i HZZO-a - dugoročni",359]
["84761","Primljeni zajmovi od ostalih izvanproračunskih korisnika - kratkoročni",360]
["84762","Primljeni zajmovi od ostalih izvanproračunskih korisnika - dugoročni",361]
[null,"Kontrolni zbroj (AOP 328 do 361)",362,{"$f":"SUM(D340:D373)","v":0}]
["51711","Dani zajmovi državnom proračunu - kratkoročni",363]
["51712","Dani zajmovi državnom proračunu - dugoročni",364]
["51721","Dani zajmovi županijskim proračunima - kratkoročni",365]
["51722","Dani zajmovi županijskim proračunima - dugoročni",366]
["51731","Dani zajmovi gradskim proračunima - kratkoročni",367]
["51732","Dani zajmovi gradskim proračunima - dugoročni",368]
["51741","Dani zajmovi općinskim proračunima - kratkoročni",369]
["51742","Dani zajmovi općinskim proračunima - dugoročni",370]
["51751","Dani zajmovi HZMO-u, HZZ-u i HZZO-u - kratkoročni",371]
["51752","Dani zajmovi HZMO-u, HZZ-u i HZZO-u - dugoročni",372]
["51761","Dani zajmovi ostalim izvanproračunskim korisnicima državnog proračuna - kratkoročni",373]
["51762","Dani zajmovi ostalim izvanproračunskim korisnicima državnog proračuna - dugoročni",374]
["51771","Dani zajmovi izvanproračunskim korisnicima županijskih, gradskih i općinskih proračuna - kratkoročni",375]
["51772","Dani zajmovi izvanproračunskim korisnicima županijskih, gradskih i općinskih proračuna - dugoročni",376]
["54131","Otplata glavnice primljenih zajmova od međunarodnih organizacija - kratkoročnih",377]
["54132","Otplata glavnice primljenih zajmova od međunarodnih organizacija - dugoročnih",378]
["54141","Otplata glavnice primljenih kredita i zajmova od institucija i tijela EU - kratkoročnih",379]
["54142","Otplata glavnice primljenih kredita i zajmova od institucija i tijela EU - dugoročnih",380]
["54151","Otplata glavnice primljenih zajmova od inozemnih vlada u EU - kratkoročnih",381]
["54152","Otplata glavnice primljenih zajmova od inozemnih vlada u EU - dugoročnih",382]
["54161","Otplata glavnice primljenih zajmova od inozemnih vlada izvan EU - kratkoročnih",383]
["54162","Otplata glavnice primljenih zajmova od inozemnih vlada izvan EU - dugoročnih",384]
["54711","Otplata glavnice primljenih zajmova od državnog proračuna - kratkoročnih",385]
["54712","Otplata glavnice primljenih zajmova od državnog proračuna - dugoročnih",386]
["54721","Otplata glavnice primljenih zajmova od županijskih proračuna - kratkoročnih",387]
["54722","Otplata glavnice primljenih zajmova od županijskih proračuna - dugoročnih",388]
["54731","Otplata glavnice primljenih zajmova od gradskih proračuna - kratkoročnih",389]
["54732","Otplata glavnice primljenih zajmova od gradskih proračuna - dugoročnih",390]
["54741","Otplata glavnice primljenih zajmova od općinskih proračuna - kratkoročnih",391]
["54742","Otplata glavnice primljenih zajmova od općinskih proračuna - dugoročnih",392]
["54751","Otplata glavnice primljenih zajmova od HZMO-a, HZZ-a i HZZO-a - kratkoročnih",393]
["54752","Otplata glavnice primljenih zajmova od HZMO-a, HZZ-a i HZZO-a - dugoročnih",394]
["54761","Otplata glavnice primljenih zajmova od ostalih izvanproračunskih korisnika državnog proračuna - kratkoročnih",395]
["54762","Otplata glavnice primljenih zajmova od ostalih izvanproračunskih korisnika državnog proračuna - dugoročnih",396]
["54771","Otplata glavnice primljenih zajmova od izvanproračunskih korisnika županijskih, gradskih i općinskih proračuna - kratkoročnih",397]
["54772","Otplata glavnice primljenih zajmova od izvanproračunskih korisnika županijskih, gradskih i općinskih proračuna - dugoročnih",398]
[null,"Kontrolni zbroj (AOP 363 do AOP 398)",399,{"$f":"SUM(D375:D410)","v":0}]

{"sheet":"RasF","index":5,"n_rows":148,"n_cols":6,"rows_kept":148,"cut":false,"hidden":false,"merged":[[0,0,0,1],[0,2,0,5],[3,1,3,5],[4,1,4,5],[5,1,5,5],[6,1,6,5],[2,0,2,3],[1,4,1,5],[1,0,1,3]]}
["<–––– Povratak na RefStr",null,"Kontrole RAS-funkcijski"]
["IZVJEŠTAJ O RASHODIMA PREMA FUNKCIJSKOJ KLASIFIKACIJI",null,null,null,"Obrazac RAS-funkcijski\nVP 154"]
[{"$f":"IF(RefStr!F6<>\"\",LOOKUP(RefStr!F6,RefStr!N40:N64,RefStr!Q40:Q64),\" - prije popunjavanja obrasca izaberite razdoblje -\")","v":"za razdoblje 1. siječnja do 31. prosinca 2014. godine"}]
["Obveznik:",{"$f":" \"RKP: \" & TEXT(INT(VALUE(RefStr!B6)),\"00000\") & \",  \" & \"MB: \" & TEXT(INT(VALUE(RefStr!B8)), \"00000000\") & \"  \" & RefStr!B10","v":"RKP: 14402,  MB: 03324281  OŠ VUGROVEC - KAŠINA"}]
[null,{"$f":"RefStr!B12 & \" \" & RefStr!C12 & \", \" & RefStr!B14","v":"10362 KAŠINA, IVANA MAŽURANIĆA 43"}]
[null,{"$f":" \"Razina: \" & RefStr!B16 & \", Razdjel: \" & TEXT(INT(VALUE(RefStr!B20)), \"000\")","v":"Razina: 31, Razdjel: 000"}]
[null,{"$f":"\"Djelatnost: \" & RefStr!B18 & \" \" & RefStr!C18","v":"Djelatnost: 8520 Osnovno obrazovanje"}]
[]
[null,null,null,null,null,"iznosi u kunama, bez lipa"]
["Brojč. ozn. funk. klas.","NAZIV","AOP","Ostvareno u prethodnoj godini","Ostvareno u tekućoj godini","Indeks\n(5/4)"]
[1,2,3,4,5,6]
["01","Opće javne usluge (AOP 002+006+009+013 do 017)",1,{"$f":"D13+D17+D20+SUM(D24:D28)","v":0},{"$f":"E13+E17+E20+SUM(E24:E28)","v":0},{"$f":"IF(D12>0,IF(E12/D12>=100,\">>100\",E12/D12*100),\"-\")","v":"-"}]
["011","Izvršna i zakonodavna tijela, financijski i fiskalni poslovi, vanjski poslovi (AOP 003 do 005)",2,{"$f":"SUM(D14:D16)","v":0},{"$f":"SUM(E14:E16)","v":0},{"$f":"IF(D13>0,IF(E13/D13>=100,\">>100\",E13/D13*100),\"-\")","v":"-"}]
["0111","Izvršna i zakonodavna tijela",3,null,null,{"$f":"IF(D14>0,IF(E14/D14>=100,\">>100\",E14/D14*100),\"-\")","v":"-"}]
["0112","Financijski i fiskalni poslovi",4,null,null,"-"]
["0113","Vanjski poslovi",5,null,null,"-"]
["012","Inozemna ekonomska pomoć (AOP 007+008)",6,{"$f":"SUM(D18:D19)","v":0},{"$f":"SUM(E18:E19)","v":0},"-"]
["0121","Ekonomska pomoć zemljama u razvoju i zemljama u tranziciji",7,null,null,"-"]
["0122","Ekonomska pomoć usmjerena preko međunarodnih agencija",8,null,null,"-"]
["013","Opće usluge (AOP 010 do 012)",9,{"$f":"SUM(D21:D23)","v":0},{"$f":"SUM(E21:E23)","v":0},"-"]
["0131","Opće usluge vezane za službenike",10,null,null,"-"]
["0132","Sveukupno planiranje i statističke usluge",11,null,null,"-"]
["0133","Ostale opće usluge",12,null,null,"-"]
["014","Osnovna istraživanja",13,null,null,"-"]
["015","Istraživanje i razvoj: Opće javne usluge",14,null,null,"-"]
["016","Opće javne usluge koje nisu drugdje svrstane",15,null,null,"-"]
["017","Transakcije vezane za javni dug",16,null,null,"-"]
["018","Prijenosi općeg karaktera između različitih državnih razina",17,null,null,"-"]
["02","Obrana (AOP 019 do 023)",18,{"$f":"SUM(D30:D34)","v":0},{"$f":"SUM(E30:E34)","v":0},"-"]
["021","Vojna obrana",19,null,null,"-"]
["022","Civilna obrana",20,null,null,"-"]
["023","Inozemna vojna pomoć",21,null,null,"-"]
["024","Istraživanje i razvoj obrane",22,null,null,"-"]
["025","Rashodi za obranu koji nisu drugdje svrstani",23,null,null,"-"]
["03","Javni red i sigurnost (AOP 025 do 030)",24,{"$f":"SUM(D36:D41)","v":0},{"$f":"SUM(E36:E41)","v":0},"-"]
["031","Usluge policije",25,null,null,"-"]
["032","Usluge protupožarne zaštite",26,null,null,"-"]
["033","Sudovi",27,null,null,"-"]
["034","Zatvori",28,null,null,"-"]
["035","Istraživanje i razvoj: Javni red i sigurnost",29,null,null,"-"]
["036","Rashodi za javni red i sigurnost koji nisu drugdje svrstani",30,null,null,"-"]
["04","Ekonomski poslovi (AOP 032+035+039+046+050+056+057+062+070)",31,{"$f":"D43+D46+D50+D57+D61+D67+D68+D73+D81","v":0},{"$f":"E43+E46+E50+E57+E61+E67+E68+E73+E81","v":0},"-"]
["041","Opći ekonomski, trgovački i poslovi vezani uz rad (AOP 033+034) ",32,{"$f":"SUM(D44:D45)","v":0},{"$f":"SUM(E44:E45)","v":0},"-"]
["0411","Opći ekonomski i trgovački poslovi",33,null,null,"-"]
["0412","Opći poslovi vezani uz rad",34,null,null,"-"]
["042","Poljoprivreda, šumarstvo, ribarstvo i lov (AOP 036 do 038)",35,{"$f":"SUM(D47:D49)","v":0},{"$f":"SUM(E47:E49)","v":0},"-"]
["0421","Poljoprivreda",36,null,null,"-"]
["0422","Šumarstvo",37,null,null,"-"]
["0423","Ribarstvo i lov",38,null,null,"-"]
["043","Gorivo i energija (AOP 040 do 045)",39,{"$f":"SUM(D51:D56)","v":0},{"$f":"SUM(E51:E56)","v":0},"-"]
["0431","Ugljen i ostala kruta mineralna goriva",40,null,null,"-"]
["0432","Nafta i prirodni plin",41,null,null,"-"]
["0433","Nuklearno gorivo",42,null,null,"-"]
["0434","Ostala goriva",43,null,null,"-"]
["0435","Električna energija",44,null,null,"-"]
["0436","Ostale vrste energije",45,null,null,"-"]
["044","Rudarstvo, proizvodnja i građevinarstvo (AOP 047 do 049)",46,{"$f":"SUM(D58:D60)","v":0},{"$f":"SUM(E58:E60)","v":0},"-"]
["0441","Rudarstvo, mineralni resursi i ostala mineralna goriva",47,null,null,"-"]
["0442","Proizvodnja ",48,null,null,"-"]
["0443","Građevinarstvo",49,null,null,"-"]
["045","Promet (AOP 051 do 055)",50,{"$f":"SUM(D62:D66)","v":0},{"$f":"SUM(E62:E66)","v":0},"-"]
["0451","Cestovni promet",51,null,null,"-"]
["0452","Promet vodnim putovima",52,null,null,"-"]
["0453","Željeznički promet",53,null,null,"-"]
["0454","Zračni promet",54,null,null,"-"]
["0455","Promet cjevovodima i ostali promet",55,null,null,"-"]
["046","Komunikacije",56,null,null,"-"]
["047","Ostale industrije (AOP 058 do 061)",57,{"$f":"SUM(D69:D72)","v":0},{"$f":"SUM(E69:E72)","v":0},"-"]
["0471","Distribucija i skladištenje",58,null,null,"-"]
["0472","Hoteli i restorani",59,null,null,"-"]
["0473","Turizam",60,null,null,"-"]
["0474","Višenamjenski razvojni projekti",61,null,null,"-"]
["048","Istraživanje i razvoj: Ekonomski poslovi (AOP 063 do 069)",62,{"$f":"SUM(D74:D80)","v":0},{"$f":"SUM(E74:E80)","v":0},"-"]
["0481","Istraživanje i razvoj: Opći ekonomski, trgovački i poslovi vezani uz rad",63,null,null,"-"]
["0482","Istraživanje i razvoj: Poljoprivreda, šumarstvo, ribarstvo i lov",64,null,null,"-"]
["0483","Istraživanje i razvoj: Gorivo i energija",65,null,null,"-"]
["0484","Istraživanje i razvoj: Rudarstvo, proizvodnja i građevinarstvo",66,null,null,"-"]
["0485","Istraživanje i razvoj: Promet",67,null,null,{"$f":"IF(D78>0,IF(E78/D78>=100,\">>100\",E78/D78*100),\"-\")","v":"-"}]
["0486","Istraživanje i razvoj: Komunikacije",68,null,null,"-"]
["0487","Istraživanje i razvoj: Ostale industrije",69,null,null,"-"]
["049","Ekonomski poslovi koji nisu drugdje svrstani",70,null,null,"-"]
["05","Zaštita okoliša (AOP 072 do 077)",71,{"$f":"SUM(D83:D88)","v":0},{"$f":"SUM(E83:E88)","v":0},"-"]
["051","Gospodarenje otpadom",72,null,null,"-"]
["052","Gospodarenje otpadnim vodama",73,null,null,"-"]
["053","Smanjenje zagađivanja",74,null,null,"-"]
["054","Zaštita bioraznolikosti i krajolika",75,null,null,"-"]
["055","Istraživanje i razvoj: Zaštita okoliša",76,null,null,"-"]
["056","Poslovi i usluge zaštite okoliša koji nisu drugdje svrstani",77,null,null,"-"]
["06","Usluge unapređenja stanovanja i zajednice (AOP 079 do 084)",78,{"$f":"SUM(D90:D95)","v":0},{"$f":"SUM(E90:E95)","v":0},"-"]
["061","Razvoj stanovanja",79,null,null,"-"]
["062","Razvoj zajednice",80,null,null,"-"]
["063","Opskrba vodom",81,null,null,"-"]
["064","Ulična rasvjeta",82,null,null,"-"]
["065","Istraživanje i razvoj stanovanja i komunalnih pogodnosti",83,null,null,"-"]
["066","Rashodi vezani za stanovanje i kom. pogodnosti koji nisu drugdje svrstani",84,null,null,"-"]
["07","Zdravstvo (AOP 086+090+095+100+101+102)",85,{"$f":"D97+D101+D106+D111+D112+D113","v":0},{"$f":"E97+E101+E106+E111+E112+E113","v":0},"-"]
["071","Medicinski proizvodi, pribor i oprema (AOP 087 do 089)",86,{"$f":"SUM(D98:D100)","v":0},{"$f":"SUM(E98:E100)","v":0},"-"]
["0711","Farmaceutski proizvodi",87,null,null,"-"]
["0712","Ostali medicinski proizvodi",88,null,null,"-"]
["0713","Terapeutski pribor i oprema",89,null,null,"-"]
["072","Službe za vanjske pacijente (AOP 091 do 094)",90,{"$f":"SUM(D102:D105)","v":0},{"$f":"SUM(E102:E105)","v":0},"-"]
["0721","Opće medicinske usluge",91,null,null,"-"]
["0722","Specijalističke medicinske usluge",92,null,null,"-"]
["0723","Zubarske usluge",93,null,null,"-"]
["0724","Paramedicinske usluge ",94,null,null,"-"]
["073","Bolničke službe (AOP 096 do 099)",95,{"$f":"SUM(D107:D110)","v":0},{"$f":"SUM(E107:E110)","v":0},"-"]
["0731","Usluge općih bolnica",96,null,null,"-"]
["0732","Usluge specijalističkih bolnica",97,null,null,"-"]
["0733","Usluge medicinskih centara i centara za majčinstvo",98,null,null,"-"]
["0734","Usluge centara za njegu i oporavak",99,null,null,"-"]
["074","Službe javnog zdravstva",100,null,null,"-"]
["075","Istraživanje i razvoj zdravstva",101,null,null,"-"]
["076","Poslovi i usluge zdravstva koji nisu drugdje svrstani",102,null,null,"-"]
["08","Rekreacija, kultura i religija (AOP 104 do 109)",103,{"$f":"SUM(D115:D120)","v":0},{"$f":"SUM(E115:E120)","v":0},"-"]
["081","Službe rekreacije i sporta",104,null,null,"-"]
["082","Službe kulture",105,null,null,"-"]
["083","Službe emitiranja i izdavanja",106,null,null,"-"]
["084","Religijske i druge službe zajednice",107,null,null,"-"]
["085","Istraživanje i razvoj rekreacije, kulture i religije",108,null,null,"-"]
["086","Rashodi za rekreaciju, kulturu i religiju koji nisu drugdje svrstani",109,null,null,"-"]
["09","Obrazovanje (AOP 111+114+117+118+121 do 124)",110,{"$f":"D122+D125+D128+D129+SUM(D132:D135)","v":0},{"$f":"E122+E125+E128+E129+SUM(E132:E135)","v":0},"-"]
["091","Predškolsko i osnovno obrazovanje (AOP 112+113)",111,{"$f":"SUM(D123:D124)","v":0},{"$f":"SUM(E123:E124)","v":0},"-"]
["0911","Predškolsko obrazovanje",112,null,null,"-"]
["0912","Osnovno obrazovanje",113,null,null,"-"]
["092","Srednjoškolsko obrazovanje (AOP 115+116)",114,{"$f":"SUM(D126:D127)","v":0},{"$f":"SUM(E126:E127)","v":0},"-"]
["0921","Niže srednjoškolsko obrazovanje",115,null,null,"-"]
["0922","Više srednjoškolsko obrazovanje",116,null,null,"-"]
["093","Poslije srednjoškolsko, ali ne visoko obrazovanje",117,null,null,"-"]
["094","Visoka naobrazba (AOP 119+120)",118,{"$f":"SUM(D130:D131)","v":0},{"$f":"SUM(E130:E131)","v":0},"-"]
["0941","Prvi stupanj visoke naobrazbe",119,null,null,"-"]
["0942","Drugi stupanj visoke naobrazbe",120,null,null,"-"]
["095","Obrazovanje koje se ne može definirati po stupnju",121,null,null,"-"]
["096","Dodatne usluge u obrazovanju",122,null,null,"-"]
["097","Istraživanje i razvoj obrazovanja",123,null,null,"-"]
["098","Usluge obrazovanja koje nisu drugdje svrstane",124,null,null,"-"]
["10","Socijalna zaštita (AOP 126+129+130+131+132+133+134+135+136)",125,{"$f":"D137+D140+SUM(D141:D147)","v":0},{"$f":"E137+E140+SUM(E141:E147)","v":0},"-"]
["101","Bolest i invaliditet (AOP 127+128)",126,{"$f":"SUM(D138:D139)","v":0},{"$f":"SUM(E138:E139)","v":0},"-"]
["1011","Bolest",127,null,null,"-"]
["1012","Invaliditet",128,null,null,"-"]
["102","Starost",129,null,null,"-"]
["103","Slijednici",130,null,null,{"$f":"IF(D141>0,IF(E141/D141>=100,\">>100\",E141/D141*100),\"-\")","v":"-"}]
["104","Obitelj i djeca",131,null,null,{"$f":"IF(D142>0,IF(E142/D142>=100,\">>100\",E142/D142*100),\"-\")","v":"-"}]
["105","Nezaposlenost",132,null,null,"-"]
["106","Stanovanje",133,null,null,"-"]
["107","Socijalna pomoć stanovništvu koje nije obuhvaćeno redovnim socijalnim programima",134,null,null,"-"]
["108","Istraživanje i razvoj socijalne zaštite",135,null,null,"-"]
["109","Aktivnosti socijalne zaštite koje nisu drugdje svrstane",136,null,null,"-"]
[null,"Kontrolni zbroj (AOP 001+018+024+031+071+078+085+103+110+125)",137,{"$f":"D12+D29+D35+D42+D82+D89+D96+D114+D121+D136","v":0},{"$f":"E12+E29+E35+E42+E82+E89+E96+E114+E121+E136","v":0},"-"]

{"sheet":"PVRIO","index":6,"n_rows":55,"n_cols":5,"rows_kept":55,"cut":false,"hidden":false,"merged":[[3,1,3,5],[4,1,4,5],[5,1,5,5],[6,1,6,5],[0,0,0,1],[1,3,1,4],[1,0,1,2],[2,0,2,2],[0,2,0,4]]}
["<–––– Povratak na RefStr",null,"Kontrole obrasca P-VRIO ––––>"]
["IZVJEŠTAJ O PROMJENAMA U VRIJEDNOSTI\nI OBUJMU IMOVINE I OBVEZA",null,null,"Obrazac P-VRIO\n(VP 156)"]
[{"$f":"IF(RefStr!F6=\"\",\"- prije popunjavanja obrasca odaberite razdoblje -\",IF(RIGHT(RefStr!F6,2)=\"12\",LOOKUP(RefStr!F6,RefStr!N40:N64,RefStr!Q40:Q64),\" - za označeno razdoblje obrazac se ne popunjava -\"))","v":"za razdoblje 1. siječnja do 31. prosinca 2014. godine"}]
["Obveznik:",{"$f":" \"RKP: \" & TEXT(INT(VALUE(RefStr!B6)),\"00000\") & \",  \" & \"MB: \" & TEXT(INT(VALUE(RefStr!B8)), \"00000000\") & \"  \" & RefStr!B10","v":"RKP: 14402,  MB: 03324281  OŠ VUGROVEC - KAŠINA"}]
[null,{"$f":"RefStr!B12 & \" \" & RefStr!C12 & \", \" & RefStr!B14","v":"10362 KAŠINA, IVANA MAŽURANIĆA 43"}]
[null,{"$f":" \"Razina: \" & RefStr!B16 & \", Razdjel: \" & TEXT(INT(VALUE(RefStr!B20)), \"000\")","v":"Razina: 31, Razdjel: 000"}]
[null,{"$f":"\"Djelatnost: \" & RefStr!B18 & \" \" & RefStr!C18","v":"Djelatnost: 8520 Osnovno obrazovanje"}]
[]
[]
["Račun iz rač. plana","NAZIV","AOP","Iznos povećanja","Iznos smanjenja"]
[1,2,3,4,5]
["9151","Promjene u vrijednosti i obujmu imovine (AOP 002+018)",1,{"$f":"D13+D29","v":0},{"$f":"E13+E29","v":0}]
["91511","Promjene u vrijednosti (revalorizacija) imovine (AOP 003+010)",2,{"$f":"D14+D21","v":0},{"$f":"E14+E21","v":0}]
[" ","Promjene u vrijednosti (revalorizacija) nefinancijske imovine (AOP 004 do 009)",3,{"$f":"SUM(D15:D20)","v":0},{"$f":"SUM(E15:E20)","v":0}]
[" ","Neproizvedena dugotrajna imovina",4]
[" ","Proizvedena dugotrajna imovina",5]
[" ","Plemeniti metali i ostale pohranjene vrijednosti",6]
[" ","Sitni inventar",7]
[" ","Dugotrajna nefinancijska imovina u pripremi",8]
[" ","Proizvedena kratkotrajna imovina",9]
[" ","Promjene u vrijednosti (revalorizacija) financijske imovine (AOP 011 do 017)",10,{"$f":"SUM(D22:D28)","v":0},{"$f":"SUM(E22:E28)","v":0}]
[" ","Novac u banci i blagajni",11]
[" ","Depoziti, jamčevni polozi i potraživanja od zaposlenih te za više plaćene poreze i ostalo",12]
[" ","Potraživanja za dane zajmove ",13]
[" ","Vrijednosni papiri",14]
[" ","Dionice i udjeli u glavnici",15]
[" ","Potraživanja za prihode poslovanja",16]
[" ","Potraživanja od prodaje nefinancijske imovine",17]
["91512","Promjene u obujmu imovine (AOP 019+026)",18,{"$f":"D30+D37","v":0},{"$f":"E30+E37","v":0}]
[" ","Promjene u obujmu nefinancijske imovine (AOP 020 do 025)",19,{"$f":"SUM(D31:D36)","v":0},{"$f":"SUM(E31:E36)","v":0}]
[" ","Neproizvedena dugotrajna imovina",20]
[" ","Proizvedena dugotrajna imovina",21]
[" ","Plemeniti metali i ostale pohranjene vrijednosti",22]
[" ","Sitni inventar",23]
[" ","Dugotrajna nefinancijska imovina u pripremi",24]
[" ","Proizvedena kratkotrajna imovina",25]
[" ","Promjene u obujmu financijske imovine (AOP 027 do 033)",26,{"$f":"SUM(D38:D44)","v":0},{"$f":"SUM(E38:E44)","v":0}]
[" ","Novac u banci i blagajni",27]
[" ","Depoziti, jamčevni polozi i potraživanja od zaposlenih te za više plaćene poreze i ostalo",28]
[" ","Potraživanja za dane zajmove ",29]
[" ","Vrijednosni papiri",30]
[" ","Dionice i udjeli u glavnici",31]
[" ","Potraživanja za prihode poslovanja",32]
[" ","Potraživanja od prodaje nefinancijske imovine",33]
["9152","Promjene u vrijednosti (revalorizacija) i obujmu obveza (AOP 035+040)",34,{"$f":"D46+D51","v":0},{"$f":"E46+E51","v":0}]
["91521","Promjene u vrijednosti (revalorizacija) obveza (AOP 036 do 039)",35,{"$f":"SUM(D47:D50)","v":0},{"$f":"SUM(E47:E50)","v":0}]
[" ","Obveze za rashode poslovanja",36]
[" ","Obveze za nabavu nefinancijske imovine",37]
[" ","Obveze za vrijednosne papire",38]
[" ","Obveze za kredite i zajmove",39]
["91522","Promjene u obujmu obveza (AOP 041 do 044)",40,{"$f":"SUM(D52:D55)","v":0},{"$f":"SUM(E52:E55)","v":0}]
[" ","Obveze za rashode poslovanja",41]
[" ","Obveze za nabavu nefinancijske imovine",42]
[" ","Obveze za vrijednosne papire",43]
["109","Obveze za kredite i zajmove",44]

{"sheet":"Bil","index":7,"n_rows":289,"n_cols":6,"rows_kept":289,"cut":false,"hidden":false,"merged":[[283,0,283,5],[3,1,3,5],[4,1,4,5],[5,1,5,5],[6,1,6,5],[238,0,238,5],[2,0,2,3],[0,0,0,1],[0,2,0,5],[1,4,1,5],[1,0,1,3],[274,0,274,5]]}
["<–––– Povratak na RefStr",null,"Kontrole ––––>"]
["BILANCA",null,null,null,"Obrazac BIL\nVP 158"]
[{"$f":"IF(RefStr!F6<>\"\",LOOKUP(RefStr!F6,RefStr!N40:N64,RefStr!R40:R64),\" - prije popunjavanja obrasca izaberite razdoblje -\")","v":"stanje na dan 31. prosinca 2014. godine"}]
["Obveznik:",{"$f":" \"RKP: \" & TEXT(INT(VALUE(RefStr!B6)),\"00000\") & \",  \" & \"MB: \" & TEXT(INT(VALUE(RefStr!B8)), \"00000000\") & \"  \" & RefStr!B10","v":"RKP: 14402,  MB: 03324281  OŠ VUGROVEC - KAŠINA"}]
[null,{"$f":"RefStr!B12 & \" \" & RefStr!C12 & \", \" & RefStr!B14","v":"10362 KAŠINA, IVANA MAŽURANIĆA 43"}]
[null,{"$f":" \"Razina: \" & RefStr!B16 & \", Razdjel: \" & TEXT(INT(VALUE(RefStr!B20)), \"000\")","v":"Razina: 31, Razdjel: 000"}]
[null,{"$f":"\"Djelatnost: \" & RefStr!B18 & \" \" & RefStr!C18","v":"Djelatnost: 8520 Osnovno obrazovanje"}]
[]
[null,null,null,null,null,"iznosi u kunama, bez lipa"]
["Račun iz rač. plana","OPIS","AOP","Stanje 1. siječnja","Stanje 31. prosinca","Indeks\n(5/4)"]
[1,2,3,4,5,6]
[null,"IMOVINA (AOP 002+061)",1,{"$f":"D13+D72","v":9003556},{"$f":"E13+E72","v":9485507},{"$f":"IF(D12>0,IF(E12/D12>=100,\">>100\",E12/D12*100),\"-\")","v":105.35289612237652}]
[0,"Nefinancijska imovina (AOP 003+007+045+046+050+057)",2,{"$f":"D14+D18+D56+D57+D61+D68","v":8157067},{"$f":"E14+E18+E56+E57+E61+E68","v":8434300},{"$f":"IF(D13>0,IF(E13/D13>=100,\">>100\",E13/D13*100),\"-\")","v":103.39868484591337}]
["01","Neproizvedena dugotrajna imovina (AOP 004+005-006)",3,{"$f":"D15+D16-D17","v":1330076},{"$f":"E15+E16-E17","v":1330076},100]
["011","Materijalna imovina - prirodna bogatstva",4,1330076,1330076,100]
["012","Nematerijalna imovina ",5,0,0,"-"]
["019","Ispravak vrijednosti neproizvedene dugotrajne imovine",6,0,0,"-"]
["02","Proizvedena dugotrajna imovina (AOP 008+014+023+029+035+039)",7,{"$f":"D19+D25+D34+D40+D46+D50","v":6826991},{"$f":"E19+E25+E34+E40+E46+E50","v":7104224},104.06083734400704]
["021 i 02921","Građevinski objekti (AOP 009 do 012 - 013)",8,{"$f":"SUM(D20:D23)-D24","v":6110697},{"$f":"SUM(E20:E23)-E24","v":6326363},103.52931915950015]
["0211","Stambeni objekti",9,0,0,"-"]
["0212","Poslovni objekti",10,14310177,14310177,100]
["0213","Ceste, željeznice i ostali prometni objekti",11,0,0,"-"]
["0214","Ostali građevinski objekti",12,0,0,"-"]
["02921","Ispravak vrijednosti građevinskih objekata",13,8199480,7983814,97.369760033563097]
["022 i 02922","Postrojenja i oprema (AOP 015 do 021 - 022)",14,{"$f":"SUM(D26:D32)-D33","v":478122},{"$f":"SUM(E26:E32)-E33","v":532517},111.37680341000834]
["0221","Uredska oprema i namještaj",15,1545001,1557060,100.78051729416357]
["0222","Komunikacijska oprema",16,48180,48180,100]
["0223","Oprema za održavanje i zaštitu",17,13390,13390,100]
["0224","Medicinska i laboratorijska oprema",18,0,0,"-"]
["0225","Instrumenti, uređaji i strojevi",19,56248,56248,100]
["0226","Sportska i glazbena oprema",20,16087,16087,100]
["0227","Uređaji, strojevi i oprema za ostale namjene",21,298571,315540,105.68340528718463]
["02922","Ispravak vrijednosti postrojenja i opreme",22,1499355,1473988,98.308139166508269]
["023 i 02923","Prijevozna sredstva (AOP 024 do 027 - 028)",23,{"$f":"SUM(D35:D38)-D39","v":0},{"$f":"SUM(E35:E38)-E39","v":0},"-"]
["0231","Prijevozna sredstva u cestovnom prometu",24,0,0,"-"]
["0232","Prijevozna sredstva u željezničkom prometu ",25,0,0,"-"]
["0233","Prijevozna sredstva u pomorskom i riječnom prometu",26,0,0,"-"]
["0234","Prijevozna sredstva u zračnom prometu",27,0,0,"-"]
["02923","Ispravak vrijednosti prijevoznih sredstava ",28,0,0,"-"]
["024 i 02924","Knjige, umjetnička djela i ostale izložbene vrijednosti (AOP 030 do 033 - 034)",29,{"$f":"SUM(D41:D44)-D45","v":238172},{"$f":"SUM(E41:E44)-E45","v":245344},103.01126916682063]
["0241","Knjige ",30,238172,245344,103.01126916682063]
["0242","Umjetnička djela (izložena u galerijama, muzejima i slično)",31,0,0,"-"]
["0243","Muzejski izlošci i predmeti prirodnih rijetkosti",32,0,0,"-"]
["0244","Ostale nespomenute izložbene vrijednosti",33,0,0,"-"]
["02924","Ispravak vrijednosti knjiga, umjetničkih djela i ostalih izložbenih vrijednosti",34,0,0,"-"]
["025 i 02925","Višegodišnji nasadi i osnovno stado (AOP 036+037-038)",35,{"$f":"SUM(D47:D48)-D49","v":0},{"$f":"SUM(E47:E48)-E49","v":0},"-"]
["0251","Višegodišnji nasadi",36,0,0,"-"]
["0252","Osnovno stado",37,0,0,"-"]
["02925","Ispravak vrijednosti višegodišnjih nasada i osnovnog stada",38,0,0,"-"]
["026 i 02926","Nematerijalna proizvedena imovina (AOP 040 do 043 - 044)",39,{"$f":"SUM(D51:D54)-D55","v":0},{"$f":"SUM(E51:E54)-E55","v":0},"-"]
["0261","Istraživanje rudnih bogatstava",40,0,0,"-"]
["0262","Ulaganja u računalne programe",41,0,0,"-"]
["0263","Umjetnička, literarna i znanstvena djela",42,0,0,"-"]
["0264","Ostala nematerijalna proizvedena imovina",43,0,0,"-"]
["02926","Ispravak vrijednosti nematerijalne proizvedene imovine",44,0,0,"-"]
["03","Plemeniti metali i ostale pohranjene vrijednosti",45,0,0,"-"]
["04","Sitni inventar (AOP 047+048-049)",46,{"$f":"SUM(D58:D59)-D60","v":0},{"$f":"SUM(E58:E59)-E60","v":0},"-"]
["041","Zalihe sitnog inventara",47,0,0,"-"]
["042","Sitni inventar u upotrebi",48,478032,513049,107.32524182481507]
["049","Ispravak vrijednosti sitnog inventara",49,478032,513049,107.32524182481507]
["05","Dugotrajna nefinancijska imovina u pripremi (AOP 051 do 056)",50,{"$f":"SUM(D62:D67)","v":0},{"$f":"SUM(E62:E67)","v":0},"-"]
["051","Građevinski objekti u pripremi",51,0,0,"-"]
["052","Postrojenja i oprema u pripremi",52,0,0,"-"]
["053","Prijevozna sredstva u pripremi",53,0,0,"-"]
["054","Višegodišnji nasadi i osnovno stado u pripremi",54,0,0,"-"]
["055","Ostala nematerijalna proizvedena imovina u pripremi",55,0,0,"-"]
["056","Ostala nefinancijska dugotrajna imovina u pripremi",56,0,0,"-"]
["06","Proizvedena kratkotrajna imovina (AOP 058 do 060)",57,{"$f":"SUM(D69:D71)","v":0},{"$f":"SUM(E69:E71)","v":0},"-"]
["061","Zalihe za obavljanje djelatnosti",58,0,0,"-"]
["062","Proizvodnja i proizvodi",59,0,0,"-"]
["064","Roba za daljnju prodaju",60,0,0,"-"]
["1","Financijska imovina (AOP 062+067+073+104+120+132+142+143)",61,{"$f":"D73+D78+D84+D115+D131+D143+D153+D154","v":846489},{"$f":"E73+E78+E84+E115+E131+E143+E153+E154","v":1051207},124.18436624693292]
["11","Novac u banci i blagajni (AOP 063 do 066)",62,{"$f":"SUM(D74:D77)","v":120325},{"$f":"SUM(E74:E77)","v":351348},291.99916891751508]
["111","Novac u banci",63,119869,350590,292.47762140336533]
["112","Izdvojena novčana sredstva ",64,0,0,"-"]
["113","Novac u blagajni",65,456,758,166.2280701754386]
["114","Vrijednosnice u blagajni",66,0,0,{"$f":"IF(D77>0,IF(E77/D77>=100,\">>100\",E77/D77*100),\"-\")","v":"-"}]
["12","Depoziti, jamčevni polozi i potraživanja od zaposlenih te za više plaćene poreze i ostalo \n(AOP 068 do 072)",67,{"$f":"SUM(D79:D83)","v":7434},{"$f":"SUM(E79:E83)","v":26075},350.75329566854992]
["121","Depoziti u kreditnim i ostalim financijskim institucijama",68,0,0,"-"]
["122","Jamčevni polozi",69,0,0,"-"]
["123","Potraživanja od zaposlenih",70,0,0,"-"]
["124","Potraživanja za više plaćene poreze i doprinose",71,0,0,"-"]
["129","Ostala potraživanja",72,7434,26075,350.75329566854992]
["13","Potraživanja za dane zajmove (AOP 074+092-103)",73,{"$f":"D85+D103-D114","v":0},{"$f":"E85+E103-E114","v":0},"-"]
[null,"Zajmovi - tuzemni (AOP 075 do 091)",74,{"$f":"SUM(D86:D102)","v":0},{"$f":"SUM(E86:E102)","v":0},"-"]
["1321","Zajmovi neprofitnim organizacijama, građanima i kućanstvima u tuzemstvu",75,0,0,"-"]
["1332","Zajmovi kreditnim institucijama u javnom sektoru",76,0,0,"-"]
["1333","Zajmovi osiguravajućim društvima u javnom sektoru",77,0,0,"-"]
["1334","Zajmovi ostalim financijskim institucijama u javnom sektoru",78,0,0,"-"]
["1341","Zajmovi trgovačkim društvima u javnom sektoru",79,0,0,"-"]
["1353","Zajmovi tuzemnim kreditnim institucijama izvan javnog sektora",80,0,0,"-"]
["1354","Zajmovi tuzemnim osiguravajućim društvima izvan javnog sektora",81,0,0,"-"]
["1355","Zajmovi ostalim tuzemnim financijskim institucijama izvan javnog sektora",82,0,0,"-"]
["1363","Zajmovi tuzemnim trgovačkim društvima izvan javnog sektora",83,0,0,"-"]
["1364","Zajmovi tuzemnim obrtnicima",84,0,0,"-"]
["1371","Zajmovi državnom proračunu",85,0,0,"-"]
["1372","Zajmovi županijskim proračunima",86,0,0,"-"]
["1373","Zajmovi gradskim proračunima",87,0,0,"-"]
["1374","Zajmovi općinskim proračunima",88,0,0,"-"]
["1375","Zajmovi HZMO-u, HZZ-u, HZZO-u",89,0,0,"-"]
["1376","Zajmovi ostalim izvanproračunskim korisnicima državnog proračuna",90,0,0,"-"]
["1377","Zajmovi izvanproračunskim korisnicima županijskih, gradskih i općinskih proračuna",91,0,0,"-"]
[null,"Zajmovi - inozemni (AOP 093 do 102)",92,{"$f":"SUM(D104:D113)","v":0},{"$f":"SUM(E104:E113)","v":0},"-"]
["1313","Zajmovi međunarodnim organizacijama ",93,0,0,"-"]
["1314","Zajmovi institucijama i tijelima EU",94,0,0,"-"]
["1315","Zajmovi inozemnim vladama u EU",95,0,0,"-"]
["1316","Zajmovi inozemnim vladama izvan EU",96,0,0,"-"]
["1322","Zajmovi neprofitnim organizacijama, građanima i kućanstvima u inozemstvu",97,0,0,"-"]
["1356","Zajmovi inozemnim kreditnim institucijama",98,0,0,"-"]
["1357","Zajmovi inozemnim osiguravajućim društvima",99,0,0,"-"]
["1358","Zajmovi ostalim inozemnim financijskim institucijama",100,0,0,"-"]
["1365","Zajmovi inozemnim trgovačkim društvima",101,0,0,"-"]
["1366","Zajmovi inozemnim obrtnicima",102,0,0,"-"]
["139","Ispravak vrijednosti danih zajmova",103,0,0,"-"]
["14","Vrijednosni papiri (AOP 105+112-119)",104,{"$f":"D116+D123-D130","v":0},{"$f":"E116+E123-E130","v":0},"-"]
[null,"Vrijednosni papiri - tuzemni (AOP 106 do 111)",105,{"$f":"SUM(D117:D122)","v":0},{"$f":"SUM(E117:E122)","v":0},"-"]
["1411","Čekovi",106,0,0,"-"]
["1421","Komercijalni i blagajnički zapisi",107,0,0,"-"]
["1431","Mjenice",108,0,0,"-"]
["1441","Obveznice",109,0,0,"-"]
["1451","Opcije i drugi financijski derivati",110,0,0,"-"]
["1461","Ostali vrijednosni papiri",111,0,0,"-"]
[null,"Vrijednosni papiri - inozemni (AOP 113 do 118)",112,{"$f":"SUM(D124:D129)","v":0},{"$f":"SUM(E124:E129)","v":0},"-"]
["1412","Čekovi",113,0,0,"-"]
["1422","Komercijalni i blagajnički zapisi",114,0,0,"-"]
["1432","Mjenice",115,0,0,"-"]
["1442","Obveznice",116,0,0,"-"]
["1452","Opcije i drugi financijski derivati",117,0,0,"-"]
["1462","Ostali vrijednosni papiri",118,0,0,"-"]
["149","Ispravak vrijednosti vrijednosnih papira",119,0,0,"-"]
["15","Dionice i udjeli u glavnici (AOP 121+128-131)",120,{"$f":"D132+D139-D142","v":0},{"$f":"E132+E139-E142","v":0},"-"]
[null,"Dionice i udjeli u glavnici - tuzemni (AOP 122 do 127)",121,{"$f":"SUM(D133:D138)","v":0},{"$f":"SUM(E133:E138)","v":0},"-"]
["1512","Dionice i udjeli u glavnici kreditnih institucija u javnom sektoru",122,0,0,"-"]
["1513","Dionice i udjeli u glavnici osiguravajućih društava u javnom sektoru",123,0,0,"-"]
["1514","Dionice i udjeli u glavnici ostalih financijskih institucija u javnom sektoru",124,0,0,"-"]
["1521","Dionice i udjeli u glavnici trgovačkih društava u javnom sektoru",125,0,0,"-"]
["1531","Dionice i udjeli u glavnici tuzemnih kreditnih i ostalih financijskih institucija izvan javnog sektora",126,0,0,"-"]
["1541","Dionice i udjeli u glavnici tuzemnih trgovačkih društava izvan javnog sektora",127,0,0,"-"]
[null,"Dionice i udjeli u glavnici - inozemni (AOP 129+130)",128,{"$f":"SUM(D140:D141)","v":0},{"$f":"SUM(E140:E141)","v":0},"-"]
["1532","Dionice i udjeli u glavnici inozemnih kreditnih i ostalih financijskih institucija",129,0,0,"-"]
["1542","Dionice i udjeli u glavnici inozemnih trgovačkih društava izvan javnog sektora",130,0,0,{"$f":"IF(D141>0,IF(E141/D141>=100,\">>100\",E141/D141*100),\"-\")","v":"-"}]
["159","Ispravak vrijednosti dionica i udjela u glavnici",131,0,0,"-"]
["16","Potraživanja za prihode poslovanja (AOP 133 do 140 - 141)",132,{"$f":"SUM(D144:D151)-D152","v":0},{"$f":"SUM(E144:E151)-E152","v":0},"-"]
["161","Potraživanja za poreze",133,0,0,"-"]
["162","Potraživanja za doprinose",134,0,0,"-"]
["163","Potraživanja za pomoći od međunarodnih organizacija, institucija i tijela EU te proračunskih korisnika temeljem prijenosa sredstava EU",135,0,0,"-"]
["164","Potraživanja za prihode od imovine",136,0,0,"-"]
["165","Potraživanja za upravne i administrativne pristojbe, pristojbe po posebnim propisima i naknade",137,0,0,"-"]
["166","Potraživanja za prihode od prodaje proizvoda i robe te pruženih usluga",138,0,0,"-"]
["167","Potraživanja za prihode iz proračuna",139,0,0,"-"]
["168","Potraživanja za kazne i upravne mjere te ostale prihode",140,0,0,"-"]
["169","Ispravak vrijednosti potraživanja",141,0,0,"-"]
["17","Potraživanja od prodaje nefinancijske imovine",142,0,0,"-"]
["19","Rashodi budućih razdoblja i nedospjela naplata prihoda (AOP 144+145)",143,{"$f":"SUM(D155:D156)","v":718730},{"$f":"SUM(E155:E156)","v":673784},93.746469466976464]
["191","Rashodi budućih razdoblja",144,718730,673784,93.746469466976464]
["192","Nedospjela naplata prihoda",145,0,0,"-"]
[null,"OBVEZE I VLASTITI IZVORI (AOP 147+205)",146,{"$f":"D158+D216","v":9003557},{"$f":"E158+E216","v":9485507},105.35288442112378]
["2","Obveze (AOP 148+157+158+174+202) ",147,{"$f":"D159+D168+D169+D185+D213","v":912882},{"$f":"E159+E168+E169+E185+E213","v":912432},99.950705567641819]
["23","Obveze za rashode poslovanja (AOP 149 do 156)",148,{"$f":"SUM(D160:D167)","v":912882},{"$f":"SUM(E160:E167)","v":912432},{"$f":"IF(D159>0,IF(E159/D159>=100,\">>100\",E159/D159*100),\"-\")","v":99.950705567641819}]
["231","Obveze za zaposlene",149,714252,712230,99.716906637993304]
["232","Obveze za materijalne rashode",150,191196,176420,92.271804849473838]
["234","Obveze za financijske rashode",151,0,0,"-"]
["235","Obveze za subvencije",152,0,0,"-"]
["236","Obveze temeljem sredstava pomoći EU",153,0,0,"-"]
["237","Obveze za naknade građanima i kućanstvima",154,0,0,"-"]
["238","Obveze za kazne, naknade šteta i kapitalne pomoći",155,0,0,"-"]
["239","Ostale tekuće obveze",156,7434,23782,319.90852838310462]
["24","Obveze za nabavu nefinancijske imovine",157,0,0,"-"]
["25","Obveze za vrijednosne papire (AOP 159+166-173)",158,{"$f":"D170+D177-D184","v":0},{"$f":"E170+E177-E184","v":0},"-"]
[null,"Obveze za vrijednosne papire - tuzemne (AOP 160 do 165)",159,{"$f":"SUM(D171:D176)","v":0},{"$f":"SUM(E171:E176)","v":0},"-"]
["2511","Obveze za čekove",160,0,0,"-"]
["2521","Obveze za trezorske zapise",161,0,0,"-"]
["2531","Obveze za mjenice",162,0,0,"-"]
["2541","Obveze za obveznice",163,0,0,"-"]
["2551","Obveze za opcije i druge financijske derivate",164,0,0,"-"]
["2561","Obveze za ostale vrijednosne papire",165,0,0,"-"]
[null,"Obveze za vrijednosne papire - inozemne (AOP 167 do 172)",166,{"$f":"SUM(D178:D183)","v":0},{"$f":"SUM(E178:E183)","v":0},"-"]
["2512","Obveze za čekove",167,0,0,"-"]
["2522","Obveze za trezorske zapise",168,0,0,"-"]
["2532","Obveze za mjenice",169,0,0,"-"]
["2542","Obveze za obveznice",170,0,0,"-"]
["2552","Obveze za opcije i druge financijske derivate",171,0,0,"-"]
["2562","Obveze za ostale vrijednosne papire",172,0,0,"-"]
["259","Ispravak vrijednosti obveza za vrijednosne papire",173,0,0,"-"]
["26","Obveze za kredite i zajmove (AOP 175+192)",174,{"$f":"D186+D203","v":0},{"$f":"E186+E203","v":0},"-"]
[null,"Obveze za kredite i zajmove - tuzemne (AOP 176 do 191)",175,{"$f":"SUM(D187:D202)","v":0},{"$f":"SUM(E187:E202)","v":0},"-"]
["2622","Obveze za kredite od kreditnih institucija u javnom sektoru",176,0,0,"-"]
["2623","Obveze za zajmove od osiguravajućih društava u javnom sektoru",177,0,0,"-"]
["2624","Obveze za zajmove od ostalih financijskih institucija u javnom sektoru",178,0,0,"-"]
["2631","Obveze za zajmove od trgovačkih društava u javnom sektoru",179,0,0,"-"]
["2643","Obvez za kredite od tuzemnih kreditnih institucija izvan javnog sektora",180,0,0,"-"]
["2644","Obveze za zajmove od tuzemnih osiguravajućih društava izvan javnog sektora",181,0,0,"-"]
["2645","Obveze za zajmove od ostalih tuzemnih financijskih institucija izvan javnog sektora",182,0,0,"-"]
["2653","Obveze za zajmove od tuzemnih trgovačkih društava izvan javnog sektora",183,0,0,"-"]
["2654","Obveze za zajmove od tuzemnih obrtnika",184,0,0,"-"]
["2671","Obveze za zajmove od državnog proračuna",185,0,0,"-"]
["2672","Obveze za zajmove od županijskih proračuna",186,0,0,"-"]
["2673","Obveze za zajmove od gradskih proračuna",187,0,0,"-"]
["2674","Obveze za zajmove od općinskih proračuna",188,0,0,"-"]
["2675","Obveze za zajmove od HZMO-a, HZZ-a i HZZO-a",189,0,0,"-"]
["2676","Obveze za zajmove od ostalih izvanproračunskih korisnika državnog proračuna",190,0,0,"-"]
["2677","Obveze za zajmove od izvanproračunskih korisnika županijskih, gradskih i općinskih proračuna",191,0,0,"-"]
[null,"Obveze za kredite i zajmove - inozemne (AOP 193 do 201)",192,{"$f":"SUM(D204:D212)","v":0},{"$f":"SUM(E204:E212)","v":0},"-"]
["2613","Obveze za zajmove od međunarodnih organizacija",193,0,0,"-"]
["2614","Obveze za kredite i zajmove od institucija i tijela EU",194,0,0,"-"]
[2615,"Obveze za zajmove od inozemnih vlada u EU",195,0,0,"-"]
[2616,"Obveze za zajmove od inozemnih vlada izvan EU",196,0,0,"-"]
[2646,"Obveze za kredite od inozemnih kreditnih institucija",197,0,0,"-"]
[2647,"Obveze za zajmove od inozemnih osiguravajućih društava",198,0,0,"-"]
[2648,"Obveze za zajmove od ostalih inozemnih financijskih institucija",199,0,0,"-"]
[2655,"Obveze za zajmove od inozemnih trgovačkih društava",200,0,0,"-"]
[2656,"Obveze za zajmove od inozemnih obrtnika",201,0,0,"-"]
["29","Odgođeno plaćanje rashoda i prihodi budućih razdoblja (AOP 203+204)",202,{"$f":"SUM(D214:D215)","v":0},{"$f":"SUM(E214:E215)","v":0},"-"]
["291","Odgođeno plaćanje rashoda",203,0,0,"-"]
["292","Naplaćeni prihodi budućih razdoblja",204,0,0,"-"]
["9","Vlastiti izvori (206+214-218+222+223+224)",205,{"$f":"D217+D225-D229+D233+D234+D235","v":8090675},{"$f":"E217+E225-E229+E233+E234+E235","v":8573075},105.96241969922164]
["91","Vlastiti izvori i ispravak vlastitih izvora (AOP 207-210)",206,{"$f":"D218-D221","v":8132792},{"$f":"E218-E221","v":8410026},103.40884163765654]
["911","Vlastiti izvori (AOP 208+209)",207,{"$f":"SUM(D219:D220)","v":8132792},{"$f":"SUM(E219:E220)","v":8410026},103.40884163765654]
["9111","Vlastiti izvori iz proračuna",208,8132792,8410026,103.40884163765654]
["9112","Ostali vlastiti izvori",209,0,0,"-"]
["912","Ispravak vlastitih izvora za obveze (AOP 211+212)",210,{"$f":"SUM(D222:D223)","v":0},{"$f":"SUM(E222:E223)","v":0},"-"]
["9121","Ispravak vlastitih izvora iz proračuna za obveze",211,0,0,"-"]
["9122","Ispravak ostalih vlastitih izvora za obveze",212,0,0,{"$f":"IF(D223>0,IF(E223/D223>=100,\">>100\",E223/D223*100),\"-\")","v":"-"}]
["922","Višak/manjak prihoda (ne upisuje se podatak)",213,0,0,"-"]
["9221","Višak prihoda (AOP 215 do 217)",214,{"$f":"SUM(D226:D228)","v":0},{"$f":"SUM(E226:E228)","v":163049},"-"]
["92211","Višak prihoda poslovanja",215,0,163049,"-"]
["92212","Višak prihoda od nefinancijske imovine",216,0,0,"-"]
["92213","Višak primitaka od financijske imovine",217,0,0,"-"]
["9222","Manjak prihoda (AOP 219 do 221)",218,{"$f":"SUM(D230:D232)","v":42117},{"$f":"SUM(E230:E232)","v":0},0]
["92221","Manjak prihoda poslovanja",219,42117,0,0]
["92222","Manjak prihoda od nefinancijske imovine",220,0,0,"-"]
["92223","Manjak primitaka od financijske imovine",221,0,0,"-"]
["96","Obračunati prihodi poslovanja",222,0,0,"-"]
["97","Obračunati prihodi od prodaje nefinancijske imovine",223,0,0,"-"]
["98","Rezerviranja viška prihoda",224,0,0,"-"]
["99","Izvanbilančni zapisi (= 0)",225,0,0,"-"]
["991","Izvanbilančni zapisi - aktiva (AOP 227)",226,{"$f":"D238","v":0},{"$f":"E238","v":0},"-"]
["996","Izvanbilančni zapisi - pasiva",227,0,0,"-"]
["OBVEZNI ANALITIČKI PODACI"]
[13411,"Zajmovi trgovačkim društvima u javnom sektoru - kratkoročni",228,0,0,"-"]
[13412,"Zajmovi trgovačkim društvima u javnom sektoru - dugoročni",229,0,0,"-"]
[13631,"Zajmovi tuzemnim trgovačkim društvima izvan javnog sektora - kratkoročni",230,0,0,"-"]
[13632,"Zajmovi tuzemnim trgovačkim društvima izvan javnog sektora - dugoročni",231,0,0,{"$f":"IF(D243>0,IF(E243/D243>=100,\">>100\",E243/D243*100),\"-\")","v":"-"}]
[13641,"Zajmovi tuzemnim obrtnicima - kratkoročni",232,0,0,"-"]
[13642,"Zajmovi tuzemnim obrtnicima - dugoročni",233,0,0,"-"]
[13711,"Zajmovi državnom proračunu - kratkoročni",234,0,0,"-"]
[13712,"Zajmovi državnom proračunu - dugoročni",235,0,0,"-"]
[13721,"Zajmovi županijskim proračunima - kratkoročni",236,0,0,"-"]
[13722,"Zajmovi županijskim proračunima - dugoročni",237,0,0,{"$f":"IF(D249>0,IF(E249/D249>=100,\">>100\",E249/D249*100),\"-\")","v":"-"}]
["13731","Zajmovi gradskim proračunima - kratkoročni",238,0,0,"-"]
["13732","Zajmovi gradskim proračunima - dugoročni",239,0,0,"-"]
["13741","Zajmovi općinskim proračunima - kratkoročni",240,0,0,"-"]
["13742","Zajmovi općinskim proračunima - dugoročni",241,0,0,"-"]
["13751","Zajmovi HZMO-u, HZZ-u, HZZO-u - kratkoročni",242,0,0,"-"]
["13752","Zajmovi HZMO-u, HZZ-u, HZZO-u - dugoročni",243,0,0,"-"]
["13761","Zajmovi ostalim izvanproračunskim korisnicima državnog proračuna - kratkoročni",244,0,0,"-"]
["13762","Zajmovi ostalim izvanproračunskim korisnicima državnog proračuna - dugoročni",245,0,0,"-"]
["13771","Zajmovi izvanproračunskim korisnicima županijskih, gradskih i općinskih proračuna - kratkoročni",246,0,0,"-"]
["13772","Zajmovi izvanproračunskim korisnicima županijskih, gradskih i općinskih proračuna - dugoročni",247,0,0,"-"]
["26711","Obveze za zajmove od državnog proračuna - kratkoročne",248,0,0,"-"]
["26712","Obveze za zajmove od državnog proračuna - dugoročne",249,0,0,"-"]
["26721","Obveze za zajmove od županijskih proračuna - kratkoročne",250,0,0,"-"]
["26722","Obveze za zajmove od županijskih proračuna - dugoročne",251,0,0,"-"]
["26731","Obveze za zajmove od gradskih proračuna - kratkoročne",252,0,0,"-"]
["26732","Obveze za zajmove od gradskih proračuna - dugoročne",253,0,0,"-"]
["26741","Obveze za zajmove od općinskih proračuna - kratkoročne",254,0,0,"-"]
["26742","Obveze za zajmove od općinskih proračuna - dugoročne",255,0,0,"-"]
["26751","Obveze za zajmove od HZMO-a, HZZ-a i HZZO-a - kratkoročne",256,0,0,"-"]
["26752","Obveze za zajmove od HZMO-a, HZZ-a i HZZO-a - dugoročne",257,0,0,"-"]
["26761","Obveze za zajmove od ostalih izvanproračunskih korisnika državnog proračuna - kratkoročne",258,0,0,"-"]
["26762","Obveze za zajmove od ostalih izvanproračunskih korisnika državnog proračuna - dugoročne",259,0,0,{"$f":"IF(D271>0,IF(E271/D271>=100,\">>100\",E271/D271*100),\"-\")","v":"-"}]
["26771","Obveze za zajmove od izvanproračunskih korisnika županijskih, gradskih i općinskih proračuna - kratkoročne",260,0,0,"-"]
["26772","Obveze za zajmove od izvanproračunskih korisnika županijskih, gradskih i općinskih proračuna - dugoročne",261,0,0,"-"]
[null,"Kontrolni zbroj (AOP 228 do 261)",262,{"$f":"SUM(D240:D273)","v":0},{"$f":"SUM(E240:E273)","v":0},"-"]
["OBVEZNI ANALITIČKI PODACI O JAMSTVIMA"]
[null,"Stanje aktivnih jamstava 1.1.",263,0,0,{"$f":"IF(D276>0,IF(E276/D276>=100,\">>100\",E276/D276*100),\"-\")","v":"-"}]
[null,"Protestirana jamstva u tekućoj godini",264,0,0,"-"]
[null,"Iznos naplaćen u tekućoj godini po protestiranim jamstvima",265,0,0,"-"]
[null,"Izdana jamstva u tekućoj godini",266,0,0,"-"]
[null,"Jamstva istekla u tekućoj godini",267,0,0,"-"]
[null,"Stanje aktivnih jamstava 31.12. (AOP 263+266-267)",268,{"$f":"D276+D279-D280","v":0},{"$f":"E276+E279-E280","v":0},"-"]
[null,"Primljeni povrati od prvobitnih dužnika za koje je jamstvo plaćeno",269,0,0,"-"]
[null,"Kontrolni zbroj (AOP 263 do 269)",270,{"$f":"SUM(D276:D282)","v":0},{"$f":"SUM(E276:E282)","v":0},"-"]
["OBVEZNI ANALITIČKI PODACI O DUGOROČNIM DEPOZITIMA"]
[null,"Stanje dugoročnih depozita 1.1.",271,0,0,{"$f":"IF(D285>0,IF(E285/D285>=100,\">>100\",E285/D285*100),\"-\")","v":"-"}]
[null,"Položeni dugoročni depoziti u tekućoj godini",272,0,0,{"$f":"IF(D286>0,IF(E286/D286>=100,\">>100\",E286/D286*100),\"-\")","v":"-"}]
[null,"Povlačenje dugoročnih depozita",273,0,0,{"$f":"IF(D287>0,IF(E287/D287>=100,\">>100\",E287/D287*100),\"-\")","v":"-"}]
[null,"Stanje dugoročnih depozita 31.12. (AOP 271+272-273)",274,{"$f":"D285+D286-D287","v":0},{"$f":"E285+E286-E287","v":0},{"$f":"IF(D288>0,IF(E288/D288>=100,\">>100\",E288/D288*100),\"-\")","v":"-"}]
[null,"Kontrolni zbroj (AOP 271 do 274)",275,{"$f":"SUM(D285:D288)","v":0},{"$f":"SUM(E285:E288)","v":0},{"$f":"IF(D289>0,IF(E289/D289>=100,\">>100\",E289/D289*100),\"-\")","v":"-"}]

{"sheet":"Obv","index":8,"n_rows":110,"n_cols":4,"rows_kept":110,"cut":false,"hidden":false,"merged":[[3,1,3,5],[4,1,4,5],[5,1,5,5],[6,1,6,5],[0,0,0,1],[1,2,1,3],[1,0,1,1],[2,0,2,1],[0,2,0,3]]}
["<–––– Povratak na RefStr",null,"Kontrole ––––>"]
["IZVJEŠTAJ O OBVEZAMA",null,{"$f":"IF(RefStr!K12-RefStr!K10 < 32,\"Obveze\n(VP 160)\",\"Obveze\n(VP 159)\")","v":"Obveze\n(VP 159)"}]
[{"$f":"IF(RefStr!F6<>\"\",IF(OR(RefStr!K12-RefStr!K10 < 32),LOOKUP(RefStr!F6,RefStr!N40:N64,RefStr!O40:O64),LOOKUP(RefStr!F6,RefStr!N40:N64,RefStr!P40:P64)),\" - razdoblje izvještavanja nije odabrano -\")","v":"za razdoblje 1. listopada do 31. prosinca 2014. godine"}]
["Obveznik:",{"$f":" \"RKP: \" & TEXT(INT(VALUE(RefStr!B6)),\"00000\") & \",  \" & \"MB: \" & TEXT(INT(VALUE(RefStr!B8)), \"00000000\") & \"  \" & RefStr!B10","v":"RKP: 14402,  MB: 03324281  OŠ VUGROVEC - KAŠINA"}]
[null,{"$f":"RefStr!B12 & \" \" & RefStr!C12 & \", \" & RefStr!B14","v":"10362 KAŠINA, IVANA MAŽURANIĆA 43"}]
[null,{"$f":" \"Razina: \" & RefStr!B16 & \", Razdjel: \" & TEXT(INT(VALUE(RefStr!B20)), \"000\")","v":"Razina: 31, Razdjel: 000"}]
[null,{"$f":"\"Djelatnost: \" & RefStr!B18 & \" \" & RefStr!C18","v":"Djelatnost: 8520 Osnovno obrazovanje"}]
[]
[null,null,null,"iznosi u kunama, bez lipa"]
["Račun iz rač. plana","OPIS","AOP","Iznos"]
[1,2,3,4]
[null,"Stanje obveza na početku izvještajnog razdoblja (=AOP 036 iz prethodnog izvještaja)",1]
[null,"Povećanje obveza u izvještajnom razdoblju (AOP 003+004+012+013)",2,{"$f":"D14+D15+D23+D24","v":0}]
[null,"Međusobne obveze proračunskih korisnika",3]
["23","Obveze za rashode poslovanja (AOP 005 do 011)",4,{"$f":"SUM(D16:D22)","v":0}]
["231","Obveze za zaposlene",5]
["232","Obveze za materijalne rashode",6]
["234","Obveze za financijske rashode",7]
["235","Obveze za subvencije",8]
["236","Obveze temeljem sredstava pomoći EU",9]
["237","Obveze za naknade građanima i kućanstvima",10]
[238.239,"Obveze za kazne, naknade šteta i kapitalne pomoći te ostale tekuće obveze",11]
["24","Obveze za nabavu nefinancijske imovine",12]
["dio 25,26","Obveze za financijsku imovinu (AOP 014 do 018)",13,{"$f":"SUM(D25:D29)","v":0}]
[251.25299999999999,"Obveze za čekove i mjenice",14]
["254","Obveze za obveznice",15]
["256","Obveze za ostale vrijednosne papire",16]
["262,263,2643,2644,\n2645,2653,2654,267","Obveze za tuzemne kredite i zajmove",17]
["261,2646,2647, 2648,2655,2656","Obveze za inozemne kredite i zajmove",18]
[null,"Podmirene obveze u izvještajnom razdoblju (AOP 020+021+029+030)",19,{"$f":"D31+D32+D40+D41","v":0}]
[null,"Međusobne obveze proračunskih korisnika",20]
["23","Obveze za rashode poslovanja (AOP 022 do 028)",21,{"$f":"SUM(D33:D39)","v":0}]
["231","Obveze za zaposlene",22]
["232","Obveze za materijalne rashode",23]
["234","Obveze za financijske rashode",24]
["235","Obveze za subvencije",25]
["236","Obveze temeljem sredstava pomoći EU",26]
["237","Obveze za naknade građanima i kućanstvima",27]
[238.239,"Obveze za kazne, naknade šteta i kapitalne pomoći te ostale tekuće obveze",28]
["24","Obveze za nabavu nefinancijske imovine",29]
["dio 25,26","Obveze za financijsku imovinu (AOP 031 do 035)",30,{"$f":"SUM(D42:D46)","v":0}]
[251.25299999999999,"Obveze za čekove i mjenice",31]
["254","Obveze za obveznice",32]
["256","Obveze za ostale vrijednosne papire",33]
["262,263,2643,2644, 2645,2653,2654,267","Obveze za tuzemne kredite i zajmove",34]
["261,2646,2647, 2648,2655,2656","Obveze za inozemne kredite i zajmove",35]
[null,"Stanje obveza na kraju izvještajnog razdoblja (AOP 001+002-019) i (AOP 037+090)",36,{"$f":"D12+D13-D30","v":0}]
[null,"Stanje dospjelih obveza na kraju izvještajnog razdoblja (AOP 038+043+079+084)",37,{"$f":"D49+D54+D90+D95","v":0}]
[null,"Međusobne obveze proračunskih korisnika (AOP 039 do 042)",38,{"$f":"SUM(D50:D53)","v":0}]
[null,"a) Prekoračenje 1 do 60 dana",39]
[null,"b) Prekoračenje 61 do 180 dana",40]
[null,"c) Prekoračenje 181 do 360 dana",41]
[null,"d) Prekoračenje preko 360 dana",42]
["23","Ukupno obveze za rashode poslovanja (AOP 044+049+054+059+064+069+074)",43,{"$f":"D55+D60+D65+D70+D75+D80+D85","v":0}]
["231","Obveze za zaposlene (AOP 045 do 048)",44,{"$f":"SUM(D56:D59)","v":0}]
[null,"a) Prekoračenje 1 do 60 dana",45]
[null,"b) Prekoračenje 61 do 180 dana",46]
[null,"c) Prekoračenje 181 do 360 dana",47]
[null,"d) Prekoračenje preko 360 dana",48]
["232","Obveze za materijalne rashode (AOP 050 do 053)",49,{"$f":"SUM(D61:D64)","v":0}]
[null,"a) Prekoračenje 1 do 60 dana",50]
[null,"b) Prekoračenje 61 do 180 dana",51]
[null,"c) Prekoračenje 181 do 360 dana",52]
[null,"d) Prekoračenje preko 360 dana",53]
["234","Obveze za financijske rashode (AOP 055 do 058)",54,{"$f":"SUM(D66:D69)","v":0}]
[null,"a) Prekoračenje 1 do 60 dana",55]
[null,"b) Prekoračenje 61 do 180 dana",56]
[null,"c) Prekoračenje 181 do 360 dana",57]
[null,"d) Prekoračenje preko 360 dana",58]
["235","Obveze za subvencije (AOP 060 do 063)",59,{"$f":"SUM(D71:D74)","v":0}]
[null,"a) Prekoračenje 1 do 60 dana",60]
[null,"b) Prekoračenje 61 do 180 dana",61]
[null,"c) Prekoračenje 181 do 360 dana",62]
[null,"d) Prekoračenje preko 360 dana",63]
["236","Obveze temeljem sredstava pomoći EU (AOP 065 do 068)",64,{"$f":"SUM(D76:D79)","v":0}]
[null,"a) Prekoračenje 1 do 60 dana",65]
[null,"b) Prekoračenje 61 do 180 dana",66]
[null,"c) Prekoračenje 181 do 360 dana",67]
[null,"d) Prekoračenje preko 360 dana",68]
["237","Obveze za naknade građanima i kućanstvima (AOP 070 do 073)",69,{"$f":"SUM(D81:D84)","v":0}]
[null,"a) Prekoračenje 1 do 60 dana",70]
[null,"b) Prekoračenje 61 do 180 dana",71]
[null,"c) Prekoračenje 181 do 360 dana",72]
[null,"d) Prekoračenje preko 360 dana",73]
[238.239,"Obveze za kazne, naknade šteta i kapitalne pomoći te ostale tekuće obveze (AOP 075 do 078)",74,{"$f":"SUM(D86:D89)","v":0}]
[null,"a) Prekoračenje 1 do 60 dana",75]
[null,"b) Prekoračenje 61 do 180 dana",76]
[null,"c) Prekoračenje 181 do 360 dana",77]
[null,"d) Prekoračenje preko 360 dana",78]
["24","Obveze za nabavu nefinancijske imovine (AOP 080 do 083)",79,{"$f":"SUM(D91:D94)","v":0}]
[null,"a) Prekoračenje 1 do 60 dana",80]
[null,"b) Prekoračenje 61 do 180 dana",81]
[null,"c) Prekoračenje 181 do 360 dana",82]
[null,"d) Prekoračenje preko 360 dana",83]
["dio 25,26","Obveze za financijsku imovinu (AOP 085 do 089)",84,{"$f":"SUM(D96:D100)","v":0}]
[251.25299999999999,"Obveze za čekove i mjenice",85]
["254","Obveze za obveznice",86]
["256","Obveze za ostale vrijednosne papire",87]
["262,263,2643,2644, 2645,2653,2654,267","Obveze za tuzemne kredite i zajmove",88]
["261,2646,2647, 2648,2655,2656","Obveze za inozemne kredite i zajmove",89]
[null,"Stanje nedospjelih obveza na kraju izvještajnog razdoblja (AOP 091 do 094)",90,{"$f":"SUM(D102:D105)","v":0}]
[null,"Međusobne obveze proračunskih korisnika",91]
["23","Obveze za rashode poslovanja",92]
["24","Obveze za nabavu nefinancijske imovine",93]
["dio 25,26","Obveze za financijsku imovinu",94]
[]
[{"$f":" \"Zakonski predstavnik: \" & RefStr!H33","v":"Zakonski predstavnik: VLADIMIR VUGER"}]
[null,"M.P."]
[null,null,null,"___________________________________"]
[null,null,"(potpis zakonskog predstavnika)"]

{"sheet":"SPRRAS","index":9,"n_rows":141,"n_cols":6,"rows_kept":141,"cut":false,"hidden":false,"merged":[[2,0,2,3],[102,0,102,3],[3,1,3,5],[4,1,4,5],[5,1,5,5],[6,1,6,5],[0,0,0,2],[0,3,0,5],[39,0,39,5],[1,0,1,3],[1,4,1,5]]}
["<–––– Povratak na RefStr",null,null,"Kontrole ––––>"]
["IZVJEŠTAJ O PRIHODIMA I RASHODIMA KORISNIKA PRORAČUNA",null,null,null,"Obrazac S-PR-RAS\nVP 161"]
[{"$f":"IF(RefStr!F6=\"\",\"- prije popunjavanja obrasca odaberite razdoblje -\",IF(OR(RIGHT(RefStr!F6,2)=\"03\",RIGHT(RefStr!F6,2)=\"09\"),LOOKUP(RefStr!F6,RefStr!N40:N64,RefStr!Q40:Q64),\" - za odabrano razdoblje obrazac se ne popunjava -\"))","v":" - za odabrano razdoblje obrazac se ne popunjava -"}]
["Obveznik:",{"$f":" \"RKP: \" & TEXT(INT(VALUE(RefStr!B6)),\"00000\") & \",  \" & \"MB: \" & TEXT(INT(VALUE(RefStr!B8)), \"00000000\") & \"  \" & RefStr!B10","v":"RKP: 14402,  MB: 03324281  OŠ VUGROVEC - KAŠINA"}]
[null,{"$f":"RefStr!B12 & \" \" & RefStr!C12 & \", \" & RefStr!B14","v":"10362 KAŠINA, IVANA MAŽURANIĆA 43"}]
[null,{"$f":" \"Razina: \" & RefStr!B16 & \", Razdjel: \" & TEXT(INT(VALUE(RefStr!B20)), \"000\")","v":"Razina: 31, Razdjel: 000"}]
[null,{"$f":"\"Djelatnost: \" & RefStr!B18 & \" \" & RefStr!C18","v":"Djelatnost: 8520 Osnovno obrazovanje"}]
[]
[null,null,null,null,null,"iznosi u kunama, bez lipa"]
["Rač. iz rač. plana","NAZIV","AOP","Ostvareno u izvještajnom razdoblju prethodne godine","Ostvareno u izvještajnom razdoblju tekuće godine","Indeks\n(5/4)"]
[1,2,3,4,5,6]
[6,"PRIHODI POSLOVANJA (AOP 002 do 007) ",1,{"$f":"SUM(D13:D18)","v":0},{"$f":"SUM(E13:E18)","v":0},{"$f":"IF(D12>0,IF(E12/D12>=100,\">>100\",E12/D12*100),\"-\")","v":"-"}]
["63","Pomoći iz inozemstva (darovnice) i od subjekata unutar općeg proračuna ",2,null,null,{"$f":"IF(D13>0,IF(E13/D13>=100,\">>100\",E13/D13*100),\"-\")","v":"-"}]
["64","Prihodi od imovine ",3,null,null,{"$f":"IF(D14>0,IF(E14/D14>=100,\">>100\",E14/D14*100),\"-\")","v":"-"}]
["65","Prihodi od upravnih i administrativnih pristojbi, pristojbi po posebnim propisima i naknada",4,null,null,{"$f":"IF(D15>0,IF(E15/D15>=100,\">>100\",E15/D15*100),\"-\")","v":"-"}]
["66","Prihodi od prodaje proizvoda i robe te pruženih usluga i prihodi od donacija ",5,null,null,{"$f":"IF(D16>0,IF(E16/D16>=100,\">>100\",E16/D16*100),\"-\")","v":"-"}]
["67","Prihodi iz proračuna",6,null,null,{"$f":"IF(D17>0,IF(E17/D17>=100,\">>100\",E17/D17*100),\"-\")","v":"-"}]
["68","Kazne, upravne mjere i ostali prihodi",7,null,null,"-"]
["3","RASHODI POSLOVANJA (AOP 009 do 015) ",8,{"$f":"SUM(D20:D26)","v":0},{"$f":"SUM(E20:E26)","v":0},"-"]
["31","Rashodi za zaposlene ",9,null,null,"-"]
["32","Materijalni rashodi ",10,null,null,"-"]
["34","Financijski rashodi ",11,null,null,"-"]
["35","Subvencije ",12,null,null,"-"]
["36","Pomoći dane u inozemstvo i unutar općeg proračuna ",13,null,null,"-"]
["37","Naknade građanima i kućanstvima na temelju osiguranja i druge naknade ",14,null,null,"-"]
["38","Ostali rashodi ",15,null,null,"-"]
[null,"Stanje zaliha proizvodnje i gotovih proizvoda na početku razdoblja",16,null,null,"-"]
[null,"Stanje zaliha proizvodnje i gotovih proizvoda na kraju razdoblja ",17,null,null,"-"]
[null,"Povećanje zaliha proizvodnje i gotovih proizvoda (AOP 017-016)",18,{"$f":"IF(D28>=D27,D28-D27,0)","v":0},{"$f":"IF(E28>=E27,E28-E27,0)","v":0},{"$f":"IF(D29>0,IF(E29/D29>=100,\">>100\",E29/D29*100),\"-\")","v":"-"}]
[null,"Smanjenje zaliha proizvodnje i gotovih proizvoda (AOP 016-017) ",19,{"$f":"IF(D27>=D28,D27-D28,0)","v":0},{"$f":"IF(E27>=E28,E27-E28,0)","v":0},{"$f":"IF(D30>0,IF(E30/D30>=100,\">>100\",E30/D30*100),\"-\")","v":"-"}]
["7","PRIHODI OD PRODAJE NEFINANCIJSKE IMOVINE",20,null,null,{"$f":"IF(D31>0,IF(E31/D31>=100,\">>100\",E31/D31*100),\"-\")","v":"-"}]
["4","RASHODI ZA NABAVU NEFINANCIJSKE IMOVINE (AOP 022 do 026)",21,{"$f":"SUM(D33:D37)","v":0},{"$f":"SUM(E33:E37)","v":0},"-"]
["41","Rashodi za nabavu neproizvedene dugotrajne imovine ",22,null,null,"-"]
["42","Rashodi za nabavu proizvedene dugotrajne imovine ",23,null,null,"-"]
["43","Rashodi za nabavu plemenitih metala i ostalih pohranjenih vrijednosti ",24,null,null,"-"]
["44","Rashodi za nabavu proizvedene kratkotrajne imovine ",25,null,null,"-"]
["45","Rashodi za dodatna ulaganja na nefinancijskoj imovini ",26,null,null,"-"]
[null,"UKUPNI PRIHODI (AOP 001+020)",27,{"$f":"D12+D31","v":0},{"$f":"E12+E31","v":0},{"$f":"IF(D38>0,IF(E38/D38>=100,\">>100\",E38/D38*100),\"-\")","v":"-"}]
[null,"UKUPNI RASHODI (AOP 008-018+021 ili AOP 008+019+021)",28,{"$f":"D19-D29+D30+D32","v":0},{"$f":"E19-E29+E30+E32","v":0},{"$f":"IF(D39>0,IF(E39/D39>=100,\">>100\",E39/D39*100),\"-\")","v":"-"}]
["OBVEZNI ANALITIČKI PODACI"]
[null,"Prosječan broj zaposlenih kod korisnika na osnovi stanja krajem izvještajnog razdoblja (cijeli broj)",29,null,null,{"$f":"IF(D41>0,IF(E41/D41>=100,\">>100\",E41/D41*100),\"-\")","v":"-"}]
[null,"Prosječan broj zaposlenih kod korisnika na osnovi sati rada (cijeli broj)",30,null,null,"-"]
["6311","Tekuće pomoći od inozemnih vlada",31,null,null,"-"]
["6312","Kapitalne pomoći od inozemnih vlada",32,null,null,"-"]
["6321","Tekuće pomoći od međunarodnih organizacija",33,null,null,"-"]
["6322","Kapitalne pomoći od međunarodnih organizacija",34,null,null,"-"]
["6323","Tekuće pomoći od institucija i tijela EU",35,null,null,"-"]
["6324","Kapitalne pomoći od institucija i tijela EU",36,null,null,"-"]
["661","Prihodi od prodaje proizvode i robe te pruženih usluga",37,null,null,"-"]
["6631","Tekuće donacije",38,null,null,"-"]
["6632","Kapitalne donacije ",39,null,null,"-"]
["671","Prihodi iz proračuna za financiranje redovne djelatnosti proračunskih korisnika       ",40,null,null,"-"]
["31","Rashodi za zaposlene kod korisnika (AOP 042+045+046)",41,{"$f":"D54+D57+D58","v":0},{"$f":"E54+E57+E58","v":0},"-"]
["311","Plaće (bruto)",42,null,null,"-"]
["dio 311","Neto plaće kod korisnika",43,null,null,"-"]
["dio 311","Porez i prirez iz plaće kod korisnika",44,null,null,"-"]
["312","Ostali rashodi za zaposlene ",45,null,null,"-"]
["313","Doprinosi na plaće ",46,null,null,"-"]
["32","Materijalni rashodi kod korisnika",47,null,null,"-"]
["3211","Službena putovanja",48,null,null,"-"]
["3212","Naknade za prijevoz, za rad na terenu i odvojeni život",49,null,null,"-"]
["3213","Stručno usavršavanje zaposlenika",50,null,null,"-"]
["3214","Ostale naknade troškova zaposlenima",51,null,null,"-"]
["3221","Uredski materijal i ostali materijalni rashodi",52,null,null,"-"]
["3222","Materijal i sirovine",53,null,null,"-"]
["3223","Energija",54,null,null,"-"]
["3225","Sitni inventar i auto gume",55,null,null,"-"]
["3226","Vojna oprema ",56,null,null,"-"]
["3227","Službena, radna i zaštitna odjeća i obuća",57,null,null,"-"]
["323","Rashodi za usluge ",58,null,null,"-"]
["3237","Intelektualne i osobne usluge",59,null,null,"-"]
["3291","Naknade za rad predstavničkih i izvršnih tijela, povjerenstava i slično",60,null,null,"-"]
["3292","Premije osiguranja",61,null,null,"-"]
["3293","Reprezentacija",62,null,null,"-"]
["3294","Članarine",63,null,null,"-"]
["3431","Bankarske usluge i usluge platnog prometa",64,null,null,"-"]
["3611","Tekuće pomoći inozemnim vladama",65,null,null,"-"]
["3612","Kapitalne pomoći inozemnim vladama",66,null,null,"-"]
["3621","Tekuće pomoći međunarodnim organizacijama te institucijama i tijelima EU",67,null,null,"-"]
["3622","Kapitalne pomoći međunarodnim organizacijama te institucijama i tijelima EU",68,null,null,"-"]
["381","Tekuće donacije",69,null,null,"-"]
["382","Kapitalne donacije ",70,null,null,"-"]
["4112","Rudna bogatstva",71,null,null,"-"]
["4113","Ostala prirodna materijalna imovina",72,null,null,"-"]
["418","Predujmovi za nabavu neproizvedene imovine  ",73,null,null,"-"]
["4211","Stambeni objekti",74,null,null,"-"]
["4212","Poslovni objekti",75,null,null,"-"]
["4213","Ceste, željeznice i ostali prometni objekti",76,null,null,"-"]
["4214","Ostali građevinski objekti",77,null,null,"-"]
["422","Postrojenja i oprema ",78,null,null,"-"]
["423","Prijevozna sredstva ",79,null,null,"-"]
["424","Knjige, umjetnička djela i ostale izložbene vrijednosti ",80,null,null,"-"]
["425","Višegodišnji nasadi i osnovno stado ",81,null,null,"-"]
["426","Nematerijalna proizvedena imovina ",82,null,null,"-"]
["428","Predujmovi za nabavu proizvedene dugotrajne imovine ",83,null,null,"-"]
["438","Predujmovi za nabavu plemenitih metala, umjetničkih i znanstvenih djela i ostalih vrijednosti ",84,null,null,"-"]
["451","Dodatna ulaganja na građevinskim objektima ",85,null,null,"-"]
["452","Dodatna ulaganja na postrojenjima i opremi ",86,null,null,"-"]
["453","Dodatna ulaganja na prijevoznim sredstvima ",87,null,null,"-"]
["454","Dodatna ulaganja za ostalu nefinancijsku imovinu ",88,null,null,"-"]
["458","Predujmovi za dodatna ulaganja na nefinancijskoj imovini ",89,null,null,"-"]
[null,"Kontrolni zbroj (AOP 029 do 089)",90,{"$f":"SUM(D41:D101)","v":0},{"$f":"SUM(E41:E101)","v":0},{"$f":"IF(D102>0,IF(E102/D102>=100,\">>100\",E102/D102*100),\"-\")","v":"-"}]
["OBVEZNI DODATNI PODACI"]
["Račun iz rač. plana","NAZIV","AOP","Stanje na kraju izvještajnog razdoblja"]
[1,2,3,4]
[null,"Stanje potraživanja za dane zajmove tuzemnim trgovačkim društvima i obrtnicima te drugim razinama vlasti (AOP 092 do 111)",91,{"$f":"SUM(D107:D126)","v":0}]
[13411,"Zajmovi trgovačkim društvima u javnom sektoru - kratkoročni",92]
[13412,"Zajmovi trgovačkim društvima u javnom sektoru - dugoročni",93]
[13631,"Zajmovi tuzemnim trgovačkim društvima izvan javnog sektora - kratkoročni",94]
[13632,"Zajmovi tuzemnim trgovačkim društvima izvan javnog sektora - dugoročni",95]
[13641,"Zajmovi tuzemnim obrtnicima - kratkoročni",96]
[13642,"Zajmovi tuzemnim obrtnicima - dugoročni",97]
[13711,"Zajmovi državnom proračunu - kratkoročni",98]
[13712,"Zajmovi državnom proračunu - dugoročni",99]
[13721,"Zajmovi županijskim proračunima - kratkoročni",100]
[13722,"Zajmovi županijskim proračunima - dugoročni",101]
[13731,"Zajmovi gradskim proračunima - kratkoročni",102]
[13732,"Zajmovi gradskim proračunima - dugoročni",103]
[13741,"Zajmovi općinskim proračunima - kratkoročni",104]
[13742,"Zajmovi općinskim proračunima - dugoročni",105]
[13751,"Zajmovi HZMO-u, HZZ-u i HZZO-u - kratkoročni",106]
[13752,"Zajmovi HZMO-u, HZZ-u i HZZO-u - dugoročni",107]
[13761,"Zajmovi ostalim izvanproračunskim korisnicima državnog proračuna - kratkoročni",108]
[13762,"Zajmovi ostalim izvanproračunskim korisnicima državnog proračuna - dugoročni",109]
[13771,"Zajmovi izvanproračunskim korisnicima županijskih, gradskih i općinskih proračuna - kratkoročni",110]
[13772,"Zajmovi izvanproračunskim korisnicima županijskih, gradskih i općinskih proračuna - dugoročni",111]
[267,"Stanje obveza za primljene zajmove od drugih razina vlasti (AOP 113 do 126)",112,{"$f":"SUM(D128:D141)","v":0}]
[26711,"Obveze za zajmove od državnog proračuna - kratkoročne",113]
[26712,"Obveze za zajmove od državnog proračuna - dugoročne",114]
[26721,"Obveze za zajmove od županijskih proračuna - kratkoročne",115]
[26722,"Obveze za zajmove od županijskih proračuna - dugoročne",116]
[26731,"Obveze za zajmove od gradskih proračuna - kratkoročne",117]
[26732,"Obveze za zajmove od gradskih proračuna - dugoročne",118]
[26741,"Obveze za zajmove od općinskih proračuna - kratkoročne",119]
[26742,"Obveze za zajmove od općinskih proračuna - dugoročne",120]
[26751,"Obveze za zajmove od HZMO-a, HZZ-a i HZZO-a - kratkoročne",121]
[26752,"Obveze za zajmove od HZMO-a, HZZ-a i HZZO-a - dugoročne",122]
[26761,"Obveze za zajmove od ostalih izvanproračunskih korisnika državnog proračuna - kratkoročne",123]
[26762,"Obveze za zajmove od ostalih izvanproračunskih korisnika državnog proračuna - dugoročne",124]
[26771,"Obveze za zajmove od izvanproračunskih korisnika županijskih, gradskih i općinskih proračuna - kratkoročne",125]
[26772,"Obveze za zajmove od izvanproračunskih korisnika županijskih, gradskih i općinskih proračuna - dugoročne",126]

{"sheet":"Kont","index":10,"n_rows":321,"n_cols":21,"rows_kept":321,"cut":false,"hidden":false,"merged":[[260,0,260,2],[264,0,264,2],[269,0,269,2],[297,0,297,2],[318,0,318,2],[173,0,173,2],[236,0,236,2],[0,0,0,2],[299,0,299,2],[2,0,2,2],[25,0,25,2],[21,0,21,2],[15,0,15,2],[314,0,314,2]]}
["<–––– Povratak na RefStr",null,null,"VP","REZ","GODINA","MJESEC","RAZINA","PR-RAS","NT","RASF","PVRIO","BIL","OBV","SPRAS","RKP","RAZDJEL",null,null,null,"RAZDJELI"]
["Rbr.","Rezultat kontrole","Opis dodatne kontrole",null,{"$f":"SUM(E3+E26+E237+E261+E265+E16+E270+E300+E319)","v":0},{"$f":"IF(RefStr!F6<>\"\",INT(VALUE(MID(RefStr!F6,1,4))),0)","v":2014},{"$f":"IF(RefStr!F6<>\"\",INT(VALUE(MID(RefStr!F6,6,2))),0)","v":12},{"$f":"RefStr!B16","v":31},{"$f":"RefStr!B25","v":"DA"},{"$f":"RefStr!B27","v":"NE"},{"$f":"RefStr!B29","v":"NE"},{"$f":"RefStr!B31","v":"DA"},{"$f":"RefStr!B33","v":"DA"},{"$f":"RefStr!B35","v":"NE"},{"$f":"RefStr!B37","v":"NE"},{"$f":"RefStr!B6","v":14402},{"$f":"RefStr!B20","v":0},null,null,null,19]
["OPĆENITE KONTROLE - KONTROLE PODATAKA IZ ZAGLAVLJA, KONTROLE POPUNJENOSTI I KONTROLE IZMEĐU OBRAZACA",null,null,null,{"$f":"SUM(E4:E15)","v":0},null,null,null,null,null,null,null,null,null,null,null,null,null,null,null,35]
[1,{"$f":"IF(E4=1,\"Nije zadovoljena\", \"Zadovoljena\")","v":"Zadovoljena"},"Oznaku razdjela upisuju samo obveznici razine 11 i 12, dok sve ostale razine ne upisuju razdjel, tj. u razdjel upisuju nulu.",0,{"$f":"IF(F4<>G4,1,0)","v":0},{"$f":"IF(OR(RefStr!B16=11,RefStr!B16=12),1,0)","v":0},{"$f":"IF(RefStr!B20<>0,1,0)","v":0},null,null,null,null,null,null,null,null,null,null,null,null,null,51]
[{"$f":"1+A4","v":2},"Zadovoljena","Kod tromjesečnih i devetomjesečnih izvještaja nema konsolidacije, ne predaju se konsolidirani obrasci, znači za ta razdoblja obrazac ne može biti razine 23. Kontrola javlja pogrešku ako ste za jedno od tih razdoblja upisali oznaku razine 23.",0,{"$f":"MAX(F5:G5)","v":0},{"$f":"IF(AND($G$2=3,$H$2=23),1,0)","v":0},{"$f":"IF(AND($G$2=9,$H$2=23),1,0)","v":0},null,null,null,null,null,null,null,null,null,null,null,null,null,174]
[3,"Zadovoljena","Popunjenost zaglavlja referentne stranice. Svi podaci u zaglavlju čiji opis je u tamnoplavoj boji moraju biti popunjeni, za one koji nemaju razdjel neka upišu nulu, polje ne smije ostati prazno. Ako ova kontrola nije zadovoljena znači da niste popunili zaglavlje obrasca u potpunosti. Takav obrazac neće moći biti zaprimljen i učitan kroz program. Provjerite još jednom i popunite sva polja na referentnoj stranici.",0,{"$f":"IF(OR(RefStr!B6=0,RefStr!B8=0,RefStr!F6=\"\",LEN(RefStr!B10)<3,RefStr!B12=0,LEN(RefStr!C12)<2,LEN(RefStr!B14)< 5,RefStr!B16=0,RefStr!B18=\"\",RefStr!B20=\"\",RefStr!B22=0,RefStr!K10=\"\",RefStr!K12=\"\"),1,0)","v":0},"1 mjesec",null,"3 i 9 mjesec",null,"6. mjesec",null,"12. mjeseci",null,null,null,null,null,null,null,null,713]
[4,"Zadovoljena","Razina 11\n- ne predaje mjesečni obrazac Obveze (pročitajte dio na početku uputa o predaji nadležnim organima)\n- za kvartalni obračun (prvi i treći kvartal) predaje samo S-PR-RAS obrazac,\n- za polugodište predaje samo PR-RAS obrazac,\n- za kraj godine predaje tri obrasca: PR-RAS, BIL i P-VRIO. \nAko za odabrano razdoblje nije popunjen obrazac koji bi trebao biti, ili je popunjen obrazac koji se ne predaje kontrola javlja pogrešku.",null,{"$f":"IF(F7*G7+H7*I7+J7*K7+L7*M7>0,1,0)","v":0},{"$f":"IF(AND($G$2<>3,$G$2<>6,$G$2<>9, $G$2<>12),1,0)","v":0},{"$f":"IF($H$2=11,1,0)","v":0},{"$f":"IF(AND($H$2=11,OR($G$2=3,$G$2=9)),1,0)","v":0},{"$f":"IF(AND($I$2=\"NE\", $J$2=\"NE\",$K$2=\"NE\",$L$2=\"NE\",$M$2=\"NE\",$N$2=\"NE\",$O$2=\"DA\"),0,1)","v":1},{"$f":"IF(AND($H$2=11,$G$2=6),1,0)","v":0},{"$f":"IF(AND($I$2=\"DA\", $J$2=\"NE\",$K$2=\"NE\",$L$2=\"NE\",$M$2=\"NE\",$N$2=\"NE\",$O$2=\"NE\"),0,1)","v":1},{"$f":"IF(AND($H$2=11,$G$2=12),1,0)","v":0},{"$f":"IF(AND($I$2=\"DA\", $J$2=\"NE\",$K$2=\"NE\",$L$2=\"DA\",$M$2=\"DA\",$N$2=\"NE\",$O$2=\"NE\"),0,1)","v":0},null,null,null,null,null,null,null,721]
[5,"Zadovoljena","Razina 12\n- na mjesečnoj razini predaje obrazac Obveze,\n- za kvartale ne predaje ništa (samo mjesečnog izvještaja Obveze i za ta razdoblja),\n- za polugodište predaju samo obrazac PR-RAS (i mjesečni Obveze za istu oznaku razdoblja)\n- za kraj godine predaje obrasce: PR-RAS, BIL, P-VRIO i RAS-funkcijski.\nS obzirom da rok za predaju mjesečnog obrasca Obveze i ostalih obrazaca nije isti, bez obzira na istu AOP oznaku razdoblja, za polugodište ili godinu ne mogu biti istovremeno popunjeni obrazac Obveze i ostali obvezni obrasci. Za ta razdoblja se predaju dvije Excel datoteke, u jednoj je popunjen samo mjesečni obrazac Obveze i u drugoj se popunjavaju ostali obvezni obrasci. Kontrola javlja pogrešku ako za odabrano razdoblje nije popunjen obrazac koji treba biti ili popunjen obrazac koji se ne predaje.",null,0,{"$f":"IF(AND($H$2=12,$G$2<>3,$G$2<>6,$G$2<>9, $G$2<>12),1,0)","v":0},{"$f":"IF(AND($I$2=\"NE\", $J$2=\"NE\",$K$2=\"NE\",$L$2=\"NE\",$M$2=\"NE\",$N$2=\"DA\",$O$2=\"NE\"),0,1)","v":1},{"$f":"IF(AND($H$2=12,OR($G$2=3,$G$2=9)),1,0)","v":0},{"$f":"IF(AND($I$2=\"NE\", $J$2=\"NE\",$K$2=\"NE\",$L$2=\"NE\",$M$2=\"NE\",$N$2=\"DA\",$O$2=\"NE\"),0,1)","v":1},{"$f":"IF(AND($H$2=12,$G$2=6),1,0)","v":0},{"$f":"IF(OR(AND($I$2=\"DA\", $J$2=\"NE\",$K$2=\"NE\",$L$2=\"NE\",$M$2=\"NE\",$N$2=\"NE\",$O$2=\"NE\"),AND($I$2=\"NE\", $J$2=\"NE\",$K$2=\"NE\",$L$2=\"NE\",$M$2=\"NE\",$N$2=\"DA\",$O$2=\"NE\")),0,1)","v":1},{"$f":"IF(AND($H$2=12,$G$2=12),1,0)","v":0},{"$f":"IF(OR(AND($I$2=\"NE\", $J$2=\"NE\",$K$2=\"NE\",$L$2=\"NE\",$M$2=\"NE\",$N$2=\"DA\",$O$2=\"NE\"),AND($I$2=\"DA\", $J$2=\"NE\",$K$2=\"DA\",$L$2=\"DA\",$M$2=\"DA\",$N$2=\"NE\",$O$2=\"NE\")),0,1)","v":1},null,null,null,null,null,null,null,748]
[6,{"$f":"IF(E9=1,\"Nije zadovoljena\", \"Zadovoljena\")","v":"Zadovoljena"},"Razina 13 (opća država), \n- ne predaje ništa na mjesečnoj razini,  \n- za kvartale predaje obrasce PR-RAS i NT\n- za polugodište predaje obrasce PR-RAS i NT,\n- na godišnjoj razini predaje obrasce: PR-RAS, BIL, NT, RAS-funkcijski i P-VRIO.\nZavisno od odabranog razdoblja, ako je popunjen obrazac koji ne treba biti popunjen, ili nije popunjen obrazac koji treba biti popunjen, ova kontrola javlja pogrešku.",null,{"$f":"IF(F9*G9+H9*I9+J9*K9+L9*M9>0,1,0)","v":0},{"$f":"IF(AND($G$2<>3,$G$2<>6,$G$2<>9, $G$2<>12),1,0)","v":0},{"$f":"IF($H$2=13,1,0)","v":0},{"$f":"IF(AND($H$2=13,OR($G$2=3,$G$2=9)),1,0)","v":0},{"$f":"IF(AND($I$2=\"DA\", $J$2=\"DA\",$K$2=\"NE\",$L$2=\"NE\",$M$2=\"NE\",$N$2=\"NE\",$O$2=\"NE\"),0,1)","v":1},{"$f":"IF(AND($H$2=13,$G$2=6),1,0)","v":0},{"$f":"IF(AND($I$2=\"DA\", $J$2=\"DA\",$K$2=\"NE\",$L$2=\"NE\",$M$2=\"NE\",$N$2=\"NE\",$O$2=\"NE\"),0,1)","v":1},{"$f":"IF(AND($H$2=13,$G$2=12),1,0)","v":0},{"$f":"IF(AND($I$2=\"DA\", $J$2=\"DA\",$K$2=\"DA\",$L$2=\"DA\",$M$2=\"DA\",$N$2=\"NE\",$O$2=\"NE\"),0,1)","v":1},null,null,null,null,null,null,null,1079]
[7,"Zadovoljena","Razina 21\n- ne predaje mjesečni obrazac obveze, \n- za kvartale (prvi i treći kvartal) predaje samo obrazac S-PR-RAS\n- za polugodište predaje samo brazac PR-RAS,\n- na godišnjoj razini predaje tri obrasca: PR-RAS, BIL i P-VRIO. \nZavisno od odabranog razdoblja, ako je popunjen obrazac koji ne treba biti popunjen, ili nije popunjen obrazac koji treba biti popunjen, ova kontrola javlja pogrešku.",null,0,0,{"$f":"IF($H$2=21,1,0)","v":0},{"$f":"IF(AND($H$2=21,OR($G$2=3,$G$2=9)),1,0)","v":0},{"$f":"IF(AND($I$2=\"NE\", $J$2=\"NE\",$K$2=\"NE\",$L$2=\"NE\",$M$2=\"NE\",$N$2=\"NE\",$O$2=\"DA\"),0,1)","v":1},{"$f":"IF(AND($H$2=21,$G$2=6),1,0)","v":0},{"$f":"IF(AND($I$2=\"DA\", $J$2=\"NE\",$K$2=\"NE\",$L$2=\"NE\",$M$2=\"NE\",$N$2=\"NE\",$O$2=\"NE\"),0,1)","v":1},{"$f":"IF(AND($H$2=21,$G$2=12),1,0)","v":0},{"$f":"IF(AND($I$2=\"DA\", $J$2=\"NE\",$K$2=\"NE\",$L$2=\"DA\",$M$2=\"DA\",$N$2=\"NE\",$O$2=\"NE\"),0,1)","v":0},null,null,null,null,null,null,null,756]
[8,"Zadovoljena","Razina 22\n- ne predaje mjesečni obrazac obveze, \n- za kvartale predaje obrasce PR-RAS i NT i Obveze\n- za polugodište predaje obrasce PR-RAS i NT i Obveze\n- na godišnjoj razini predaje obrasce: PR-RAS, BIL, NT, RAS-funkcijski, P-VRIO i Obveze. \nZavisno od odabranog razdoblja, ako je popunjen obrazac koji ne treba biti popunjen, ili nije popunjen obrazac koji treba biti popunjen, ova kontrola javlja pogrešku.",null,0,0,{"$f":"IF($H$2=22,1,0)","v":0},{"$f":"IF(AND($H$2=22,OR($G$2=3,$G$2=9)),1,0)","v":0},{"$f":"IF(AND($I$2=\"DA\", $J$2=\"DA\",$K$2=\"NE\",$L$2=\"NE\",$M$2=\"NE\",$N$2=\"DA\",$O$2=\"NE\"),0,1)","v":1},{"$f":"IF(AND($H$2=22,$G$2=6),1,0)","v":0},{"$f":"IF(AND($I$2=\"DA\", $J$2=\"DA\",$K$2=\"NE\",$L$2=\"NE\",$M$2=\"NE\",$N$2=\"DA\",$O$2=\"NE\"),0,1)","v":1},{"$f":"IF(AND($H$2=22,$G$2=12),1,0)","v":0},{"$f":"IF(AND($I$2=\"DA\", $J$2=\"DA\",$K$2=\"DA\",$L$2=\"DA\",$M$2=\"DA\",$N$2=\"DA\",$O$2=\"NE\"),0,1)","v":1},null,null,null,null,null,null,null,1087]
[9,"Zadovoljena","Razina 23, (konsolidirana razina 22)\n- ne predaje mjesečni obrazac Obveze\n- za kvartale ne predaje ništa (nema konsolidacije za I. i III. kvartal)\n- za polugodište predaje obrasce PR-RAS i Obveze\n- na godišnjoj razini predaje obrasce: PR-RAS, BIL, RAS-funkcijski, P-VRIO i Obveze. \nZavisno od odabranog razdoblja, ako je popunjen obrazac koji ne treba biti popunjen, ili nije popunjen obrazac koji treba biti popunjen, ova kontrola javlja pogrešku.",null,0,0,{"$f":"IF($H$2=23,1,0)","v":0},{"$f":"IF(AND($H$2=23,OR($G$2=3,$G$2=9)),1,0)","v":0},1,{"$f":"IF(AND($H$2=23,$G$2=6),1,0)","v":0},{"$f":"IF(AND($I$2=\"DA\", $J$2=\"NE\",$K$2=\"NE\",$L$2=\"NE\",$M$2=\"NE\",$N$2=\"DA\",$O$2=\"NE\"),0,1)","v":1},{"$f":"IF(AND($H$2=23,$G$2=12),1,0)","v":0},{"$f":"IF(AND($I$2=\"DA\", $J$2=\"NE\",$K$2=\"DA\",$L$2=\"DA\",$M$2=\"DA\",$N$2=\"DA\",$O$2=\"NE\"),0,1)","v":1},null,null,null,null,null,null,null,1214]
[10,"Zadovoljena","Razine 31\n- ne predaje mjesečni obrazac Obveze\n- za kvartale (prvi i treći kvartal) predaje samo obrazac S-PR-RAS\n- za polugodište predaje samo obrazac PR-RAS\n- na godišnjoj razini predaje obrasce: PR-RAS, BIL i P-VRIO. \nZavisno od odabranog razdoblja, ako je popunjen obrazac koji ne treba biti popunjen, ili nije popunjen obrazac koji treba biti popunjen, ova kontrola javlja pogrešku.",null,0,0,{"$f":"IF($H$2=31,1,0)","v":1},{"$f":"IF(AND($H$2=31,OR($G$2=3,$G$2=9)),1,0)","v":0},{"$f":"IF(AND($I$2=\"NE\", $J$2=\"NE\",$K$2=\"NE\",$L$2=\"NE\",$M$2=\"NE\",$N$2=\"NE\",$O$2=\"DA\"),0,1)","v":1},{"$f":"IF(AND($H$2=31,$G$2=6),1,0)","v":0},{"$f":"IF(AND($I$2=\"DA\", $J$2=\"NE\",$K$2=\"NE\",$L$2=\"NE\",$M$2=\"NE\",$N$2=\"NE\",$O$2=\"NE\"),0,1)","v":1},{"$f":"IF(AND($H$2=31,$G$2=12),1,0)","v":1},{"$f":"IF(AND($I$2=\"DA\", $J$2=\"NE\",$K$2=\"NE\",$L$2=\"DA\",$M$2=\"DA\",$N$2=\"NE\",$O$2=\"NE\"),0,1)","v":0},"Ako je bilo tko od njih i nema NT i nema Obveze, nula, u suprotnom 1","Ako je nije netko od njih i ima NT i Obveze, nula, u suprotnom 1",null,null,null,null,null,1222]
[11,"Zadovoljena","Razina 41\n- ne predaje mjesečni obrazac Obveze (osim HZZO-a, HZMO, HZZ-a)\n- za kvartale (prvi i treći kvartal) predaje obrasce PR-RAS, NT i Obveze\n- za polugodište predaje obrasce PR-RAS, NT i Obveze\n- na godišnjoj razini predaje obrasce: PR-RAS, BIL, NT, RAS-funkcijski, P-VRIO i Obveze. \nIzuzetak od ovog pravila su Hrvatski zavod za zdravstveno osiguranje, Hrvatski zavod za zapošljavanje i Hrvatski zavod za mirovinsko osiguranje. Oni za kvartal i polugodište ne predaju obrasce NT i Obveze. Zavisno od odabranog razdoblja, ako je popunjen obrazac koji ne treba biti popunjen, ili nije popunjen obrazac koji treba biti popunjen, ova kontrola javlja pogrešku.",null,0,0,{"$f":"IF(AND($H$2=41,Kont!N2=\"DA\", RefStr!B6<>25843, RefStr!B6<>23911, RefStr!B6<>26362),1,0)","v":0},{"$f":"IF(AND($H$2=41,OR($G$2=3,$G$2=9)),1,0)","v":0},{"$f":"IF(AND($I$2=\"DA\", $K$2=\"NE\",$L$2=\"NE\",$M$2=\"NE\",$O$2=\"NE\",N14+O14=0),0,1)","v":1},{"$f":"IF(AND($H$2=41,$G$2=6),1,0)","v":0},{"$f":"IF(AND($I$2=\"DA\", $K$2=\"NE\",$L$2=\"NE\",$M$2=\"NE\",$O$2=\"NE\",N14+O14=0),0,1)","v":1},{"$f":"IF(AND($H$2=41,$G$2=12),1,0)","v":0},{"$f":"IF(AND($I$2=\"DA\", $K$2=\"DA\",$L$2=\"DA\",$M$2=\"DA\",$O$2=\"NE\",N14+O14=0),0,1)","v":1},{"$f":"IF(OR(P2=26362,P2=25843,P2=23911),IF(AND(N2=\"NE\",J2=\"NE\"),0,1),0)","v":0},{"$f":"IF(AND(P2<>26362,P2<>25843,P2<>23911),IF(AND(N2=\"DA\",J2=\"DA\"),0,1),0)","v":1},null,null,null,null,null,1732]
[12,"Zadovoljena","Razina 42\n- ne predaje mjesečni obrazac Obveze\n- za kvartale (prvi i treći kvartal) predaje samo obrazac S-PR-RAS,\n- za polugodište predaje samo obrazac PR-RAS,\n- na godišnjoj razini predaje obrasce: PR-RAS, BIL , P-VRIO i Obveze. \nZavisno od odabranog razdoblja, ako je popunjen obrazac koji ne treba biti popunjen, ili nije popunjen obrazac koji treba biti popunjen, ova kontrola javlja pogrešku.",null,{"$f":"IF(F15*G15+H15*I15+J15*K15+L15*M15>0,1,0)","v":0},0,{"$f":"IF($H$2=42,1,0)","v":0},{"$f":"IF(AND($H$2=42,OR($G$2=3,$G$2=9)),1,0)","v":0},{"$f":"IF(AND($I$2=\"NE\", $J$2=\"NE\",$K$2=\"NE\",$L$2=\"NE\",$M$2=\"NE\",$N$2=\"NE\",$O$2=\"DA\"),0,1)","v":1},{"$f":"IF(AND($H$2=42,$G$2=6),1,0)","v":0},{"$f":"IF(AND($I$2=\"DA\", $J$2=\"NE\",$K$2=\"NE\",$L$2=\"NE\",$M$2=\"NE\",$N$2=\"NE\",$O$2=\"NE\"),0,1)","v":1},{"$f":"IF(AND($H$2=42,$G$2=12),1,0)","v":0},{"$f":"IF(AND($I$2=\"DA\", $J$2=\"NE\",$K$2=\"NE\",$L$2=\"DA\",$M$2=\"DA\",$N$2=\"DA\",$O$2=\"NE\"),0,1)","v":1},null,null,null,null,null,null,null,3130]
["KONTROLE IZMEĐU OBRAZACA - obvezne kontrole",null,null,null,{"$f":"SUM(E17:E21)","v":0},null,null,null,null,null,null,null,null,null,null,null,null,null,null,null,6120]
[{"$f":"1+A15","v":13},"Zadovoljena","Na godišnjoj razini postoji kontrola koja povezuje neke AOP pozicije obrasca PR-RAS i obrasca NT. Ova kontrola vrijedi za razine 22 i 41. Kontrola zahtijeva da AOP oznaka 229 u obrascu NT mora biti jednaka AOP oznaci 610 u obrascu PR-RAS (stupac ostvareno tekuće godine). Pri tome je zbog zaokruživanja vrijednosti u jednom i drugom obrascu dozvoljeno odstupanje od najviše 1.",null,{"$f":"F17*G17","v":0},{"$f":"IF(AND(OR(H2=41,H2=22),G2=12),1,0)","v":0},{"$f":"IF(ABS(NT!D240-PRRAS!E624)>1,1,0)","v":1},null,null,null,null,null,null,null,null,null,null,null,null,null,6031]
[14,"Zadovoljena","Na godišnjoj razini postoji kontrola koja povezuje neke AOP pozicije obrasca PR-RAS i obrasca Bil. Ova kontrola vrijede za sve razine. Kontrola je obvezujuća za razine 11, 21, 22, 31, 42. Vrijednost AOP oznake 144 u obrascu Bilanca mora biti jednaka vrijednosti AOP oznake 606 u obrascu PR-RAS. Zbog zaokruživanja vrijednosti, dozvoljeno je odstupanje od 1 kn. Ova kontrola vrijedi u obje kolone podataka, osim za obveznike kod kojih početak razdoblja nije ujedno i početak poslovne godine (obveznik je počeo s radom tokom godine). Za takve obveznike kontrola mora biti zadovoljena samo za kolonu tekuće godine (ne i prethodne).",null,{"$f":"IF(AND(F18=1,G18+H18>0),1,0)","v":0},{"$f":"IF(AND(G2=12,M2=\"DA\",I2=\"DA\",H2<>12,H2<>23,H2<>13),1,0)","v":1},{"$f":"IF(AND(ABS(Bil!D155-PRRAS!D619)>1,K18=\"1.1.\"),1,0)","v":0},{"$f":"IF(ABS(Bil!E155-PRRAS!E619)>1,1,0)","v":0},null,null,{"$f":"IF(RefStr!K10<>\"\",TEXT(RefStr!K10,\"D.M.\"),\"\")","v":"1.1."},null,null,null,null,null,null,null,null,null,6040]
[15,"Zadovoljena","Na godišnjoj razini postoji kontrola koja povezuje neke AOP pozicije obrasca PR-RAS i obrasca Bil. Ova kontrola vrijede za sve razine. Kontrola je obvezujuća za razine 11, 21, 22, 31, 42. Vrijednost AOP oznake 062 u obrascu Bilanca mora biti jednaka vrijednosti AOP oznake 610 u obrascu PR-RAS. Zbog zaokruživanja vrijednosti, dozvoljeno je odstupanje od 1 kn.",null,{"$f":"IF(AND(F19=1,G19+H19>0),1,0)","v":0},{"$f":"IF(AND(G2=12,M2=\"DA\",I2=\"DA\",H2<>12,H2<>23,H2<>13),1,0)","v":1},{"$f":"IF(ABS(Bil!D73-PRRAS!D624)>1,1,0)","v":0},{"$f":"IF(ABS(Bil!E73-PRRAS!E624)>1,1,0)","v":0},null,null,null,null,null,null,null,null,null,null,null,null,6066]
[16,"Zadovoljena","Na godišnjoj razini postoji kontrola koja povezuje neke AOP pozicije obrasca NT i obrasca Bil. Ova kontrola vrijede za sve razine. Kontrola je obvezujuća za razine 11, 21, 22, 31, 42. Vrijednost AOP oznake 062 u obrascu Bilanca mora biti jednaka vrijednosti AOP oznake 229 u obrascu NT. Zbog zaokruživanja vrijednosti, dozvoljeno je odstupanje od 1 kn.",null,{"$f":"IF(F20*G20>0,1,0)","v":0},{"$f":"IF(AND(G2=12,M2=\"DA\",J2=\"DA\",H2<>12,H2<>23,H2<>13),1,0)","v":0},{"$f":"IF(ABS(Bil!E73-NT!D240)>1,1,0)","v":1},null,null,null,null,null,null,null,null,null,null,null,null,null,6082]
[17,"Zadovoljena","Na godišnjoj razini postoji kontrola koja povezuje neke AOP pozicije obrasca PR-RAS s nekim AOP pozicijama obrasca RAS-funkcijski. Ova kontrola vrijede za sve razine. Iznimno, u nekim slučajevima mogu se zanemariti za razine 12 i 23. Vrijednost AOP oznake 378 u obrascu PR-RAS treba biti jednaka zbroju AOP 001+018+024+031+071+078+085+103+110+125  tj. AOP-u 137 u obrascu RAS-funkcijski. Zbog zaokruživanja vrijednosti, dozvoljeno je odstupanje od 1 kn.",null,{"$f":"IF(AND(F21>0,MAX(G21:H21)>0),1,0)","v":0},{"$f":"IF(AND(G2=12,I2=\"DA\",K2=\"DA\",H2<>12,H2<>23),1,0)","v":0},{"$f":"IF(ABS(PRRAS!D390-RasF!D12-RasF!D29-RasF!D35-RasF!D42-RasF!D82-RasF!D89-RasF!D96-RasF!D114-RasF!D121-RasF!D136) >1,1,0)","v":1},{"$f":"IF(ABS(PRRAS!E390-RasF!E12-RasF!E29-RasF!E35-RasF!E42-RasF!E82-RasF!E89-RasF!E96-RasF!E114-RasF!E121-RasF!E136) >1,1,0)","v":1},null,null,null,null,null,null,null,null,null,null,null,null,6099]
["KONTROLE IZMEĐU OBRAZACA - kontrole upozorenja",null,null,null,{"$f":"SUM(E23:E25)","v":0}]
[{"$f":"1+A21","v":18},{"$f":"IF(E23=1,\"Nije zadovoljena\", \"Zadovoljena\")","v":"Zadovoljena"},"Na godišnjoj razini postoji kontrola koja povezuje neke AOP pozicije obrasca PR-RAS i obrasca Bil. Kontrola upozorava ako ova kontrola nije zadovoljena za razine 12, 13 i 23. Ako je kontrola javila upozorenje provjerite da li je sigurno da ne mora biti zadovoljena. Vrijednost AOP oznake 144 u obrascu Bilanca mora biti jednaka vrijednosti AOP oznake 606 u obrascu PR-RAS. Zbog zaokruživanja vrijednosti, dozvoljeno je odstupanje od 1 kn.",-151,{"$f":"IF(AND(F23=1,G23+H23>0),1,0)","v":0},{"$f":"IF(AND(G2=12,M2=\"DA\",I2=\"DA\",OR(H2=12,H2=23,H2=13)),1,0)","v":0},{"$f":"IF(ABS(Bil!D155-PRRAS!D619)>1,1,0)","v":0},{"$f":"IF(ABS(Bil!E155-PRRAS!E619)>1,1,0)","v":0}]
[{"$f":"1+A23","v":19},{"$f":"IF(E24=1,\"Nije zadovoljena\", \"Zadovoljena\")","v":"Zadovoljena"},"Na godišnjoj razini postoji kontrola koja povezuje neke AOP pozicije obrasca PR-RAS i obrasca Bil. Vrijednost AOP oznake 062 u obrascu Bilanca mora biti jednaka vrijednosti AOP oznake 610 u obrascu PR-RAS. Zbog zaokruživanja vrijednosti, dozvoljeno je odstupanje od 1 kn. Upozorenje se javlja ako kontrola nije zadovoljena za razine 12, 13 i 23. Ako je kontrola javila upozorenje provjerite da li je sigurno da ne mora biti zadovoljena. ",-151,{"$f":"IF(AND(F24=1,G24+H24>0),1,0)","v":0},{"$f":"IF(AND(G2=12,M2=\"DA\",I2=\"DA\",OR(H2=12,H2=23,H2=13)),1,0)","v":0},{"$f":"IF(ABS(Bil!D73-PRRAS!D624)>1,1,0)","v":0},{"$f":"IF(ABS(Bil!E73-PRRAS!E624)>1,1,0)","v":0}]
[{"$f":"1+A24","v":20},{"$f":"IF(E25=1,\"Nije zadovoljena\", \"Zadovoljena\")","v":"Zadovoljena"},"Na godišnjoj razini postoji kontrola koja povezuje neke AOP pozicije obrasca NT i obrasca Bil. Vrijednost AOP oznake 062 u obrascu Bilanca mora biti jednaka vrijednosti AOP oznake 229 u obrascu NT. Zbog zaokruživanja vrijednosti, dozvoljeno je odstupanje od 1 kn. Upozorenje se javlja za razine 12, 13 i 23 gdje je iznimno moguće da kontrola i ne bude zadovoljena. Provjerite upisane podatke.",-151,{"$f":"IF(F25*G25>0,1,0)","v":0},{"$f":"IF(AND(G2=12,M2=\"DA\",J2=\"DA\",OR(H2=12,H2=23,H2=13)),1,0)","v":0},{"$f":"IF(ABS(Bil!E73-NT!D240)>1,1,0)","v":1}]
["PR-RAS - obvezne kontrole",null,null,null,{"$f":"SUM(E27:E173)","v":0},null,null,null,null,null,null,null,null,null,null,null,null,null,null,null,6120]
[{"$f":"1+A25","v":21},{"$f":"IF(E27=1,\"Nije zadovoljena\", \"Zadovoljena\")","v":"Zadovoljena"},"Ako je obrazac razine 21, 31, 41 ili 42 tada pod AOP oznakama 611 i 613 podatak mora biti jednak nula.",151,{"$f":"MAX(F27:I27)","v":0},{"$f":"IF(AND(OR(RefStr!B16=21,RefStr!B16=31,RefStr!B16=41,RefStr!B16=42),OR(PRRAS!D625>0,PRRAS!E625>0,PRRAS!D627>0,PRRAS!E627>0)),1,0)","v":0},null,null,null,null,null,null,null,null,null,null,null,null,null,null,6138]
[{"$f":"1+A27","v":22},"Zadovoljena","Ako su u nekom stupcu na AOP-ima 611 do 614 (brojevi zaposlenih) podaci veći od nule, tada u toj istom stupcu  mora biti postojati podatak veći od nule i na AOP-u 133 (rashodi za zaposlene).",151,0,{"$f":"IF(OR(AND(PRRAS!D144=0,MAX(PRRAS!D625:D628)>0),AND(PRRAS!E144=0,MAX(PRRAS!E625:E628)>0)),1,0)","v":0},null,null,null,null,null,null,null,null,null,null,null,null,null,null,6179]
[23,"Zadovoljena","Ako je u nekom stupcu na AOP-u 611 broj veći od nule, tada i na AOP-u  613 mora biti broj veći od nule i obrnuto.",151,0,{"$f":"IF(OR(AND(PRRAS!D625>0,PRRAS!D627=0),AND(PRRAS!D625=0,PRRAS!D627>0),AND(PRRAS!E625>0,PRRAS!E627=0),AND(PRRAS!E625=0,PRRAS!DE27>0)),1,0)","v":0},null,null,null,null,null,null,null,null,null,null,null,null,null,null,20157]
[24,"Zadovoljena","Ako je u nekom stupcu na AOP-u 612 broj veći od nule, tada i na AOP-u  614 mora biti broj veći od nule i obrnuto.",151,0,{"$f":"IF(OR(AND(PRRAS!D626>0,PRRAS!D628=0),AND(PRRAS!D626=0,PRRAS!D628>0),AND(PRRAS!E626>0,PRRAS!E628=0),AND(PRRAS!E626=0,PRRAS!DE28>0)),1,0)","v":0},null,null,null,null,null,null,null,null,null,null,null,null,null,null,20833]
[25,"Zadovoljena","Rashodi za zaposlene iskazani na AOP-u 133 moraju biti jednaki rashodima za zaposlene iskazanima na AOP-ima 648 i 649 (AOP 133 = AOP 648+AOP 649) u oba stupca.",151,0,{"$f":"IF(OR((PRRAS!D144-PRRAS!D662-PRRAS!D663) <> 0,(PRRAS!E144-PRRAS!E662-PRRAS!E663) <> 0),1,0)","v":0},null,null,null,null,null,null,null,null,null,null,null,null,null,null,21578]
[26,"Zadovoljena","Materijalni rashodi iskazani na AOP-u 145 moraju biti jednaki materijalnim rashodima iskazanima na AOP-ima 656 i 657 (AOP 145 = AOP 656+AOP 657) u oba stupca.",151,0,{"$f":"IF(OR((PRRAS!D156-PRRAS!D670-PRRAS!D671) <> 0,(PRRAS!E156-PRRAS!E670-PRRAS!E671) <> 0),1,0)","v":0},null,null,null,null,null,null,null,null,null,null,null,null,null,null,21586]
[27,"Zadovoljena","Podatak pod AOP oznakom 648 mora biti veći ili jednak zbroju podataka pod AOP oznakama 650 i 652. Isto tako ako je podatak na AOP-u 648 veći od nule, AOP-i 650 i 652 ne mogu oba biti jednaka nuli.",151,{"$f":"IF(H2<>13,MAX(F33:I33),0)","v":0},{"$f":"IF(AND(PRRAS!D662>0,PRRAS!D664=0,PRRAS!D666=0),1,0)","v":0},{"$f":"IF(AND(PRRAS!E662>0,PRRAS!E664=0,PRRAS!E666=0),1,0)","v":0},{"$f":"IF(PRRAS!D662-PRRAS!D664-PRRAS!D666<0,1,0)","v":0},{"$f":"IF(PRRAS!E662-PRRAS!E664-PRRAS!E666<0,1,0)","v":0},null,null,null,null,null,null,null,null,null,null,null,21609]
[28,{"$f":"IF(E34=1,\"Nije zadovoljena\", \"Zadovoljena\")","v":"Zadovoljena"},"Podatak pod AOP oznakom 649 mora biti veći ili jednak zbroju podataka pod AOP oznakama 651 i 653. Isto tako ako je podatak na AOP-u 649 veći od nule, AOP-i 651 i 653 ne mogu oba biti jednaka nuli.",151,{"$f":"MAX(F34:I34)","v":0},{"$f":"IF(AND(PRRAS!D663>0,PRRAS!D665=0,PRRAS!D667=0),1,0)","v":0},{"$f":"IF(AND(PRRAS!E663>0,PRRAS!E665=0,PRRAS!E667=0),1,0)","v":0},{"$f":"IF(PRRAS!D663-PRRAS!D665-PRRAS!D667<0,1,0)","v":0},{"$f":"IF(PRRAS!E663-PRRAS!E665-PRRAS!E667<0,1,0)","v":0},null,null,null,null,null,null,null,null,null,null,null,21828]
[29,"Zadovoljena","Podatak pod AOP oznakom 304 mora biti jednak zbroju podataka pod AOP oznakama 731 i 732 u oba stupca podataka (izvještajno razdoblje tekuće i prethodne godine).",151,0,{"$f":"IF(ABS(PRRAS!D316-PRRAS!D745-PRRAS!D746)>1,1,0)","v":0},{"$f":"IF(ABS(PRRAS!E316-PRRAS!E745-PRRAS!E746)>1,1,0)","v":0},null,null,null,null,null,null,null,null,null,null,null,null,null,21973]
[30,"Zadovoljena","Podatak pod AOP oznakom 318 mora biti jednak zbroju podataka pod AOP oznakama 733 i 734 u oba stupca podataka (izvještajno razdoblje tekuće i prethodne godine).",151,0,{"$f":"IF(ABS(PRRAS!D330-PRRAS!D747-PRRAS!D748)>1,1,0)","v":0},{"$f":"IF(ABS(PRRAS!E330-PRRAS!E747-PRRAS!E748)>1,1,0)","v":0},null,null,null,null,null,null,null,null,null,null,null,null,null,21990]
[31,"Zadovoljena","Podatak pod AOP oznakom 361 mora biti jednak zbroju podataka pod AOP oznakama 735 i 736 u oba stupca podataka (izvještajno razdoblje tekuće i prethodne godine).",151,0,{"$f":"IF(ABS(PRRAS!D373-PRRAS!D749-PRRAS!D750)>1,1,0)","v":0},{"$f":"IF(ABS(PRRAS!E373-PRRAS!E749-PRRAS!E750)>1,1,0)","v":0},null,null,null,null,null,null,null,null,null,null,null,null,null,22023]
[32,"Zadovoljena","Ako je u nekom stupcu na AOP-u 648 (rashodi za zaposlene u tijelima) podatak veći od nule, podaci moraju biti veći od nule i na AOP-ima 611 i 613 (broj zaposlenih u tijelima) u istom stupcu. Ova kontrola ne vrijedi za obrasce razine 13.",151,0,{"$f":"IF(AND(RefStr!B16<>13,PRRAS!D662>0,PRRAS!D625=0,PRRAS!D627=0),1,0)","v":0},{"$f":"IF(AND(RefStr!B16<>13,PRRAS!E662>0,PRRAS!E625=0,PRRAS!E627=0),1,0)","v":0},null,null,null,null,null,null,null,null,null,null,null,null,null,23528]
[33,"Zadovoljena","Ako je podatak na AOP-u 649 (rashodi za zaposlene kod korisnika) veći od nule, moraju biti veći od nule i AOP-i podaci na AOP-ima 612 i 614 (broj zaposlenih kod korisnika).",151,0,{"$f":"IF(AND(RefStr!B17<>13,PRRAS!D663>0,PRRAS!D626=0,PRRAS!D628=0),1,0)","v":0},{"$f":"IF(AND(RefStr!B17<>13,PRRAS!E663>0,PRRAS!E626=0,PRRAS!E628=0),1,0)","v":0},null,null,null,null,null,null,null,null,null,null,null,null,null,23536]
[34,"Zadovoljena","AOP 616 je samo dio AOP-a 019 i mora biti manji ili jednak njemu u oba stupca podataka",151,0,{"$f":"IF(PRRAS!D630>PRRAS!D30,1,0)","v":0},{"$f":"IF(PRRAS!E630>PRRAS!E30,1,0)","v":0},null,null,null,null,null,null,null,null,null,null,null,null,null,23544]
[35,"Zadovoljena","Zbroj AOP-a: 617+618 je samo dio AOP-a 028 i mora biti manji ili jednak njemu u oba stupca podataka",151,0,{"$f":"IF(PRRAS!D631+PRRAS!D632>PRRAS!D39,1,0)","v":0},{"$f":"IF(PRRAS!E631+PRRAS!E632>PRRAS!E39,1,0)","v":0},null,null,null,null,null,null,null,null,null,null,null,null,null,23954]
[36,"Zadovoljena","AOP 057 mora biti jednak zbroju AOP-a: 619 do 622 u oba stupca podataka. Zbog zaokruživanja je dopuštena razlika od 1.",151,0,{"$f":"IF(ABS(PRRAS!D68-PRRAS!D633-PRRAS!D634-PRRAS!D635-PRRAS!D636)>1,1,0)","v":0},{"$f":"IF(ABS(PRRAS!E68-PRRAS!E633-PRRAS!E634-PRRAS!E635-PRRAS!E636)>1,1,0)","v":0},null,null,null,null,null,null,null,null,null,null,null,null,null,23987]
[37,"Zadovoljena","AOP 058 mora biti jednak zbroju AOP-a: 623 do 626 u oba stupca podataka. Zbog zaokruživanja je dopuštena razlika od 1.",151,0,{"$f":"IF(ABS(PRRAS!D69-PRRAS!D637-PRRAS!D638-PRRAS!D639-PRRAS!D640)>1,1,0)","v":0},{"$f":"IF(PRRAS!E69-PRRAS!E637-PRRAS!E638-PRRAS!E639-PRRAS!E640<>0,1,0)","v":0},null,null,null,null,null,null,null,null,null,null,null,null,null,23995]
[38,"Zadovoljena","AOP 059 mora biti jednak zbroju AOP-a: 627+628 u oba stupca podataka. Zbog zaokruživanja je dopuštena razlika od 1.",151,0,{"$f":"IF(ABS(PRRAS!D70-PRRAS!D641-PRRAS!D642)>1,1,0)","v":0},{"$f":"IF(ABS(PRRAS!E70-PRRAS!E641-PRRAS!E642)>1,1,0)","v":0},null,null,null,null,null,null,null,null,null,null,null,null,null,24027]
[39,"Zadovoljena","AOP 060 mora biti jednak zbroju AOP-a: 629+630 u oba stupca podataka",151,0,{"$f":"IF(ABS(PRRAS!D71-PRRAS!D643-PRRAS!D644)>1,1,0)","v":0},{"$f":"IF(ABS(PRRAS!E71-PRRAS!E643-PRRAS!E644)>1,1,0)","v":0},null,null,null,null,null,null,null,null,null,null,null,null,null,24051]
[40,"Zadovoljena","AOP 062 mora biti jednak zbroju AOP-a: 631 do 633 u oba stupca podataka",151,0,{"$f":"IF(ABS(PRRAS!D73-PRRAS!D645-PRRAS!D646-PRRAS!D647)>1,1,0)","v":0},{"$f":"IF(ABS(PRRAS!E73-PRRAS!E645-PRRAS!E646-PRRAS!E647)>1,1,0)","v":0},null,null,null,null,null,null,null,null,null,null,null,null,null,24060]
[41,"Zadovoljena","AOP 063 mora biti jednak zbroju AOP-a: 634 do 636 u oba stupca podataka",151,0,{"$f":"IF(ABS(PRRAS!D74-PRRAS!D648-PRRAS!D649-PRRAS!D650)>1,1,0)","v":0},{"$f":"IF(ABS(PRRAS!E74-PRRAS!E648-PRRAS!E649-PRRAS!E650)>1,1,0)","v":0},null,null,null,null,null,null,null,null,null,null,null,null,null,24094]
[42,"Zadovoljena","AOP 637 je samo dio AOP-a 075 i mora biti manji ili jednak njemu u oba stupca podataka",151,0,{"$f":"IF(PRRAS!D651>PRRAS!D86,1,0)","v":0},{"$f":"IF(PRRAS!E651>PRRAS!E86,1,0)","v":0},null,null,null,null,null,null,null,null,null,null,null,null,null,24109]
[43,"Zadovoljena","AOP 089 mora biti jednak zbroju AOP-a: 638 do 644 u oba stupca podataka. Zbog zaokruživanja je dopuštena razlika od 1.",151,0,{"$f":"IF(ABS(PRRAS!D100-SUM(PRRAS!D652:D658))>1,1,0)","v":0},{"$f":"IF(ABS(PRRAS!E100-SUM(PRRAS!E652:E658))>1,1,0)","v":0},null,null,null,null,null,null,null,null,null,null,null,null,null,25851]
[44,"Zadovoljena","Zbroj AOP-a: 645+646 je samo dio AOP-a 101 i mora biti manji ili jednak njemu u oba stupca podataka.",151,0,{"$f":"IF(PRRAS!D659+PRRAS!D660 > PRRAS!D112,1,0)","v":0},{"$f":"IF(PRRAS!E659+PRRAS!E660 > PRRAS!E112,1,0)","v":0},null,null,null,null,null,null,null,null,null,null,null,null,null,25860]
[45,"Zadovoljena","Zbroj AOP-a: 654+655 je samo dio AOP-a 140 i mora biti manji ili jednak njemu u oba stupca podataka",151,0,{"$f":"IF(PRRAS!D668+PRRAS!D669 > PRRAS!D151,1,0)","v":0},{"$f":"IF(PRRAS!E668+PRRAS!E669 > PRRAS!E151,1,0)","v":0},null,null,null,null,null,null,null,null,null,null,null,null,null,38382]
[46,"Zadovoljena","AOP 658 je samo dio AOP-a 148 i mora biti manji ili jednak njemu u oba stupca podataka",151,0,{"$f":"IF(PRRAS!D672>PRRAS!D159,1,0)","v":0},{"$f":"IF(PRRAS!E672>PRRAS!E159,1,0)","v":0},null,null,null,null,null,null,null,null,null,null,null,null,null,38495]
[47,"Zadovoljena","AOP 659 je samo dio AOP-a 165 i mora biti manji ili jednak njemu u oba stupca podataka",151,0,{"$f":"IF(PRRAS!D673>PRRAS!D176,1,0)","v":0},{"$f":"IF(PRRAS!E673>PRRAS!E176,1,0)","v":0},null,null,null,null,null,null,null,null,null,null,null,null,null,38500]
[48,"Zadovoljena","Zbroj AOP-a: 660+661+662 je samo dio AOP-a 166 i mora biti manji ili jednaki njemu u oba stupca podataka",151,0,{"$f":"IF(PRRAS!D674+PRRAS!D675+PRRAS!D676>PRRAS!D177,1,0)","v":0},{"$f":"IF(PRRAS!E674+PRRAS!E675+PRRAS!E676>PRRAS!E177,1,0)","v":0},null,null,null,null,null,null,null,null,null,null,null,null,null,40834]
[49,"Zadovoljena","AOP 663 je samo dio AOP-a 172 i mora biti manji ili jednak njemu u oba stupca podataka",151,0,{"$f":"IF(PRRAS!D677>PRRAS!D183,1,0)","v":0},{"$f":"IF(PRRAS!E677>PRRAS!E183,1,0)","v":0},null,null,null,null,null,null,null,null,null,null,null,null,null,42750]
[50,"Zadovoljena","AOP 664 je samo dio AOP-a 173 i mora biti manji ili jednak njemu u oba stupca podataka",151,0,{"$f":"IF(PRRAS!D678>PRRAS!D184,1,0)","v":0},{"$f":"IF(PRRAS!E678>PRRAS!E184,1,0)","v":0},null,null,null,null,null,null,null,null,null,null,null,null,null,42768]
[51,"Zadovoljena","AOP 180 mora biti jednak zbroju AOP-a: 665+666 u oba stupca podataka. Dopušteno je odstupanje od 1kn zbog zaokruživanja.",151,0,{"$f":"IF(ABS(PRRAS!D191-PRRAS!D679-PRRAS!D680)>1,1,0)","v":0},{"$f":"IF(ABS(PRRAS!E191-PRRAS!E679-PRRAS!E680)>1,1,0)","v":0},null,null,null,null,null,null,null,null,null,null,null,null,null,43167]
[52,"Zadovoljena","AOP 181 mora biti jednak zbroju AOP-a: 667+668 u oba stupca podataka. Dopušteno je odstupanje od 1kn zbog zaokruživanja.",151,0,{"$f":"IF(ABS(PRRAS!D192-PRRAS!D681-PRRAS!D682)>1,1,0)","v":0},{"$f":"IF(ABS(PRRAS!E192-PRRAS!E681-PRRAS!E682)>1,1,0)","v":0},null,null,null,null,null,null,null,null,null,null,null,null,null,43214]
[53,{"$f":"IF(E59=1,\"Nije zadovoljena\", \"Zadovoljena\")","v":"Zadovoljena"},"AOP 182 mora biti jednak zbroju AOP-a: 669+670 u oba stupca podataka. Dopušteno je odstupanje od 1kn zbog zaokruživanja.",151,0,{"$f":"IF(ABS(PRRAS!D193-PRRAS!D683-PRRAS!D684)>1,1,0)","v":0},{"$f":"IF(ABS(PRRAS!E193-PRRAS!E683-PRRAS!E684)>1,1,0)","v":0}]
[54,"Zadovoljena","AOP 183 mora biti jednak zbroju AOP-a: 671+672 u oba stupca podataka. Dopušteno je odstupanje od 1kn zbog zaokruživanja.",151,0,{"$f":"IF(ABS(PRRAS!D194-PRRAS!D685-PRRAS!D686)>1,1,0)","v":0},{"$f":"IF(ABS(PRRAS!E194-PRRAS!E685-PRRAS!E686)>1,1,0)","v":0}]
[55,"Zadovoljena","AOP 185 mora biti jednak zbroju AOP-a: 673 do 676 u oba stupca podataka. Dopušteno je odstupanje od 1kn zbog zaokruživanja.",151,0,{"$f":"IF(ABS(PRRAS!D196-SUM(PRRAS!D687:D690))>1,1,0)","v":0},{"$f":"IF(ABS(PRRAS!E196-SUM(PRRAS!E687:E690))>1,1,0)","v":0}]
[56,"Zadovoljena","AOP 186 mora biti jednak zbroju AOP-a: 677 do 679 u oba stupca podataka. Dopušteno je odstupanje od 1kn zbog zaokruživanja.",151,0,{"$f":"IF(ABS(PRRAS!D197-SUM(PRRAS!D691:D693))>1,1,0)","v":0},{"$f":"IF(ABS(PRRAS!E197-SUM(PRRAS!E691:E693))>1,1,0)","v":0}]
[57,"Zadovoljena","AOP 187 mora biti jednak zbroju AOP-a: 680 do 685 u oba stupca podataka. Dopušteno je odstupanje od 1kn zbog zaokruživanja.",151,0,{"$f":"IF(ABS(PRRAS!D198-SUM(PRRAS!D694:D699))>1,1,0)","v":0},{"$f":"IF(ABS(PRRAS!E198-SUM(PRRAS!E694:E699))>1,1,0)","v":0}]
[58,"Zadovoljena","Zbroj AOP-a 686+687+688 je samo dio AOP-a 190 i mora biti manji ili jednak njemu u oba stupca podataka",151,0,{"$f":"IF(PRRAS!D700+PRRAS!D701+PRRAS!D702>PRRAS!D201,1,0)","v":0},{"$f":"IF(PRRAS!E700+PRRAS!E701+PRRAS!E702>PRRAS!E201,1,0)","v":0}]
[59,"Zadovoljena","AOP 191 mora biti jednak zbroju AOP-a: 689 do 695 u oba stupca podataka. Dopušteno je odstupanje od 1kn zbog zaokruživanja.",151,0,{"$f":"IF(ABS(PRRAS!D202-SUM(PRRAS!D703:D709))>1,1,0)","v":0},{"$f":"IF(ABS(PRRAS!E202-SUM(PRRAS!E703:E709))>1,1,0)","v":0}]
[60,"Zadovoljena","AOP 696 je samo dio AOP-a 196 i mora biti manji ili jednak njemu u oba stupca podataka",151,{"$f":"MAX(F66:I66)","v":0},{"$f":"IF(PRRAS!D710>PRRAS!D207,1,0)","v":0},{"$f":"IF(PRRAS!E710>PRRAS!E207,1,0)","v":0}]
[61,"Zadovoljena","AOP 204 mora biti jednak zbroju AOP-a: 697+698 u oba stupca podataka. Dopušteno je odstupanje od 1kn zbog zaokruživanja.",151,0,{"$f":"IF(ABS(PRRAS!D215-PRRAS!D711-PRRAS!D712)>1,1,0)","v":0},{"$f":"IF(ABS(PRRAS!E215-PRRAS!E711-PRRAS!E712)>1,1,0)","v":0}]
[62,"Zadovoljena","AOP 213 mora biti jednak zbroju AOP-a: 699 do 705 u oba stupca podataka. Dopušteno je odstupanje od 1kn zbog zaokruživanja.",151,0,{"$f":"IF(ABS(PRRAS!D224-SUM(PRRAS!D713:D719))>1,1,0)","v":0},{"$f":"IF(ABS(PRRAS!E224-SUM(PRRAS!E713:E719))>1,1,0)","v":0}]
[63,"Zadovoljena","AOP 214 mora biti jednak zbroju AOP-a: 706 do 712 u oba stupca podataka. Dopušteno je odstupanje od 1kn zbog zaokruživanja.",151,0,{"$f":"IF(ABS(PRRAS!D225-SUM(PRRAS!D720:D726))>1,1,0)","v":0},{"$f":"IF(ABS(PRRAS!E225-SUM(PRRAS!E720:E726))>1,1,0)","v":0}]
[64,"Zadovoljena","AOP 215 mora biti jednak zbroju AOP-a: 713+714 u oba stupca podataka. Dopušteno je odstupanje od 1kn zbog zaokruživanja.",151,0,{"$f":"IF(ABS(PRRAS!D226-SUM(PRRAS!D727:D728))>1,1,0)","v":0},{"$f":"IF(ABS(PRRAS!E226-SUM(PRRAS!E727:E728))>1,1,0)","v":0}]
[65,"Zadovoljena","AOP 216 mora biti jednak zbroju AOP-a: 715+716 u oba stupca podataka. Dopušteno je odstupanje od 1kn zbog zaokruživanja.",151,0,{"$f":"IF(ABS(PRRAS!D227-SUM(PRRAS!D729:D730))>1,1,0)","v":0},{"$f":"IF(ABS(PRRAS!E227-SUM(PRRAS!E729:E730))>1,1,0)","v":0}]
[66,"Zadovoljena","Zbroj AOP-a: 717+718 je samo dio AOP-a 222 i mora biti manji ili jednak njemu u oba stupca podataka",151,0,{"$f":"IF(PRRAS!D731+PRRAS!D732>PRRAS!D233,1,0)","v":0},{"$f":"IF(PRRAS!E731+PRRAS!E732>PRRAS!E233,1,0)","v":0}]
[67,"Zadovoljena","AOP 719 je samo dio AOP-a 223 i mora biti manji ili jednak njemu u oba stupca podataka",151,0,{"$f":"IF(PRRAS!D733>PRRAS!D234,1,0)","v":0},{"$f":"IF(PRRAS!E733>PRRAS!E234,1,0)","v":0}]
[68,"Zadovoljena","AOP 720 je samo dio AOP-a 226 i mora biti manji ili jednak njemu u oba stupca podataka",151,0,{"$f":"IF(PRRAS!D734>PRRAS!D237,1,0)","v":0},{"$f":"IF(PRRAS!E734>PRRAS!E237,1,0)","v":0}]
[69,"Zadovoljena","AOP 237 mora biti jednak zbroju AOP-a: 721 do 724 u oba stupca podataka. Dopušteno je odstupanje od 1kn zbog zaokruživanja.",151,0,{"$f":"IF(ABS(PRRAS!D248-SUM(PRRAS!D735:D738))>1,1,0)","v":0},{"$f":"IF(ABS(PRRAS!E248-SUM(PRRAS!E735:E738))>1,1,0)","v":0}]
[70,"Zadovoljena","AOP 238 mora biti jednak zbroju AOP-a: 725 do 728 u oba stupca podataka. Dopušteno je odstupanje od 1kn zbog zaokruživanja.",151,0,{"$f":"IF(ABS(PRRAS!D249-SUM(PRRAS!D739:D742))>1,1,0)","v":0},{"$f":"IF(ABS(PRRAS!E249-SUM(PRRAS!E739:E742))>1,1,0)","v":0}]
[71,"Zadovoljena","AOP 239 mora biti jednak zbroju AOP-a: 729+730 u oba stupca podataka. Dopušteno je odstupanje od 1kn zbog zaokruživanja.",151,0,{"$f":"IF(ABS(PRRAS!D250-SUM(PRRAS!D743:D744))>1,1,0)","v":0},{"$f":"IF(ABS(PRRAS!E250-SUM(PRRAS!E743:E744))>1,1,0)","v":0}]
[72,"Zadovoljena","AOP 738 je samo dio AOP-a 392 i mora biti manji ili jednak njemu u oba stupca podataka",151,0,{"$f":"IF(PRRAS!D752>PRRAS!D405,1,0)","v":0},{"$f":"IF(PRRAS!E752>PRRAS!E405,1,0)","v":0}]
[73,"Zadovoljena","AOP 739 je samo dio AOP-a 395 i mora biti manji ili jednak njemu u oba stupca podataka",151,0,{"$f":"IF(PRRAS!D753>PRRAS!D408,1,0)","v":0},{"$f":"IF(PRRAS!E753>PRRAS!E408,1,0)","v":0}]
[74,"Zadovoljena","AOP 740 je samo dio AOP-a 396 i mora biti manji ili jednak njemu u oba stupca podataka",151,0,{"$f":"IF(PRRAS!D754>PRRAS!D409,1,0)","v":0},{"$f":"IF(PRRAS!E754>PRRAS!E409,1,0)","v":0}]
[75,"Zadovoljena","AOP 741 je samo dio AOP-a 397 i mora biti manji ili jednak njemu u oba stupca podataka",151,0,{"$f":"IF(PRRAS!D755>PRRAS!D410,1,0)","v":0},{"$f":"IF(PRRAS!E755>PRRAS!E410,1,0)","v":0}]
[76,"Zadovoljena","AOP 399 mora biti jednak zbroju AOP-a 742+743 u oba stupca podataka. Dopušteno je odstupanje od 1 kn zbog zaokruživanja",151,0,{"$f":"IF(ABS(PRRAS!D412-SUM(PRRAS!D756:D757))>1,1,0)","v":0},{"$f":"IF(ABS(PRRAS!E412-SUM(PRRAS!E756:E757))>1,1,0)","v":0}]
[77,"Zadovoljena","AOP 744 je samo dio AOP-a 401 i mora biti manji ili jednak njemu u oba stupca podataka",151,0,{"$f":"IF(PRRAS!D758>PRRAS!D414,1,0)","v":0},{"$f":"IF(PRRAS!E758>PRRAS!E414,1,0)","v":0}]
[78,"Zadovoljena","AOP 745 je samo dio AOP-a 402 i mora biti manji ili jednak njemu u oba stupca podataka",151,0,{"$f":"IF(PRRAS!D759>PRRAS!D415,1,0)","v":0},{"$f":"IF(PRRAS!E759>PRRAS!E415,1,0)","v":0}]
[79,"Zadovoljena","AOP 746 je samo dio AOP-a 403 i mora biti manji ili jednak njemu u oba stupca podataka",151,0,{"$f":"IF(PRRAS!D760>PRRAS!D416,1,0)","v":0},{"$f":"IF(PRRAS!E760>PRRAS!E416,1,0)","v":0}]
[80,"Zadovoljena","AOP 408 mora biti jednak zbroju AOP-a:747+748 u oba stupca podataka. Dopušteno je odstupanje od 1 kn zbog zaokruživanja",151,0,{"$f":"IF(ABS(PRRAS!D421-SUM(PRRAS!D761:D762))>1,1,0)","v":0},{"$f":"IF(ABS(PRRAS!E421-SUM(PRRAS!E761:E762))>1,1,0)","v":0}]
[81,"Zadovoljena","AOP 409 mora biti jednak zbroju AOP-a:749+750 u oba stupca podataka. Dopušteno je odstupanje od 1 kn zbog zaokruživanja",151,0,{"$f":"IF(ABS(PRRAS!D422-SUM(PRRAS!D763:D764))>1,1,0)","v":0},{"$f":"IF(ABS(PRRAS!E422-SUM(PRRAS!E763:E764))>1,1,0)","v":0}]
[82,"Zadovoljena","AOP 413 mora biti jednak zbroju AOP-a: 751+752 u oba stupca podataka. Dopušteno je odstupanje od 1 kn zbog zaokruživanja",151,0,{"$f":"IF(ABS(PRRAS!D426-SUM(PRRAS!D765:D766))>1,1,0)","v":0},{"$f":"IF(ABS(PRRAS!E426-SUM(PRRAS!E765:E766))>1,1,0)","v":0}]
[83,"Zadovoljena","AOP 414 mora biti jednak zbroju AOP-a: 753+754 u oba stupca podataka. Dopušteno je odstupanje od 1 kn zbog zaokruživanja",151,0,{"$f":"IF(ABS(PRRAS!D427-SUM(PRRAS!D767:D768))>1,1,0)","v":0},{"$f":"IF(ABS(PRRAS!E427-SUM(PRRAS!E767:E768))>1,1,0)","v":0}]
[84,"Zadovoljena","AOP 415 mora biti jednak zbroju AOP-a: 755+756 u oba stupca podataka. Dopušteno je odstupanje od 1 kn zbog zaokruživanja",151,0,{"$f":"IF(ABS(PRRAS!D428-SUM(PRRAS!D769:D770))>1,1,0)","v":0},{"$f":"IF(ABS(PRRAS!E428-SUM(PRRAS!E769:E770))>1,1,0)","v":0}]
[85,"Zadovoljena","AOP 416 mora biti jednak zbroju AOP-a: 757+758 u oba stupca podataka. Dopušteno je odstupanje od 1 kn zbog zaokruživanja",151,0,{"$f":"IF(ABS(PRRAS!D429-SUM(PRRAS!D771:D772))>1,1,0)","v":0},{"$f":"IF(ABS(PRRAS!E429-SUM(PRRAS!E771:E772))>1,1,0)","v":0}]
[86,"Zadovoljena","AOP 417 mora biti jednak zbroju AOP-a: 759+760 u oba stupca podataka. Dopušteno je odstupanje od 1 kn zbog zaokruživanja",151,0,{"$f":"IF(ABS(PRRAS!D430-SUM(PRRAS!D773:D774))>1,1,0)","v":0},{"$f":"IF(ABS(PRRAS!E430-SUM(PRRAS!E773:E774))>1,1,0)","v":0}]
[87,"Zadovoljena","AOP 418 mora biti jednak zbroju AOP-a: 761+762 u oba stupca podataka. Dopušteno je odstupanje od 1 kn zbog zaokruživanja",151,0,{"$f":"IF(ABS(PRRAS!D431-SUM(PRRAS!D775:D776))>1,1,0)","v":0},{"$f":"IF(ABS(PRRAS!E431-SUM(PRRAS!E775:E776))>1,1,0)","v":0}]
[88,"Zadovoljena","AOP 419 mora biti jednak zbroju AOP-a: 763+764 u oba stupca podataka. Dopušteno je odstupanje od 1 kn zbog zaokruživanja",151,0,{"$f":"IF(ABS(PRRAS!D432-SUM(PRRAS!D777:D778))>1,1,0)","v":0},{"$f":"IF(ABS(PRRAS!E432-SUM(PRRAS!E777:E778))>1,1,0)","v":0}]
[89,"Zadovoljena","AOP 765 je samo dio AOP-a 431 i mora biti manji ili jednak njemu u oba stupca podataka",151,0,{"$f":"IF(PRRAS!D779>PRRAS!D444,1,0)","v":0},{"$f":"IF(PRRAS!E779>PRRAS!E444,1,0)","v":0}]
[90,"Zadovoljena","AOP 766 je samo dio AOP-a 448 i mora biti manji ili jednak njemu u oba stupca podataka",151,0,{"$f":"IF(PRRAS!D780>PRRAS!D461,1,0)","v":0},{"$f":"IF(PRRAS!E780>PRRAS!E461,1,0)","v":0}]
[91,{"$f":"IF(E97=1,\"Nije zadovoljena\", \"Zadovoljena\")","v":"Zadovoljena"},"AOP 767 je samo dio AOP-a 449 i mora biti manji ili jednak njemu u oba stupca podataka",151,{"$f":"MAX(F97:I97)","v":0},{"$f":"IF(PRRAS!D781>PRRAS!D462,1,0)","v":0},{"$f":"IF(PRRAS!E781>PRRAS!E462,1,0)","v":0}]
[92,"Zadovoljena","AOP 768 je samo dio AOP-a 450 i mora biti manji ili jednak njemu u oba stupca podataka",151,0,{"$f":"IF(PRRAS!D782>PRRAS!D463,1,0)","v":0},{"$f":"IF(PRRAS!E782>PRRAS!E463,1,0)","v":0}]
[93,"Zadovoljena","AOP 769 je samo dio AOP-a 451 i mora biti manji ili jednak njemu u oba stupca podataka",151,0,{"$f":"IF(PRRAS!D783>PRRAS!D464,1,0)","v":0},{"$f":"IF(PRRAS!E783>PRRAS!E464,1,0)","v":0}]
[94,"Zadovoljena","AOP 453 mora biti jednak zbroju AOP-a: 770+771 u oba stupca podataka. Dopušteno je odstupanje od 1 kn zbog zaokruživanja",151,0,{"$f":"IF(ABS(PRRAS!D466-PRRAS!D784-PRRAS!D785)>1,1,0)","v":0},{"$f":"IF(ABS(PRRAS!E466-PRRAS!E784-PRRAS!E785)>1,1,0)","v":0}]
[95,"Zadovoljena","AOP 772 je samo dio AOP-a 454 i mora biti manji ili jednak njemu u oba stupca podataka",151,0,{"$f":"IF(PRRAS!D786>PRRAS!D467,1,0)","v":0},{"$f":"IF(PRRAS!E786>PRRAS!E467,1,0)","v":0}]
[96,"Zadovoljena","AOP 773 je samo dio AOP-a 455 i mora biti manji ili jednak njemu u oba stupca podataka",151,0,{"$f":"IF(PRRAS!D787>PRRAS!D468,1,0)","v":0},{"$f":"IF(PRRAS!E787>PRRAS!E468,1,0)","v":0}]
[97,"Zadovoljena","AOP 774 je samo dio AOP-a 457 i mora biti manji ili jednak njemu u oba stupca podataka",151,0,{"$f":"IF(PRRAS!D788>PRRAS!D470,1,0)","v":0},{"$f":"IF(PRRAS!E788>PRRAS!E470,1,0)","v":0}]
[98,"Zadovoljena","AOP 459 mora biti jednak zbroju AOP-a: 775+776 u oba stupca podataka. Dopušteno je odstupanje od 1 kn zbog zaokruživanja",151,0,{"$f":"IF(ABS(PRRAS!D472-PRRAS!D789-PRRAS!D790)>1,1,0)","v":0},{"$f":"IF(ABS(PRRAS!E472-PRRAS!E789-PRRAS!E790)>1,1,0)","v":0}]
[99,"Zadovoljena","AOP 777 je samo dio AOP-a 460 i mora biti manji ili jednak njemu u oba stupca podataka",151,0,{"$f":"IF(PRRAS!D791>PRRAS!D473,1,0)","v":0},{"$f":"IF(PRRAS!E791>PRRAS!E473,1,0)","v":0}]
[100,"Zadovoljena","AOP 778 je samo dio AOP-a 461 i mora biti manji ili jednak njemu u oba stupca podataka",151,0,{"$f":"IF(PRRAS!D792>PRRAS!D474,1,0)","v":0},{"$f":"IF(PRRAS!E792>PRRAS!E474,1,0)","v":0}]
[101,"Zadovoljena","AOP 462 mora biti jednak zbroju AOP-a: 779+780 u oba stupca podataka. Dopušteno je odstupanje od 1 kn zbog zaokruživanja",151,0,{"$f":"IF(ABS(PRRAS!D475-PRRAS!D793-PRRAS!D794)>1,1,0)","v":0},{"$f":"IF(ABS(PRRAS!E475-PRRAS!E793-PRRAS!E794)>1,1,0)","v":0}]
[102,"Zadovoljena","AOP 781 je samo dio AOP-a 463 i mora biti manji ili jednak njemu u oba stupca podataka",151,0,{"$f":"IF(PRRAS!D795>PRRAS!D476,1,0)","v":0},{"$f":"IF(PRRAS!E795>PRRAS!E476,1,0)","v":0}]
[103,"Zadovoljena","AOP 782 je samo dio AOP-a 464 i mora biti manji ili jednak njemu u oba stupca podataka",151,0,{"$f":"IF(PRRAS!D796>PRRAS!D477,1,0)","v":0},{"$f":"IF(PRRAS!E796>PRRAS!E477,1,0)","v":0}]
[104,"Zadovoljena","AOP 783 je samo dio AOP-a 466 i mora biti manji ili jednak njemu u oba stupca podataka",151,0,{"$f":"IF(PRRAS!D797>PRRAS!D479,1,0)","v":0},{"$f":"IF(PRRAS!E797>PRRAS!E479,1,0)","v":0}]
[105,"Zadovoljena","AOP 784 je samo dio AOP-a 467 i mora biti manji ili jednak njemu u oba stupca podataka",151,0,{"$f":"IF(PRRAS!D798>PRRAS!D480,1,0)","v":0},{"$f":"IF(PRRAS!E798>PRRAS!E480,1,0)","v":0}]
[106,"Zadovoljena","AOP 785 je samo dio AOP-a 468 i mora biti manji ili jednak njemu u oba stupca podataka",151,0,{"$f":"IF(PRRAS!D799>PRRAS!D481,1,0)","v":0},{"$f":"IF(PRRAS!E799>PRRAS!E481,1,0)","v":0}]
[107,"Zadovoljena","AOP 471 mora biti jednak zbroju AOP-a: 786+787 u oba stupca podataka. Dopušteno je odstupanje od 1kn zbog zaokruživanja.",151,0,{"$f":"IF(ABS(PRRAS!D484-PRRAS!D800-PRRAS!D801)>1,1,0)","v":0},{"$f":"IF(ABS(PRRAS!E484-PRRAS!E800-PRRAS!E801)>1,1,0)","v":0}]
[108,"Zadovoljena","AOP 472 mora biti jednak zbroju AOP-a: 788+789 u oba stupca podataka. Dopušteno je odstupanje od 1kn zbog zaokruživanja.",151,0,{"$f":"IF(ABS(PRRAS!D485-PRRAS!D802-PRRAS!D803)>1,1,0)","v":0},{"$f":"IF(ABS(PRRAS!E485-PRRAS!E802-PRRAS!E803)>1,1,0)","v":0}]
[109,"Zadovoljena","AOP 473 mora biti jednak zbroju AOP-a: 790+791 u oba stupca podataka. Dopušteno je odstupanje od 1kn zbog zaokruživanja.",151,0,{"$f":"IF(ABS(PRRAS!D486-PRRAS!D804-PRRAS!D805)>1,1,0)","v":0},{"$f":"IF(ABS(PRRAS!E486-PRRAS!E804-PRRAS!E805)>1,1,0)","v":0}]
[110,"Zadovoljena","AOP 474 mora biti jednak zbroju AOP-a: 792+793 u oba stupca podataka. Dopušteno je odstupanje od 1kn zbog zaokruživanja.",151,0,{"$f":"IF(ABS(PRRAS!D487-PRRAS!D806-PRRAS!D807)>1,1,0)","v":0},{"$f":"IF(ABS(PRRAS!E487-PRRAS!E806-PRRAS!E807)>1,1,0)","v":0}]
[111,"Zadovoljena","AOP 475 mora biti jednak zbroju AOP-a: 794+795 u oba stupca podataka. Dopušteno je odstupanje od 1kn zbog zaokruživanja.",151,0,{"$f":"IF(ABS(PRRAS!D488-PRRAS!D808-PRRAS!D809)>1,1,0)","v":0},{"$f":"IF(ABS(PRRAS!E488-PRRAS!E808-PRRAS!E809)>1,1,0)","v":0}]
[112,"Zadovoljena","AOP 476 mora biti jednak zbroju AOP-a: 796+797 u oba stupca podataka. Dopušteno je odstupanje od 1kn zbog zaokruživanja.",151,0,{"$f":"IF(ABS(PRRAS!D489-PRRAS!D810-PRRAS!D811)>1,1,0)","v":0},{"$f":"IF(ABS(PRRAS!E489-PRRAS!E810-PRRAS!E811)>1,1,0)","v":0}]
[113,"Zadovoljena","AOP 798 je samo dio AOP-a 488 i mora biti manji ili jednak njemu u oba stupca podataka",151,0,{"$f":"IF(PRRAS!D812>PRRAS!D501,1,0)","v":0},{"$f":"IF(PRRAS!E812>PRRAS!E501,1,0)","v":0}]
[114,"Zadovoljena","AOP 800 je samo dio AOP-a 498 i mora biti manji ili jednak njemu u oba stupca podataka",151,0,{"$f":"IF(PRRAS!D814>PRRAS!D511,1,0)","v":0},{"$f":"IF(PRRAS!E814>PRRAS!E511,1,0)","v":0}]
[115,"Zadovoljena","AOP 801 je samo dio AOP-a 501 i mora biti manji ili jednak njemu u oba stupca podataka",151,0,{"$f":"IF(PRRAS!D815>PRRAS!D514,1,0)","v":0},{"$f":"IF(PRRAS!E815>PRRAS!E514,1,0)","v":0}]
[116,"Zadovoljena","AOP 802 je samo dio AOP-a 502 i mora biti manji ili jednak njemu u oba stupca podataka",151,0,{"$f":"IF(PRRAS!D816>PRRAS!D515,1,0)","v":0},{"$f":"IF(PRRAS!E816>PRRAS!E515,1,0)","v":0}]
[117,"Zadovoljena","AOP 803 je samo dio AOP-a 503 i mora biti manji ili jednak njemu u oba stupca podataka",151,0,{"$f":"IF(PRRAS!D817>PRRAS!D516,1,0)","v":0},{"$f":"IF(PRRAS!E817>PRRAS!E516,1,0)","v":0}]
[118,"Zadovoljena","AOP 505 mora biti jednak zbroju AOP-a: 804+805 u oba stupca podataka. Dopušteno je odstupanje od 1kn zbog zaokruživanja.",151,0,{"$f":"IF(ABS(PRRAS!D518-PRRAS!D818-PRRAS!D819)>1,1,0)","v":0},{"$f":"IF(ABS(PRRAS!E518-PRRAS!E818-PRRAS!E819)>1,1,0)","v":0}]
[119,"Zadovoljena","AOP 806 je samo dio AOP-a 507 i mora biti manji ili jednak njemu u oba stupca podataka",151,0,{"$f":"IF(PRRAS!D820>PRRAS!D520,1,0)","v":0},{"$f":"IF(PRRAS!E820>PRRAS!E520,1,0)","v":0}]
[120,"Zadovoljena","AOP 807 je samo dio AOP-a 508 i mora biti manji ili jednak njemu u oba stupca podataka",151,0,{"$f":"IF(PRRAS!D821>PRRAS!D521,1,0)","v":0},{"$f":"IF(PRRAS!E821>PRRAS!E521,1,0)","v":0}]
[121,"Zadovoljena","AOP 808 je samo dio AOP-a 509 i mora biti manji ili jednak njemu u oba stupca podataka",151,0,{"$f":"IF(PRRAS!D822>PRRAS!D522,1,0)","v":0},{"$f":"IF(PRRAS!E822>PRRAS!E522,1,0)","v":0}]
[122,"Zadovoljena","AOP 514 mora biti jednak zbroju AOP-a: 809+810 u oba stupca podataka. Dopušteno je odstupanje od 1kn zbog zaokruživanja.",151,0,{"$f":"IF(ABS(PRRAS!D527-PRRAS!D823-PRRAS!D824)>1,1,0)","v":0},{"$f":"IF(ABS(PRRAS!E527-PRRAS!E823-PRRAS!E824)>1,1,0)","v":0}]
[123,"Zadovoljena","AOP 515 mora biti jednak zbroju AOP-a: 811+812 u oba stupca podataka. Dopušteno je odstupanje od 1kn zbog zaokruživanja.",151,{"$f":"MAX(F129:I129)","v":0},{"$f":"IF(ABS(PRRAS!D528-PRRAS!D825-PRRAS!D826)>1,1,0)","v":0},{"$f":"IF(ABS(PRRAS!E528-PRRAS!E825-PRRAS!E826)>1,1,0)","v":0}]
[124,"Zadovoljena","AOP 519 mora biti jednak zbroju AOP-a: 813+814 u oba stupca podataka. Dopušteno je odstupanje od 1kn zbog zaokruživanja.",151,0,{"$f":"IF(ABS(PRRAS!D532-PRRAS!D827-PRRAS!D828)>1,1,0)","v":0},{"$f":"IF(ABS(PRRAS!E532-PRRAS!E827-PRRAS!E828)>1,1,0)","v":0}]
[125,"Zadovoljena","AOP 520 mora biti jednak zbroju AOP-a: 815+816 u oba stupca podataka. Dopušteno je odstupanje od 1kn zbog zaokruživanja.",151,0,{"$f":"IF(ABS(PRRAS!D533-PRRAS!D829-PRRAS!D830)>1,1,0)","v":0},{"$f":"IF(ABS(PRRAS!E533-PRRAS!E829-PRRAS!E830)>1,1,0)","v":0}]
[126,"Zadovoljena","AOP 521 mora biti jednak zbroju AOP-a: 817+818 u oba stupca podataka. Dopušteno je odstupanje od 1kn zbog zaokruživanja.",151,0,{"$f":"IF(ABS(PRRAS!D534-PRRAS!D831-PRRAS!D832)>1,1,0)","v":0},{"$f":"IF(ABS(PRRAS!E534-PRRAS!E831-PRRAS!E832)>1,1,0)","v":0}]
[127,"Zadovoljena","AOP 522 mora biti jednak zbroju AOP-a: 819+820 u oba stupca podataka. Dopušteno je odstupanje od 1kn zbog zaokruživanja.",151,0,{"$f":"IF(ABS(PRRAS!D535-PRRAS!D833-PRRAS!D834)>1,1,0)","v":0},{"$f":"IF(ABS(PRRAS!E535-PRRAS!E833-PRRAS!E834)>1,1,0)","v":0}]
[128,"Zadovoljena","AOP 523 mora biti jednak zbroju AOP-a: 821+822 u oba stupca podataka. Dopušteno je odstupanje od 1kn zbog zaokruživanja.",151,0,{"$f":"IF(ABS(PRRAS!D536-PRRAS!D835-PRRAS!D836)>1,1,0)","v":0},{"$f":"IF(ABS(PRRAS!E536-PRRAS!E835-PRRAS!E836)>1,1,0)","v":0}]
[129,"Zadovoljena","AOP 524 mora biti jednak zbroju AOP-a: 823+824 u oba stupca podataka. Dopušteno je odstupanje od 1kn zbog zaokruživanja.",151,0,{"$f":"IF(ABS(PRRAS!D537-PRRAS!D837-PRRAS!D838)>1,1,0)","v":0},{"$f":"IF(ABS(PRRAS!E537-PRRAS!E837-PRRAS!E838)>1,1,0)","v":0}]
[130,"Zadovoljena","AOP 525 mora biti jednak zbroju AOP-a: 825+826 u oba stupca podataka. Dopušteno je odstupanje od 1kn zbog zaokruživanja.",151,0,{"$f":"IF(ABS(PRRAS!D538-PRRAS!D839-PRRAS!D840)>1,1,0)","v":0},{"$f":"IF(ABS(PRRAS!E538-PRRAS!E839-PRRAS!E840)>1,1,0)","v":0}]
[131,"Zadovoljena","AOP 827 je samo dio AOP-a 554 i mora biti manji ili jednak njemu u oba stupca podataka",151,0,{"$f":"IF(PRRAS!D841>PRRAS!D567,1,0)","v":0},{"$f":"IF(PRRAS!E841>PRRAS!E567,1,0)","v":0}]
[132,"Zadovoljena","AOP 828 je samo dio AOP-a 555 i mora biti manji ili jednak njemu u oba stupca podataka",151,0,{"$f":"IF(PRRAS!D842>PRRAS!D568,1,0)","v":0},{"$f":"IF(PRRAS!E842>PRRAS!E568,1,0)","v":0}]
[133,"Zadovoljena","AOP 829 je samo dio AOP-a 556 i mora biti manji ili jednak njemu u oba stupca podataka",151,0,{"$f":"IF(PRRAS!D843>PRRAS!D569,1,0)","v":0},{"$f":"IF(PRRAS!E843>PRRAS!E569,1,0)","v":0}]
[134,"Zadovoljena","AOP 830 je samo dio AOP-a 557 i mora biti manji ili jednak njemu u oba stupca podataka",151,0,{"$f":"IF(PRRAS!D844>PRRAS!D570,1,0)","v":0},{"$f":"IF(PRRAS!E844>PRRAS!E570,1,0)","v":0}]
[135,"Zadovoljena","AOP 559 mora biti jednak zbroju AOP-a: 831+832 u oba stupca podataka. Dopušteno je odstupanje od 1kn zbog zaokruživanja.",151,0,{"$f":"IF(ABS(PRRAS!D572-PRRAS!D845-PRRAS!D846)>1,1,0)","v":0},{"$f":"IF(ABS(PRRAS!E572-PRRAS!E845-PRRAS!E846)>1,1,0)","v":0}]
[136,"Zadovoljena","AOP 833 je samo dio AOP-a 560 i mora biti manji ili jednak njemu u oba stupca podataka",151,0,{"$f":"IF(PRRAS!D847>PRRAS!D573,1,0)","v":0},{"$f":"IF(PRRAS!E847>PRRAS!E573,1,0)","v":0}]
[137,{"$f":"IF(E143=1,\"Nije zadovoljena\", \"Zadovoljena\")","v":"Zadovoljena"},"AOP 834 je samo dio AOP-a 561 i mora biti manji ili jednak njemu u oba stupca podataka",151,0,{"$f":"IF(PRRAS!D848>PRRAS!D574,1,0)","v":0},{"$f":"IF(PRRAS!E848>PRRAS!E574,1,0)","v":0}]
[138,"Zadovoljena","AOP 835 je samo dio AOP-a 563 i mora biti manji ili jednak njemu u oba stupca podataka",151,0,{"$f":"IF(PRRAS!D849>PRRAS!D576,1,0)","v":0},{"$f":"IF(PRRAS!E849>PRRAS!E576,1,0)","v":0}]
[139,"Zadovoljena","AOP 565 mora biti jednak zbroju AOP-a: 836+837 u oba stupca podataka. Dopušteno je odstupanje od 1kn zbog zaokruživanja.",151,0,{"$f":"IF(ABS(PRRAS!D578-PRRAS!D850-PRRAS!D851)>1,1,0)","v":0},{"$f":"IF(ABS(PRRAS!E578-PRRAS!E850-PRRAS!E851)>1,1,0)","v":0}]
[140,"Zadovoljena","AOP 838 je samo dio AOP-a 566 i mora biti manji ili jednak njemu u oba stupca podataka",151,0,{"$f":"IF(PRRAS!D852>PRRAS!D579,1,0)","v":0},{"$f":"IF(PRRAS!E852>PRRAS!E579,1,0)","v":0}]
[141,"Zadovoljena","AOP 839 je samo dio AOP-a 567 i mora biti manji ili jednak njemu u oba stupca podataka",151,0,{"$f":"IF(PRRAS!D853>PRRAS!D580,1,0)","v":0},{"$f":"IF(PRRAS!E853>PRRAS!E580,1,0)","v":0}]
[142,"Zadovoljena","AOP 568 mora biti jednak zbroju AOP-a:840+841 u oba stupca podataka. Dopušteno je odstupanje od 1kn zbog zaokruživanja.",151,0,{"$f":"IF(ABS(PRRAS!D581-PRRAS!D854-PRRAS!D855)>1,1,0)","v":0},{"$f":"IF(ABS(PRRAS!E581-PRRAS!E854-PRRAS!E855)>1,1,0)","v":0}]
[143,"Zadovoljena","AOP 842 je samo dio AOP-a 569 i mora biti manji ili jednak njemu u oba stupca podataka",151,0,{"$f":"IF(PRRAS!D856>PRRAS!D582,1,0)","v":0},{"$f":"IF(PRRAS!E856>PRRAS!E582,1,0)","v":0}]
[144,"Zadovoljena","AOP 843 je samo dio AOP-a 570 i mora biti manji ili jednak njemu u oba stupca podataka",151,0,{"$f":"IF(PRRAS!D857>PRRAS!D583,1,0)","v":0},{"$f":"IF(PRRAS!E857>PRRAS!E583,1,0)","v":0}]
[145,"Zadovoljena","AOP 844 je samo dio AOP-a 572 i mora biti manji ili jednak njemu u oba stupca podataka",151,0,{"$f":"IF(PRRAS!D858>PRRAS!D585,1,0)","v":0},{"$f":"IF(PRRAS!E858>PRRAS!E585,1,0)","v":0}]
[146,"Zadovoljena","AOP 845 je samo dio AOP-a 573 i mora biti manji ili jednak njemu u oba stupca podataka",151,{"$f":"MAX(F152:I152)","v":0},{"$f":"IF(PRRAS!D859>PRRAS!D586,1,0)","v":0},{"$f":"IF(PRRAS!E859>PRRAS!E586,1,0)","v":0}]
[147,"Zadovoljena","AOP 846 je samo dio AOP-a 574 i mora biti manji ili jednak njemu u oba stupca podataka",151,0,{"$f":"IF(PRRAS!D860>PRRAS!D587,1,0)","v":0},{"$f":"IF(PRRAS!E860>PRRAS!E587,1,0)","v":0}]
[148,"Zadovoljena","AOP 577 mora biti jednak zbroju AOP-a: 847+848 u oba stupca podataka. Dopušteno je odstupanje od 1kn zbog zaokruživanja.",151,0,{"$f":"IF(ABS(PRRAS!D590-PRRAS!D861-PRRAS!D862)>1,1,0)","v":0},{"$f":"IF(ABS(PRRAS!E590-PRRAS!E861-PRRAS!E862)>1,1,0)","v":0}]
[149,"Zadovoljena","AOP 578 mora biti jednak zbroju AOP-a: 849+850 u oba stupca podataka. Dopušteno je odstupanje od 1kn zbog zaokruživanja.",151,0,{"$f":"IF(ABS(PRRAS!D591-PRRAS!D863-PRRAS!D864)>1,1,0)","v":0},{"$f":"IF(ABS(PRRAS!E591-PRRAS!E863-PRRAS!E864)>1,1,0)","v":0}]
[{"$f":"1+A155","v":150},"Zadovoljena","AOP 579 mora biti jednak zbroju AOP-a: 851+852 u oba stupca podataka. Dopušteno je odstupanje od 1kn zbog zaokruživanja.",151,0,{"$f":"IF(ABS(PRRAS!D592-PRRAS!D865-PRRAS!D866)>1,1,0)","v":0},{"$f":"IF(ABS(PRRAS!E592-PRRAS!E865-PRRAS!E866)>1,1,0)","v":0}]
[151,"Zadovoljena","AOP 580 mora biti jednak zbroju AOP-a: 853+854 u oba stupca podataka. Dopušteno je odstupanje od 1kn zbog zaokruživanja.",151,0,{"$f":"IF(ABS(PRRAS!D593-PRRAS!D867-PRRAS!D868)>1,1,0)","v":0},{"$f":"IF(ABS(PRRAS!E593-PRRAS!E867-PRRAS!E868)>1,1,0)","v":0}]
[152,"Zadovoljena","AOP 581 mora biti jednak zbroju AOP-a: 855+856 u oba stupca podataka. Dopušteno je odstupanje od 1kn zbog zaokruživanja.",151,0,{"$f":"IF(ABS(PRRAS!D594-PRRAS!D869-PRRAS!D870)>1,1,0)","v":0},{"$f":"IF(ABS(PRRAS!E594-PRRAS!E869-PRRAS!E870)>1,1,0)","v":0}]
[153,"Zadovoljena","AOP 582 mora biti jednak zbroju AOP-a: 857+858 u oba stupca podataka. Dopušteno je odstupanje od 1kn zbog zaokruživanja.",151,0,{"$f":"IF(ABS(PRRAS!D595-PRRAS!D871-PRRAS!D872)>1,1,0)","v":0},{"$f":"IF(ABS(PRRAS!E595-PRRAS!E871-PRRAS!E872)>1,1,0)","v":0}]
[154,"Zadovoljena","AOP 583 mora biti jednak zbroju AOP-a: 859+860 u oba stupca podataka. Dopušteno je odstupanje od 1kn zbog zaokruživanja.",151,0,{"$f":"IF(ABS(PRRAS!D596-PRRAS!D873-PRRAS!D874)>1,1,0)","v":0},{"$f":"IF(ABS(PRRAS!E596-PRRAS!E873-PRRAS!E874)>1,1,0)","v":0}]
[155,"Zadovoljena","AOP 861 je samo dio AOP-a 592 i mora biti manji ili jednak njemu u oba stupca podataka",151,0,{"$f":"IF(PRRAS!D875>PRRAS!D605,1,0)","v":0},{"$f":"IF(PRRAS!E875>PRRAS!E605,1,0)","v":0}]
[156,"Zadovoljena","Ako je na AOP-u 648 (rashodi za zaposlene u tijelima) podatak veći od nule, tada podaci na AOP-ima 650 i 652 ne mogu biti jednaki nuli i ne mogu zbrojeno biti veći od AOP-a 648",151,0,{"$f":"IF(AND(PRRAS!D662>0,PRRAS!D664+PRRAS!D666 =0),1,0)","v":0},{"$f":"IF(AND(PRRAS!E662>0,PRRAS!E664+PRRAS!E666 =0),1,0)","v":0},{"$f":"IF(PRRAS!D662<PRRAS!D664+PRRAS!D666,1,0)","v":0},{"$f":"IF(PRRAS!E662<PRRAS!E664+PRRAS!E666,1,0)","v":0}]
[157,"Zadovoljena","Ako je na AOP-u 649 (rashodi za zaposlene kod korisnika) podatak veći od nule, tada podaci na AOP-ima 651 i 653 ne mogu biti jednaki nuli i ne mogu zbrojeno biti veći od AOP-a 649",151,0,{"$f":"IF(AND(PRRAS!D663>0,PRRAS!D665+PRRAS!D667 =0),1,0)","v":0},{"$f":"IF(AND(PRRAS!E663>0,PRRAS!E665+PRRAS!E667 =0),1,0)","v":0},{"$f":"IF(PRRAS!D663<PRRAS!D665+PRRAS!D667,1,0)","v":0},{"$f":"IF(PRRAS!E663<PRRAS!E665+PRRAS!E667,1,0)","v":0}]
[158,"Zadovoljena","Samo na AOP oznakama 003 i 012 u iznimnim slučajevima iznosi mogu biti negativni, iznosi svih ostalih AOP-a moraju biti pozitivni; ako je iznos ijednog drugog AOP-a negativan kontrola nije zadovoljena i obrazac je neispravan.",151,0,{"$f":"IF(MIN(PRRAS!D12:E13,PRRAS!D15:E22,PRRAS!D24:E261,PRRAS!D263:E395,PRRAS!D397:E619,PRRAS!D621:E877,PRRAS!D881:D916)<0,1,0)","v":0}]
[159,{"$f":"IF(E165=1,\"Nije zadovoljena\", \"Zadovoljena\")","v":"Zadovoljena"},"Vrijednosti svih AOP oznaka moraju biti zaokružene, cjelobrojne vrijednosti, ako neka vrijednost nije zaokružena, već upisana s decimalama, kontrola nije zadovoljena, takav obrazac je neispravan.",151,0,{"$f":"IF(G165 = 0,0,1)","v":0},{"$f":"SUM(Skriveni!H2:H900)","v":0}]
[160,"Zadovoljena","Razina 11 ne smije imati popunjene AOP oznake: 003 do 034, 041 do 046, 121, 185, 219, 220, 388 do 390, 404 do 406, 410, 411, 422, 423, 426 do 429, 432, 442, 445, 447 do 451, 463, 464, 468, 469, 480, 483, 489, 492 do 496, 510 do 512, 516, 517, 529, 532, 537, 538, 548, 551, 553 do 557, 569, 570, 574, 575, 585, 587, 590, 593, 646, 666, 668, 670, 672. Ako je na bilo kojoj od ovih AOP oznaka upisan iznos, a obrazac je razine 11, kontrola javlja grešku i obrazac je neispravan.",151,{"$f":"F166*G166","v":0},{"$f":"IF(RefStr!B16=11,1,0)","v":0},{"$f":"IF(OR(MIN(H166:K166)<>0,MAX(H166:K166)<>0),1,0)","v":0},{"$f":"MAX(PRRAS!D14:E45,PRRAS!D51:E57,PRRAS!D132:E132,PRRAS!D196:E196,PRRAS!D230:E231,PRRAS!D401:E403,PRRAS!D417:E419,PRRAS!D423:E424,PRRAS!D435:E436,PRRAS!D439:E442,PRRAS!D445:E445,PRRAS!D455:E455,PRRAS!D458:E458,PRRAS!D460:E464,PRRAS!D476:E477,PRRAS!D481:E482,PRRAS!D493:E493,PRRAS!D496:E496,PRRAS!D502:E502,PRRAS!D505:E509,PRRAS!D523:E525,PRRAS!D529:E530,PRRAS!D542:E542)","v":0},{"$f":"MAX(PRRAS!D545:E545,PRRAS!D550:E550,PRRAS!D551:E551,PRRAS!D561:E561,PRRAS!D564:E564,PRRAS!D566:E570,PRRAS!D582:E583,PRRAS!D587:E588,PRRAS!D598:E600,PRRAS!D603:E603,PRRAS!D606:E606,PRRAS!D660:E660,PRRAS!D680:E680,PRRAS!D682:E682,PRRAS!D684:E684,PRRAS!D686:E686)","v":0},{"$f":"MIN(PRRAS!D14:E45,PRRAS!D51:E57,PRRAS!D132:E132,PRRAS!D196:E196,PRRAS!D230:E231,PRRAS!D401:E403,PRRAS!D417:E419,PRRAS!D423:E424,PRRAS!D435:E436,PRRAS!D439:E442,PRRAS!D445:E445,PRRAS!D455:E455,PRRAS!D458:E458,PRRAS!D460:E464,PRRAS!D476:E477,PRRAS!D481:E482,PRRAS!D493:E493,PRRAS!D496:E496,PRRAS!D502:E502,PRRAS!D505:E509,PRRAS!D523:E525,PRRAS!D529:E530,PRRAS!D542:E542)","v":0},{"$f":"MIN(PRRAS!D545:E545,PRRAS!D550:E550,PRRAS!D551:E551,PRRAS!D561:E561,PRRAS!D564:E564,PRRAS!D566:E570,PRRAS!D582:E583,PRRAS!D587:E588,PRRAS!D598:E600,PRRAS!D603:E603,PRRAS!D606:E606,PRRAS!D660:E660,PRRAS!D680:E680,PRRAS!D682:E682,PRRAS!D684:E684,PRRAS!D686:E686)","v":0}]
[161,"Zadovoljena","Razina 12 ne može imati popunjene AOP oznake: 003 do 034, 121, 388 do 390, 404 do 406, 410, 411, 421 do 423, 426 do 429, 432, 449 do 451, 480, 483, 489, 492 do 496, 510 do 512, 516, 517, 529, 532, 536 do 538, 548, 551, 555 do 557, 585 do 587, 590, 593, 666, 668, 670, 672. Ako je na bilo kojoj od ovih AOP oznaka upisan iznos, a obrazac je razine 12, kontrola javlja grešku i obrazac je neispravan.",151,0,{"$f":"IF(RefStr!B16=12,1,0)","v":0},0,{"$f":"MIN(PRRAS!D14:E45,PRRAS!D132:E132,PRRAS!D401:E403,PRRAS!D417:E419,PRRAS!D423:E424,PRRAS!D434:E436,PRRAS!D439:E442,PRRAS!D445:E445,PRRAS!D462:E464,PRRAS!D493:E493,PRRAS!D496:E496,PRRAS!D502:E502,PRRAS!D505:E509,PRRAS!D523:E525,PRRAS!D529:E530,PRRAS!D542:E542,PRRAS!D545:E545,PRRAS!D549:E551,PRRAS!D561:E561,PRRAS!D564:E564,PRRAS!D568:E570,PRRAS!D598:E600,PRRAS!D603:E603,PRRAS!D606:E606,PRRAS!D680:E680,PRRAS!D682:E682,PRRAS!D684:E684,PRRAS!D686:E686)","v":0},{"$f":"MAX(PRRAS!D14:E45,PRRAS!D132:E132,PRRAS!D401:E403,PRRAS!D417:E419,PRRAS!D423:E424,PRRAS!D434:E436,PRRAS!D439:E442,PRRAS!D445:E445,PRRAS!D462:E464,PRRAS!D493:E493,PRRAS!D496:E496,PRRAS!D502:E502,PRRAS!D505:E509,PRRAS!D523:E525,PRRAS!D529:E530,PRRAS!D542:E542,PRRAS!D545:E545,PRRAS!D549:E551,PRRAS!D561:E561,PRRAS!D564:E564,PRRAS!D568:E570,PRRAS!D598:E600,PRRAS!D603:E603,PRRAS!D606:E606,PRRAS!D680:E680,PRRAS!D682:E682,PRRAS!D684:E684,PRRAS!D686:E686)","v":0}]
[162,"Zadovoljena","Razina 13 ne može imati popunjene AOP oznake: 115 do 118. Ako je na bilo kojoj od ovih AOP oznaka upisan iznos, a obrazac je razine 11, kontrola javlja grešku i obrazac je neispravan.",151,0,{"$f":"IF(RefStr!B16=13,1,0)","v":0},0,{"$f":"MIN(PRRAS!D126:E129)","v":0},{"$f":"MIN(PRRAS!D126:E129)","v":0}]
[163,"Zadovoljena","Razina 21 ne može imati popunjene AOP oznake: 003 do 034, 040 do 046, 121, 157, 185, 206 do 211, 218 do 220, 301, 302, 360, 386 do 390, 393, 404 do 406, 410, 411, 421 do 423, 426 do 429, 432, 442, 445, 447 do 451, 462 do 464, 468, 469, 480, 483 do 486, 489, 492 do 496, 499, 510 do 512, 516, 517, 529, 532, 533 do 538, 548, 551, 553 do 557, 568 do 570, 574, 575, 585 do 587, 590, 593, 646, 666, 668, 670, 672. Ako je na bilo kojoj od ovih AOP oznaka upisan iznos, a obrazac je razine 21, kontrola javlja grešku i obrazac je neispravan.",151,0,{"$f":"IF(RefStr!B16=21,1,0)","v":0},0,{"$f":"MIN(PRRAS!D14:E45,PRRAS!D51:E57,PRRAS!D132:E132,PRRAS!D168:E168,PRRAS!D196:E196,PRRAS!D217:E222,PRRAS!D229:E231,PRRAS!D313:E314,PRRAS!D371:E372,PRRAS!D399:E403,PRRAS!D406:E406,PRRAS!D417:E419,PRRAS!D423:E424,PRRAS!D434:E436,PRRAS!D439:E442,PRRAS!D445:E445,PRRAS!D455:E455,PRRAS!D458:E458,PRRAS!D460:E464,PRRAS!D475:E477,PRRAS!D481:E482)","v":0},{"$f":"MIN(PRRAS!D493:E493,PRRAS!D496:E499,PRRAS!D502:E502,PRRAS!D505:E509,PRRAS!D512:E512,PRRAS!D523:E525,PRRAS!D529:E530,PRRAS!D542:E542,PRRAS!D545:E545,PRRAS!D546:E551,PRRAS!D561:E561,PRRAS!D564:E564,PRRAS!D566:E570,PRRAS!D581:E583,PRRAS!D587:E588,PRRAS!D598:E600,PRRAS!D603:E603,PRRAS!D606:E606,PRRAS!D660:E660,PRRAS!D680:E680,PRRAS!D682:E682,PRRAS!D684:E684,PRRAS!D686:E686)","v":0},{"$f":"MAX(PRRAS!D14:E45,PRRAS!D51:E57,PRRAS!D132:E132,PRRAS!D168:E168,PRRAS!D196:E196,PRRAS!D217:E222,PRRAS!D229:E231,PRRAS!D313:E314,PRRAS!D371:E372,PRRAS!D399:E403,PRRAS!D406:E406,PRRAS!D417:E419,PRRAS!D423:E424,PRRAS!D434:E436,PRRAS!D439:E442,PRRAS!D445:E445,PRRAS!D455:E455,PRRAS!D458:E458,PRRAS!D460:E464,PRRAS!D475:E477,PRRAS!D481:E482)","v":0},{"$f":"MAX(PRRAS!D493:E493,PRRAS!D496:E499,PRRAS!D502:E502,PRRAS!D505:E509,PRRAS!D512:E512,PRRAS!D523:E525,PRRAS!D529:E530,PRRAS!D542:E542,PRRAS!D545:E545,PRRAS!D546:E551,PRRAS!D561:E561,PRRAS!D564:E564,PRRAS!D566:E570,PRRAS!D581:E583,PRRAS!D587:E588,PRRAS!D598:E600,PRRAS!D603:E603,PRRAS!D606:E606,PRRAS!D660:E660,PRRAS!D680:E680,PRRAS!D682:E682,PRRAS!D684:E684,PRRAS!D686:E686)","v":0}]
[164,"Zadovoljena","Razine 22 i 23 ne mogu imati popunjene AOP oznake: 012 do 017, 021, 025, 027, 032 do 034, 040 do 046, 118, 121, 157, 185, 218 do 220, 301, 302, 359, 360, 386 do 390, 393, 404 do 406, 410, 411, 421 do 423, 426 do 429, 432, 442, 445, 447 do 451, 462 do 464, 468, 469, 480, 483 do 486, 489, 492 do 496, 499, 510 do 512, 516, 517, 529, 532 do 538, 548, 551, 553 do 557, 568 do 570, 574, 575, 585 do 587, 590, 593, 646, 666, 668, 670, 672. Ako je na bilo kojoj od ovih AOP oznaka upisan iznos, a obrazac je razine 22 ili razine 23, kontrola javlja grešku i obrazac je neispravan.",151,0,{"$f":"IF(OR(RefStr!B16=22,RefStr!B16=23),1,0)","v":0},0,{"$f":"MIN(PRRAS!D23:E28,PRRAS!D32:E32,PRRAS!D36:E36,PRRAS!D38:E38,PRRAS!D43:E45,PRRAS!D51:E57,PRRAS!D129:E129,PRRAS!D132:E132,PRRAS!D168:E168,PRRAS!D196:E196,PRRAS!D229:E231,PRRAS!D313:E314,PRRAS!D371:E372,PRRAS!D399:E403,PRRAS!D406:E406,PRRAS!D417:E419,PRRAS!D423:E424,PRRAS!D434:E436,PRRAS!D439:E442,PRRAS!D445:E445,PRRAS!D455:E455,PRRAS!D458:E458,PRRAS!D460:E464,PRRAS!D475:E477,PRRAS!D481:E482,PRRAS!D493:E493,PRRAS!D496:E499,PRRAS!D502:E502,PRRAS!D505:E509)","v":0},{"$f":"MIN(PRRAS!D512:E512,PRRAS!D523:E525,PRRAS!D529:E530,PRRAS!D542:E542,PRRAS!D545:E551,PRRAS!D561:E561,PRRAS!D564:E564,PRRAS!D566:E570,PRRAS!D581:E583,PRRAS!D587:E588,PRRAS!D598:E600,PRRAS!D603:E603,PRRAS!D606:E606,PRRAS!D660:E660,PRRAS!D680:E680,PRRAS!D682:E682,PRRAS!D684:E684,PRRAS!D686:E686)","v":0},{"$f":"MAX(PRRAS!D23:E28,PRRAS!D32:E32,PRRAS!D36:E36,PRRAS!D38:E38,PRRAS!D43:E45,PRRAS!D51:E57,PRRAS!D129:E129,PRRAS!D132:E132,PRRAS!D168:E168,PRRAS!D196:E196,PRRAS!D229:E231,PRRAS!D313:E314,PRRAS!D371:E372,PRRAS!D399:E403,PRRAS!D406:E406,PRRAS!D417:E419,PRRAS!D423:E424,PRRAS!D434:E436,PRRAS!D439:E442,PRRAS!D445:E445,PRRAS!D455:E455,PRRAS!D458:E458,PRRAS!D460:E464,PRRAS!D475:E477,PRRAS!D481:E482,PRRAS!D493:E493,PRRAS!D496:E499,PRRAS!D502:E502,PRRAS!D505:E509)","v":0},{"$f":"MAX(PRRAS!D512:E512,PRRAS!D523:E525,PRRAS!D529:E530,PRRAS!D542:E542,PRRAS!D545:E551,PRRAS!D561:E561,PRRAS!D564:E564,PRRAS!D566:E570,PRRAS!D581:E583,PRRAS!D587:E588,PRRAS!D598:E600,PRRAS!D603:E603,PRRAS!D606:E606,PRRAS!D660:E660,PRRAS!D680:E680,PRRAS!D682:E682,PRRAS!D684:E684,PRRAS!D686:E686)","v":0}]
[165,"Zadovoljena","Razina 31 ne može imati popunjene AOP oznake: 003 do 034, 040 do 046, 121, 157, 185, 206 do 211, 218 do 220, 302, 360, 386 do 390, 393, 404 do 406, 410, 411, 421 do 423, 426 do 429, 432, 442, 445, 447 do 451, 462 do 464, 468, 469, 480, 483 do 486, 489, 492 do 496, 499, 510 do 512, 516, 517, 529, 532 do 538, 548, 551, 553 do 557, 574, 575, 585 do 587, 590, 593, 646, 666, 668, 670, 672. Ako je na bilo kojoj od ovih AOP oznaka upisan iznos, a obrazac je razine 31, kontrola javlja grešku i obrazac je neispravan.",151,0,{"$f":"IF(RefStr!B16=31,1,0)","v":1},0,{"$f":"MIN(PRRAS!D14:E45,PRRAS!D51:E57,PRRAS!D132:E132,PRRAS!D168:E168,PRRAS!D196:E196,PRRAS!D217:E222,PRRAS!D229:E231,PRRAS!D314:E314,PRRAS!D372:E372,PRRAS!D399:E403,PRRAS!D406:E406,PRRAS!D417:E419,PRRAS!D423:E424,PRRAS!D434:E436,PRRAS!D439:E442,PRRAS!D445:E445,PRRAS!D455:E455,PRRAS!D458:E458,PRRAS!D460:E464,PRRAS!D475:E477,PRRAS!D481:E482,PRRAS!D493:E493,PRRAS!D496:E499)","v":0},{"$f":"MIN(PRRAS!D502:E502,PRRAS!D505:E509,PRRAS!D512:E512,PRRAS!D523:E525,PRRAS!D529:E530,PRRAS!D542:E542,PRRAS!D545:E551,PRRAS!D561:E561,PRRAS!D564:E564,PRRAS!D566:E570,PRRAS!D587:E588,PRRAS!D598:E600,PRRAS!D603:E603,PRRAS!D606:E606,PRRAS!D660:E660,PRRAS!D680:E680,PRRAS!D682:E682,PRRAS!D684:E684,PRRAS!D686:E686)","v":0},{"$f":"MAX(PRRAS!D14:E45,PRRAS!D51:E57,PRRAS!D132:E132,PRRAS!D168:E168,PRRAS!D196:E196,PRRAS!D217:E222,PRRAS!D229:E231,PRRAS!D314:E314,PRRAS!D372:E372,PRRAS!D399:E403,PRRAS!D406:E406,PRRAS!D417:E419,PRRAS!D423:E424,PRRAS!D434:E436,PRRAS!D439:E442,PRRAS!D445:E445,PRRAS!D455:E455,PRRAS!D458:E458,PRRAS!D460:E464,PRRAS!D475:E477,PRRAS!D481:E482,PRRAS!D493:E493,PRRAS!D496:E499)","v":0},{"$f":"MAX(PRRAS!D502:E502,PRRAS!D505:E509,PRRAS!D512:E512,PRRAS!D523:E525,PRRAS!D529:E530,PRRAS!D542:E542,PRRAS!D545:E551,PRRAS!D561:E561,PRRAS!D564:E564,PRRAS!D566:E570,PRRAS!D587:E588,PRRAS!D598:E600,PRRAS!D603:E603,PRRAS!D606:E606,PRRAS!D660:E660,PRRAS!D680:E680,PRRAS!D682:E682,PRRAS!D684:E684,PRRAS!D686:E686)","v":0}]
[166,"Zadovoljena","Razina 41 ne može imati popunjene AOP oznake: 003 do 034, 121, 157, 302, 360, 386 do 390, 393, 404 do 406, 410, 411, 421 do 423, 426 do 429, 449 do 451, 480, 483 do 486, 489, 492 do 496, 499, 510 do 512, 516, 517, 529, 532 do 538, 548, 551, 555 do 557, 585 do 587, 590, 593, 666, 668, 670, 672. Ako je na bilo kojoj od ovih AOP oznaka upisan iznos, a obrazac je razine 41, kontrola javlja grešku i obrazac je neispravan.",151,0,{"$f":"IF(RefStr!B16=41,1,0)","v":0},0,{"$f":"MIN(PRRAS!D14:E45,PRRAS!D132:E132,PRRAS!D168:E168,PRRAS!D314:E314,PRRAS!D372:E372,PRRAS!D399:E403,PRRAS!D406:E406,PRRAS!D417:E419,PRRAS!D423:E424,PRRAS!D434:E436,PRRAS!D439:E442,PRRAS!D462:E464,PRRAS!D493:E493,PRRAS!D496:E499,PRRAS!D502:E502,PRRAS!D505:E509,PRRAS!D512:E512)","v":0},{"$f":"MIN(PRRAS!D523:E525,PRRAS!D529:E530,PRRAS!D542:E542,PRRAS!D545:E551,PRRAS!D561:E561,PRRAS!D564:E564,PRRAS!D568:E570,PRRAS!D598:E600,PRRAS!D603:E603,PRRAS!D606:E606,PRRAS!D680:E680,PRRAS!D682:E682,PRRAS!D684:E684,PRRAS!D686:E686)","v":0},{"$f":"MAX(PRRAS!D14:E45,PRRAS!D132:E132,PRRAS!D168:E168,PRRAS!D314:E314,PRRAS!D372:E372,PRRAS!D399:E403,PRRAS!D406:E406,PRRAS!D417:E419,PRRAS!D423:E424,PRRAS!D434:E436,PRRAS!D439:E442,PRRAS!D462:E464,PRRAS!D493:E493,PRRAS!D496:E499,PRRAS!D502:E502,PRRAS!D505:E509,PRRAS!D512:E512)","v":0},{"$f":"MAX(PRRAS!D523:E525,PRRAS!D529:E530,PRRAS!D542:E542,PRRAS!D545:E551,PRRAS!D561:E561,PRRAS!D564:E564,PRRAS!D568:E570,PRRAS!D598:E600,PRRAS!D603:E603,PRRAS!D606:E606,PRRAS!D680:E680,PRRAS!D682:E682,PRRAS!D684:E684,PRRAS!D686:E686)","v":0}]
[167,"Zadovoljena","Razina 42 ne može imati popunjene AOP oznake: 003 do 034, 040 do 046, 115 do 118, 121, 157, 206 do 211, 218 do 220, 302, 360, 386 do 390, 393, 404 do 406, 410, 411, 421 do 423, 426 do 429, 432, 442, 445, 447 do 451, 480, 483 do 486, 489, 492 do 496, 499, 510, 511, 512, 516, 517, 529, 532 do 538, 548, 551, 555 do 557, 585 do 587, 590, 593, 646, 666, 668, 670, 672. Ako je na bilo kojoj od ovih AOP oznaka upisan iznos, a obrazac je razine 42, kontrola javlja grešku i obrazac je neispravan.",151,0,{"$f":"IF(RefStr!B16=42,1,0)","v":0},1,{"$f":"MIN(PRRAS!D14:E45,PRRAS!D51:E57,PRRAS!D126:E129,PRRAS!D132:E132,PRRAS!D168:E168,PRRAS!D217:E222,PRRAS!D229:E231,PRRAS!D314:E314,PRRAS!D372:E372,PRRAS!D399:E403,PRRAS!D406:E406,PRRAS!D417:E419,PRRAS!D423:E424,PRRAS!D434:E436,PRRAS!D439:E442,PRRAS!D445:E445,PRRAS!D455:E455,PRRAS!D458:E458,PRRAS!D460:E464,PRRAS!D493:E493,PRRAS!D496:E499,PRRAS!D502:E502,PRRAS!D505:E509,PRRAS!D512:E512)","v":0},{"$f":"MIN(PRRAS!D523:E525,PRRAS!D529:E530,PRRAS!D542:E542,PRRAS!D545:E551,PRRAS!D561:E561,PRRAS!D564:E564,PRRAS!D568:E570,PRRAS!D598:E600,PRRAS!D603:E603,PRRAS!D606:E606,PRRAS!D660:E660,PRRAS!D680:E680,PRRAS!D682:E682,PRRAS!D684:E684,PRRAS!D686:E686)","v":0},{"$f":"MAX(PRRAS!D14:E45,PRRAS!D51:E57,PRRAS!D126:E129,PRRAS!D132:E132,PRRAS!D168:E168,PRRAS!D217:E222,PRRAS!D229:E231,PRRAS!D314:E314,PRRAS!D372:E372,PRRAS!D399:E403,PRRAS!D406:E406,PRRAS!D417:E419,PRRAS!D423:E424,PRRAS!D434:E436,PRRAS!D439:E442,PRRAS!D445:E445,PRRAS!D455:E455,PRRAS!D458:E458,PRRAS!D460:E464,PRRAS!D493:E493,PRRAS!D496:E499,PRRAS!D502:E502,PRRAS!D505:E509,PRRAS!D512:E512)","v":11308266},{"$f":"MAX(PRRAS!D523:E525,PRRAS!D529:E530,PRRAS!D542:E542,PRRAS!D545:E551,PRRAS!D561:E561,PRRAS!D564:E564,PRRAS!D568:E570,PRRAS!D598:E600,PRRAS!D603:E603,PRRAS!D606:E606,PRRAS!D660:E660,PRRAS!D680:E680,PRRAS!D682:E682,PRRAS!D684:E684,PRRAS!D686:E686)","v":0}]
["PR-RAS - kontrole upozorenja",null,null,null,{"$f":"SUM(E175:E236)","v":1}]
[{"$f":"1+A173","v":168},{"$f":"IF(E175=1,\"Nije zadovoljena\", \"Zadovoljena\")","v":"Zadovoljena"},"Ako je obrazac razine 11 korisnici mogu imati popunjene samo AOP oznake 612 i 614, a na AOP oznakama 611 i 613 iznos mora biti nula. Glave unutar nadležnog ministarstva mogu imati popunjene samo AOP oznake 611 i 613 a iznosi AOP oznaka 612 i 614 moraju biti nula. Ova kontrola ne vrijedi kad je u pitanju glava unutar nadležnog ministarstva / razdjela koja ima iskazane i rashode proračunskih korisnika iz svoje nadležnosti, gdje mogu biti iskazani i AOP 612 i AOP 614.",-151,{"$f":"MAX(F175:I175)","v":0},{"$f":"IF(AND(RefStr!B16=11,OR(PRRAS!D625>0,PRRAS!D627>0),OR(PRRAS!D626>0,PRRAS!D628>0)),1,0)","v":0},{"$f":"IF(AND(RefStr!B16=11,OR(PRRAS!E625>0,PRRAS!E627>0),OR(PRRAS!E626>0,PRRAS!E628>0)),1,0)","v":0}]
[{"$f":"1+A175","v":169},"Zadovoljena","Ako postoji značajan iznos na AOP-u 148, iznos na AOP-u 658 bi u pravilu bi trebao biti barem 75% iznosa upisanog na AOP oznaci 148. Kontrola upozorava ako je postotak tog iznosa manji od 75%. Provjerite upisani iznos na AOP 658 (naknade za prijevoz na posao i s posla). Ako je njegov iznos stvarno toliki, zanemarite ovu kontrolu.",-151,{"$f":"MAX(F176:I176)","v":0},{"$f":"IF(AND(PRRAS!D159>1000,PRRAS!D672<PRRAS!D159*0.75),1,0)","v":0},{"$f":"IF(AND(PRRAS!E159>1000,PRRAS!E672<PRRAS!E159*0.75),1,0)","v":0}]
[{"$f":"1+A176","v":170},"Zadovoljena","Ako je iznos na AOP-u 019 veći od nule, a iznos na AOP-u 616 (porez na korištenje javnih površina) je jednak nuli, provjerite AOP 616. Ako je njegov iznos stvarno toliki, zanemarite ovu kontrolu.",-151,{"$f":"MAX(F177:I177)","v":0},{"$f":"IF(AND(PRRAS!D30>0,PRRAS!D630=0),1,0)","v":0},{"$f":"IF(AND(PRRAS!E30>0,PRRAS!E630=0),1,0)","v":0}]
[{"$f":"1+A177","v":171},"Zadovoljena","Ako je iznos na AOP-u 028 veći od nule, a iznosi na AOP-u 617 (porez na cestovna motorna vozila) i na AOP-u 618 (porez na tvrtku odnosno naziv tvrtke) su jednaki nuli, provjerite AOP-e 617 i 618 . Ako su njihovi iznosi stvarno toliki, zanemarite ovu kontrolu.",-151,0,{"$f":"IF(AND(PRRAS!D39>0,SUM(PRRAS!D631:'PRRAS'!D632)=0),1,0)","v":0},{"$f":"IF(AND(PRRAS!E39>0,SUM(PRRAS!E631:'PRRAS'!E632)=0),1,0)","v":0}]
[172,"Zadovoljena","Ako je iznos na AOP-u 075 veći od nule, a iznos na AOP-u 637 (premije na izdane vrijednosne papire) je jednak nuli, provjerite AOP 637. Ako je njegov iznos stvarno toliki, zanemarite ovu kontrolu.",-151,0,{"$f":"IF(AND(PRRAS!D86>0,PRRAS!D651=0),1,0)","v":0},{"$f":"IF(AND(PRRAS!E86>0,PRRAS!E651=0),1,0)","v":0}]
[173,"Zadovoljena","Ako je iznos na AOP-u 101 veći od nule, a iznosi na AOP-u 645 (sufinanciranje cijene usluge, participacije i slično) i na AOP-u 646 (dopunsko zdravstveno osiguranje) su jednaki nuli, provjerite AOP-e 645 i 646. Ako su njihovi iznosi stvarno toliki, zanemarite ovu kontrolu.",-151,0,{"$f":"IF(AND(PRRAS!D112>0,SUM(PRRAS!D659:'PRRAS'!D660)=0),1,0)","v":0},{"$f":"IF(AND(PRRAS!E112>0,SUM(PRRAS!E659:'PRRAS'!E660)=0),1,0)","v":0}]
[174,"Zadovoljena","Ako je iznos na AOP-u 140 veći od nule, a iznosi na AOP-u 654 (otpremnine) i na AOP-u 655 (naknade za bolest, invalidnost i smrtni slučaj) su jednaki nuli, provjerite AOP-e 654 i 655. Ako su njihovi iznosi stvarno toliki, zanemarite ovu kontrolu.",-151,0,{"$f":"IF(AND(PRRAS!D151>0,SUM(PRRAS!D668:'PRRAS'!D669)=0),1,0)","v":0},{"$f":"IF(AND(PRRAS!E151>0,SUM(PRRAS!E668:'PRRAS'!E669)=0),1,0)","v":0}]
[175,"Zadovoljena","Ako je iznos na AOP-u 165 veći od nule, a iznos na AOP-u 659 (obvezni i preventivni zdravstveni pregledi zaposlenika) je jednak nuli, provjerite AOP 659. Ako je njegov iznos stvarno toliki, zanemarite ovu kontrolu.",-151,0,{"$f":"IF(AND(PRRAS!D176>0,PRRAS!D673=0),1,0)","v":0},{"$f":"IF(AND(PRRAS!E176>0,PRRAS!E673=0),1,0)","v":0}]
[176,"Zadovoljena","Ako je iznos na AOP-u 166 veći od nule, a iznosi na AOP-u 660 (autorski honorari), AOP-u 661 (ugovori o djelu) i na AOP-u 662 (usluge agencija, studentskog sevisa (prijepisi, prijevodi i drugo)) su jednaki nuli, provjerite AOP-e 660, 661 i 662. Ako su njihovi iznosi stvarno toliki, zanemarite ovu kontrolu.",-151,0,{"$f":"IF(AND(PRRAS!D177>0,SUM(PRRAS!D674:'PRRAS'!D676)=0),1,0)","v":0},{"$f":"IF(AND(PRRAS!E177>0,SUM(PRRAS!E674:'PRRAS'!E676)=0),1,0)","v":0}]
[177,"Zadovoljena","Ako je iznos na AOP-u 172 veći od nule, a iznos na AOP-u 663 (naknade članovima predstavničkih i izvršnih tijela i upravnih vijeća) je jednak nuli, provjerite AOP 663. Ako je njegov iznos stvarno toliki, zanemarite ovu kontrolu.",-151,0,{"$f":"IF(AND(PRRAS!D183>0,PRRAS!D677=0),1,0)","v":0},{"$f":"IF(AND(PRRAS!E183>0,PRRAS!E677=0),1,0)","v":0}]
[178,"Zadovoljena","Ako je iznos na AOP-u 173 veći od nule, a iznos na AOP-u 664 (premije osiguranja zaposlenih) je jednak nuli, provjerite AOP 664. Ako je njegov iznos stvarno toliki, zanemarite ovu kontrolu.",-151,0,{"$f":"IF(AND(PRRAS!D184>0,PRRAS!D678=0),1,0)","v":0},{"$f":"IF(AND(PRRAS!E184>0,PRRAS!E678=0),1,0)","v":0}]
[179,"Zadovoljena","Ako je iznos na AOP-u 190 veći od nule, a iznosi na AOP-u 686 (kamate za primljene zajmove od tuzemnih trgovačkih društava izvan javnog sektora), AOP-u 687 (kamate za primljene zajmove od tuzemnih obrtnika) i na AOP-u 688 (kamate za primljene zajmove od inozemnih trgovačkih društava) su jednaki nuli, provjerite AOP-e 686, 687 i 688. Ako su njihovi iznosi stvarno toliki, zanemarite ovu kontrolu.",-151,0,{"$f":"IF(AND(PRRAS!D201>0,SUM(PRRAS!D700:'PRRAS'!D702)=0),1,0)","v":0},{"$f":"IF(AND(PRRAS!E201>0,SUM(PRRAS!E700:'PRRAS'!E702)=0),1,0)","v":0}]
[180,"Zadovoljena","Ako je iznos na AOP-u 196 veći od nule, a iznos na AOP-u 696 (diskont na izdane vrijednosne papire) je jednak nuli, provjerite AOP 696. Ako je njegov iznos stvarno toliki, zanemarite ovu kontrolu.",-151,0,{"$f":"IF(AND(PRRAS!D207>0,PRRAS!D694=0),1,0)","v":0},{"$f":"IF(AND(PRRAS!E207>0,PRRAS!E694=0),1,0)","v":0}]
[181,"Zadovoljena","Ako je iznos na AOP-u 222 veći od nule, a iznosi na AOP-u 717 (stipendije i školarine) i na AOP-u 718 (naknade za pomoć bivšim političkim zatvorenicima i neosnovano pritvorenim osobama) su jednaki nuli, provjerite AOP-e 717 i 718. Ako su njihovi iznosi stvarno toliki, zanemarite ovu kontrolu.",-151,0,{"$f":"IF(AND(PRRAS!D233>0,SUM(PRRAS!D731:D732)=0),1,0)","v":0},{"$f":"IF(AND(PRRAS!E233>0,SUM(PRRAS!E731:E732)=0),1,0)","v":0}]
[182,"Nije zadovoljena","Ako je iznos na AOP-u 223 veći od nule, a iznos na AOP-u 719 (sufinanciranje cijene prijevoza) je jednak nuli, provjerite AOP 719. Ako je njegov iznos stvarno toliki, zanemarite ovu kontrolu.",-151,1,{"$f":"IF(AND(PRRAS!D234>0,PRRAS!D733=0),1,0)","v":1},{"$f":"IF(AND(PRRAS!E234>0,PRRAS!E733=0),1,0)","v":1}]
[183,"Zadovoljena","Ako je iznos na AOP-u 226 veći od nule, a iznos na AOP-u 720 (tekuće donacije građanima i kućanstvima) je jednak nuli, provjerite AOP 720. Ako je njegov iznos stvarno toliki, zanemarite ovu kontrolu.",-151,0,{"$f":"IF(AND(PRRAS!D237>0,PRRAS!D734=0),1,0)","v":0},{"$f":"IF(AND(PRRAS!E237>0,PRRAS!E734=0),1,0)","v":0}]
[184,"Zadovoljena","Ako je iznos na AOP-u 392 veći od nule, a iznos na AOP-u 738 (povrat zajmova danih neprofitnim organizacijama, građanima i kkućanstvima u tuzemstvu - dugoročni) je jednak nuli, provjerite AOP 738. Ako je njegov iznos stvarno toliki, zanemarite ovu kontrolu.",-151,0,{"$f":"IF(AND(PRRAS!D405>0,PRRAS!D752=0),1,0)","v":0},{"$f":"IF(AND(PRRAS!E405>0,PRRAS!E752=0),1,0)","v":0}]
[185,"Zadovoljena","Ako je iznos na AOP-u 395 veći od nule, a iznos na AOP-u 739 (povrat zajmova danih kreditnim institucijama u javnom sektoru - dugoročni) je jednak nuli, provjerite AOP 739. Ako je njegov iznos stvarno toliki, zanemarite ovu kontrolu.",-151,0,{"$f":"IF(AND(PRRAS!D408>0,PRRAS!D753=0),1,0)","v":0},{"$f":"IF(AND(PRRAS!E408>0,PRRAS!E753=0),1,0)","v":0}]
[186,"Zadovoljena","Ako je iznos na AOP-u 396 veći od nule, a iznos na AOP-u 740 (povrat zajmova danih osiguravajućim društvima u javnom sektoru - dugoročni) je jednak nuli, provjerite AOP 396 . Ako je njegov iznos stvarno toliki, zanemarite ovu kontrolu.",-151,{"$f":"MAX(F193:I193)","v":0},{"$f":"IF(AND(PRRAS!D409>0,PRRAS!D754=0),1,0)","v":0},{"$f":"IF(AND(PRRAS!E409>0,PRRAS!E754=0),1,0)","v":0}]
[187,"Zadovoljena","Ako je iznos na AOP-u 397 veći od nule, a iznos na AOP-u 741 (povrat zajmova danih ostalim financijskim institucijama u javnom sektoru - dugoročni) je jednak nuli, provjerite AOP 741. Ako je njegov iznos stvarno toliki, zanemarite ovu kontrolu.",-151,0,{"$f":"IF(AND(PRRAS!D410>0,PRRAS!D755=0),1,0)","v":0},{"$f":"IF(AND(PRRAS!E410>0,PRRAS!E755=0),1,0)","v":0}]
[188,"Zadovoljena","Ako je iznos na AOP-u 401 veći od nule, a iznos na AOP-u 744 (povrat zajmova danih tuzemnim kreditnim institucijama izvan javnog sektora - dugoročni) je jednak nuli, provjerite AOP 744 . Ako je njegov iznos stvarno toliki, zanemarite ovu kontrolu.",-151,0,{"$f":"IF(AND(PRRAS!D414>0,PRRAS!D758=0),1,0)","v":0},{"$f":"IF(AND(PRRAS!E414>0,PRRAS!E758=0),1,0)","v":0}]
[189,"Zadovoljena","Ako je iznos na AOP-u 402 veći od nule, a iznos na AOP-u 745 (povrat zajmova danih tuzemnim osiguravajućim društvima izvan javnog sektora - dugoročni) je jednak nuli, provjerite AOP 745. Ako je njegov iznos stvarno toliki, zanemarite ovu kontrolu.",-151,0,{"$f":"IF(AND(PRRAS!D415>0,PRRAS!D759=0),1,0)","v":0},{"$f":"IF(AND(PRRAS!E415>0,PRRAS!E759=0),1,0)","v":0}]
[190,"Zadovoljena","Ako je iznos na AOP-u 403 veći od nule, a iznos na AOP-u 746 (povrat zajmova danih ostalim tuzemnim financijskim institucijama izvan javnog sektora - dugoročni) je jednak nuli, provjerite AOP 746 . Ako je njegov iznos stvarno toliki, zanemarite ovu kontrolu.",-151,0,{"$f":"IF(AND(PRRAS!D416>0,PRRAS!D760=0),1,0)","v":0},{"$f":"IF(AND(PRRAS!E416>0,PRRAS!E760=0),1,0)","v":0}]
[191,"Zadovoljena","Ako je iznos na AOP-u 431 veći od nule, a iznos na AOP-u 765 (ostali vrijednosni papiri - dugoročni) je jednak nuli, provjerite AOP 765. Ako je njegov iznos stvarno toliki, zanemarite ovu kontrolu.",-151,0,{"$f":"IF(AND(PRRAS!D444>0,PRRAS!D779=0),1,0)","v":0},{"$f":"IF(AND(PRRAS!E444>0,PRRAS!E779=0),1,0)","v":0}]
[192,"Zadovoljena","Ako je iznos na AOP-u 448 veći od nule, a iznos na AOP-u 766 (primljeni zajmovi od međunarodnih organizacija - dugoročni) je jednak nuli, provjerite AOP 766. Ako je njegov iznos stvarno toliki, zanemarite ovu kontrolu.",-151,0,{"$f":"IF(AND(PRRAS!D461>0,PRRAS!D780=0),1,0)","v":0},{"$f":"IF(AND(PRRAS!E461>0,PRRAS!E780=0),1,0)","v":0}]
[193,"Zadovoljena","Ako je iznos na AOP-u 449 veći od nule, a iznos na AOP-u 767 (primljeni krediti i zajmovi od institucija i tijela EU - dugoročni) je jednak nuli, provjerite AOP 767. Ako je njegov iznos stvarno toliki, zanemarite ovu kontrolu.",-151,0,{"$f":"IF(AND(PRRAS!D462>0,PRRAS!D781=0),1,0)","v":0},{"$f":"IF(AND(PRRAS!E462>0,PRRAS!E781=0),1,0)","v":0}]
[194,"Zadovoljena","Ako je iznos na AOP-u 450 veći od nule, a iznos na AOP-u 768 (primljeni zajmovi od inozemnih vlada u EU - dugoročni) je jednak nuli, provjerite AOP 768. Ako je njegov iznos stvarno toliki, zanemarite ovu kontrolu.",-151,0,{"$f":"IF(AND(PRRAS!D463>0,PRRAS!D782=0),1,0)","v":0},{"$f":"IF(AND(PRRAS!E463>0,PRRAS!E782=0),1,0)","v":0}]
[195,"Zadovoljena","Ako je iznos na AOP-u 451 veći od nule, a iznos na AOP-u 769 (primljeni zajmovi od inozemnih vlada izvan EU - dugoročni) je jednak nuli, provjerite AOP 769. Ako je njegov iznos stvarno toliki, zanemarite ovu kontrolu.",-151,0,{"$f":"IF(AND(PRRAS!D464>0,PRRAS!D783=0),1,0)","v":0},{"$f":"IF(AND(PRRAS!E464>0,PRRAS!E783=0),1,0)","v":0}]
[196,"Zadovoljena","Ako je iznos na AOP-u 454 veći od nule, a iznos na AOP-u 772 (primljeni zajmovi od osiguravajućih društava u javnom sektoru - dugoročni) je jednak nuli, provjerite AOP 772. Ako je njegov iznos stvarno toliki, zanemarite ovu kontrolu.",-151,0,{"$f":"IF(AND(PRRAS!D467>0,PRRAS!D786=0),1,0)","v":0},{"$f":"IF(AND(PRRAS!E467>0,PRRAS!E786=0),1,0)","v":0}]
[197,"Zadovoljena","Ako je iznos na AOP-u 455 veći od nule, a iznos na AOP-u 773 (primljeni zajmovi od ostalih financijskih institucija u javnom sektoru) jednak nuli, provjerite AOP 773 Ako je njegov iznos stvarno toliki, zanemarite ovu kontrolu.",-151,0,{"$f":"IF(AND(PRRAS!D468>0,PRRAS!D787=0),1,0)","v":0},{"$f":"IF(AND(PRRAS!E468>0,PRRAS!E787=0),1,0)","v":0}]
[198,"Zadovoljena","Ako je iznos na AOP-u 457 veći od nule, a iznos na AOP-u 774 (primljeni zajmovi od trgovačkih društava u javnom sektoru - dugoročni) je jednak nuli, provjerite AOP 774. Ako je njegov iznos stvarno toliki, zanemarite ovu kontrolu.",-151,0,{"$f":"IF(AND(PRRAS!D470>0,PRRAS!D788=0),1,0)","v":0},{"$f":"IF(AND(PRRAS!E470>0,PRRAS!E788=0),1,0)","v":0}]
[199,"Zadovoljena","Ako je iznos na AOP-u 460 veći od nule, a iznos na AOP-u 777 (primljeni zajmovi od tuzemnih osiguravajućih društava izvan javnog sektora - dugoročni) je jednak nuli, provjerite AOP 777. Ako je njegov iznos stvarno toliki, zanemarite ovu kontrolu.",-151,0,{"$f":"IF(AND(PRRAS!D473>0,PRRAS!D791=0),1,0)","v":0},{"$f":"IF(AND(PRRAS!E473>0,PRRAS!E791=0),1,0)","v":0}]
[200,{"$f":"IF(E207=1,\"Nije zadovoljena\", \"Zadovoljena\")","v":"Zadovoljena"},"Ako je iznos na AOP-u 461 veći od nule, a iznos na AOP-u 778 (primljeni zajmovi od ostalih tuzemnih financijskih institucija izvan javnog sektora - dugoročni) je jednak nuli, provjerite AOP 778. Ako je njegov iznos stvarno toliki, zanemarite ovu kontrolu.",-151,0,{"$f":"IF(AND(PRRAS!D474>0,PRRAS!D792=0),1,0)","v":0},{"$f":"IF(AND(PRRAS!E474>0,PRRAS!E792=0),1,0)","v":0}]
[201,"Zadovoljena","Ako je iznos na AOP-u 463 veći od nule, a iznos na AOP-u 781 (primljeni zajmovi od inozemnih osiguravajućih društava - dugoročni) je jednak nuli, provjerite AOP 781. Ako je njegov iznos stvarno toliki, zanemarite ovu kontrolu.",-151,0,{"$f":"IF(AND(PRRAS!D476>0,PRRAS!D795=0),1,0)","v":0},{"$f":"IF(AND(PRRAS!E476>0,PRRAS!E795=0),1,0)","v":0}]
[202,"Zadovoljena","Ako je iznos na AOP-u 464 veći od nule, a iznos na AOP-u 782 (primljeni zajmovi od ostalih inozemnih financijskih institucija - dugoročni) je jednak nuli, provjerite AOP 782. Ako je njegov iznos stvarno toliki, zanemarite ovu kontrolu.",-151,0,{"$f":"IF(AND(PRRAS!D477>0,PRRAS!D796=0),1,0)","v":0},{"$f":"IF(AND(PRRAS!E477>0,PRRAS!E796=0),1,0)","v":0}]
[203,"Zadovoljena","Ako je iznos na AOP-u 466 veći od nule, a iznos na AOP-u 783 (primljeni zajmovi od tuzemnih trgovačkih društava izvan javnog sektora - dugoročni) je jednak nuli, provjerite AOP 783. Ako je njegov iznos stvarno toliki, zanemarite ovu kontrolu.",-151,0,{"$f":"IF(AND(PRRAS!D479>0,PRRAS!D797=0),1,0)","v":0},{"$f":"IF(AND(PRRAS!E479>0,PRRAS!E797=0),1,0)","v":0}]
[204,"Zadovoljena","Ako je iznos na AOP-u 467 veći od nule, a iznos na AOP-u 784 (primljeni zajmovi od tuzemnih obrtnika - dugoročni) je jednak nuli, provjerite AOP 784. Ako je njegov iznos stvarno toliki, zanemarite ovu kontrolu.",-151,0,{"$f":"IF(AND(PRRAS!D480>0,PRRAS!D798=0),1,0)","v":0},{"$f":"IF(AND(PRRAS!E480>0,PRRAS!E798=0),1,0)","v":0}]
[205,"Zadovoljena","Ako je iznos na AOP-u 468 veći od nule, a iznos na AOP-u 785 (primljeni zajmovi od inozemnih trgovačkih društava - dugoročni) je jednak nuli, provjerite AOP 785. Ako je njegov iznos stvarno toliki, zanemarite ovu kontrolu.",-151,0,{"$f":"IF(AND(PRRAS!D481>0,PRRAS!D799=0),1,0)","v":0},{"$f":"IF(AND(PRRAS!E481>0,PRRAS!E799=0),1,0)","v":0}]
[206,"Zadovoljena","Ako je iznos na AOP-u 488 veći od nule, a iznos na AOP-u 798 (ostali tuzemni vrijednosni papiri - dugoročni) je jednak nuli, provjerite AOP 798. Ako je njegov iznos stvarno toliki, zanemarite ovu kontrolu.",-151,0,{"$f":"IF(AND(PRRAS!D501>0,PRRAS!D812=0),1,0)","v":0},{"$f":"IF(AND(PRRAS!E501>0,PRRAS!E812=0),1,0)","v":0}]
[207,"Zadovoljena","Ako je iznos na AOP-u 498 veći od nule, a iznos na AOP-u 800 (dani zajmovi neprofitnim organizacijama, građanima i kućanstvima u tuzemstvu - dugoročni) je jednak nuli, provjerite AOP 800. Ako je njegov iznos stvarno toliki, zanemarite ovu kontrolu.",-151,0,{"$f":"IF(AND(PRRAS!D511>0,PRRAS!D814=0),1,0)","v":0},{"$f":"IF(AND(PRRAS!E511>0,PRRAS!E814=0),1,0)","v":0}]
[208,"Zadovoljena","Ako je iznos na AOP-u 501 veći od nule, a iznos na AOP-u 801 (dani zajmovi kreditnim institucijama u javnom sektoru - dugoročni) je jednak nuli, provjerite AOP 801. Ako je njegov iznos stvarno toliki, zanemarite ovu kontrolu.",-151,0,{"$f":"IF(AND(PRRAS!D514>0,PRRAS!D815=0),1,0)","v":0},{"$f":"IF(AND(PRRAS!E514>0,PRRAS!E815=0),1,0)","v":0}]
[209,"Zadovoljena","Ako je iznos na AOP-u 502 veći od nule, a iznos na AOP-u 802 (dani zajmovi u osiguravajućim društvima u javnom sektoru - dugoročni) je jednak nuli, provjerite AOP 802. Ako je njegov iznos stvarno toliki, zanemarite ovu kontrolu.",-151,0,{"$f":"IF(AND(PRRAS!D515>0,PRRAS!D816=0),1,0)","v":0},{"$f":"IF(AND(PRRAS!E515>0,PRRAS!E816=0),1,0)","v":0}]
[210,"Zadovoljena","Ako je iznos na AOP-u 503 veći od nule, a iznos na AOP-u 803 (dani zajmovi ostalim financijskim institucijama u javnom sektoru - dugoročni) je jednak nuli, provjerite AOP 803. Ako je njegov iznos stvarno toliki, zanemarite ovu kontrolu.",-151,0,{"$f":"IF(AND(PRRAS!D516>0,PRRAS!D817=0),1,0)","v":0},{"$f":"IF(AND(PRRAS!E516>0,PRRAS!E817=0),1,0)","v":0}]
[211,"Zadovoljena","Ako je iznos na AOP-u 507 veći od nule, a iznos na AOP-u 806 (dani zajmovi tuzemnim kreditnim institucijama izvan javnog sektora) je jednak nuli, provjerite AOP 806. Ako je njegov iznos stvarno toliki, zanemarite ovu kontrolu.",-151,0,{"$f":"IF(AND(PRRAS!D520>0,PRRAS!D820=0),1,0)","v":0},{"$f":"IF(AND(PRRAS!E520>0,PRRAS!E820=0),1,0)","v":0}]
[212,"Zadovoljena","Ako je iznos na AOP-u 508 veći od nule, a iznos na AOP-u 807 (dani zajmovi tuzemnim osiguravajućim društvima izvan javnog sektora - dugoročni) je jednak nuli, provjerite AOP 807. Ako je njegov iznos stvarno toliki, zanemarite ovu kontrolu.",-151,0,{"$f":"IF(AND(PRRAS!D521>0,PRRAS!D821=0),1,0)","v":0},{"$f":"IF(AND(PRRAS!E521>0,PRRAS!E821=0),1,0)","v":0}]
[213,"Zadovoljena","Ako je iznos na AOP-u 509 veći od nule, a iznos na AOP-u 808 (dani zajmovi ostalim tuzemnim financijskim institucijama izvan javnog sektora - dugoročni) je jednak nuli, provjerite AOP 808. Ako je njegov iznos stvarno toliki, zanemarite ovu kontrolu.",-151,0,{"$f":"IF(AND(PRRAS!D522>0,PRRAS!D822=0),1,0)","v":0},{"$f":"IF(AND(PRRAS!E522>0,PRRAS!E822=0),1,0)","v":0}]
[214,"Zadovoljena","Ako je iznos na AOP-u 554 veći od nule, a iznos na AOP-u 827 (otplata glavnice primljenih zajmova od međunarodnih organizacija - dugoročnih) je jednak nuli, provjerite AOP 827. Ako je njegov iznos stvarno toliki, zanemarite ovu kontrolu.",-151,0,{"$f":"IF(AND(PRRAS!D567>0,PRRAS!D841=0),1,0)","v":0},{"$f":"IF(AND(PRRAS!E567>0,PRRAS!E841=0),1,0)","v":0}]
[215,"Zadovoljena","Ako je iznos na AOP-u 555 veći od nule, a iznos na AOP-u 828 (otplata glavnice primljenih kredita i zajmova od institucija i tijela EU - dugoročnih) je jednak nuli, provjerite AOP 828. Ako je njegov iznos stvarno toliki, zanemarite ovu kontrolu.",-151,0,{"$f":"IF(AND(PRRAS!D568>0,PRRAS!D842=0),1,0)","v":0},{"$f":"IF(AND(PRRAS!E568>0,PRRAS!E842=0),1,0)","v":0}]
[216,"Zadovoljena","Ako je iznos na AOP-u 556 veći od nule, a iznos na AOP-u 829 (otplata glavnice primljenih zajmova od inozemnih vlada u \nEU-dugoročnih) je jednak nuli, provjerite AOP 829. Ako je njegov iznos stvarno toliki, zanemarite ovu kontrolu.",-151,0,{"$f":"IF(AND(PRRAS!D569>0,PRRAS!D843=0),1,0)","v":0},{"$f":"IF(AND(PRRAS!E569>0,PRRAS!E843=0),1,0)","v":0}]
[217,"Zadovoljena","Ako je iznos na AOP-u 557 veći od nule, a iznos na AOP-u 830 (otplata glavnice primljenih zajmova od inozemnih vlada izvan EU - dugoročnih) je jednak nuli, provjerite AOP 830. Ako je njegov iznos stvarno toliki, zanemarite ovu kontrolu.",-151,0,{"$f":"IF(AND(PRRAS!D570>0,PRRAS!D844=0),1,0)","v":0},{"$f":"IF(AND(PRRAS!E570>0,PRRAS!E844=0),1,0)","v":0}]
[218,"Zadovoljena","Ako je iznos na AOP-u 560 veći od nule, a iznos na AOP-u 833 (otplata glavnice primljenih zajmova od osiguravajućih društava u javnom sektoru - dugoročnih) je jednak nuli, provjerite AOP 833. Ako je njegov iznos stvarno toliki, zanemarite ovu kontrolu.",-151,0,{"$f":"IF(AND(PRRAS!D573>0,PRRAS!D847=0),1,0)","v":0},{"$f":"IF(AND(PRRAS!E573>0,PRRAS!E847=0),1,0)","v":0}]
[219,"Zadovoljena","Ako je iznos na AOP-u 561 veći od nule, a iznos na AOP-u 834 (otplata glavnice primljenih zajmova od ostalih financijskih institucija u javnom sektoru - dugoročnih) je jednak nuli, provjerite AOP 834. Ako je njegov iznos stvarno toliki, zanemarite ovu kontrolu.",-151,0,{"$f":"IF(AND(PRRAS!D574>0,PRRAS!D848=0),1,0)","v":0},{"$f":"IF(AND(PRRAS!E574>0,PRRAS!E848=0),1,0)","v":0}]
[220,"Zadovoljena","Ako je iznos na AOP-u 563 veći od nule, a iznos na AOP-u 835 (otplata glavnice primljenih zajmova od trgovačkih društava u javnomm sektoru - dugoročnih) je jednak nuli, provjerite AOP 835. Ako je njegov iznos stvarno toliki, zanemarite ovu kontrolu.",-151,0,{"$f":"IF(AND(PRRAS!D576>0,PRRAS!D849=0),1,0)","v":0},{"$f":"IF(AND(PRRAS!E576>0,PRRAS!E849=0),1,0)","v":0}]
[221,"Zadovoljena","Ako je iznos na AOP-u 566 veći od nule, a iznos na AOP-u 838 (otplata glavnice primljenih zajmova od tuzemnih osiguravajućih društava izvan javnog sektora - dugoročnih)je jednak nuli, provjerite AOP 838. Ako je njegov iznos stvarno toliki, zanemarite ovu kontrolu.",-151,0,{"$f":"IF(AND(PRRAS!D579>0,PRRAS!D852=0),1,0)","v":0},{"$f":"IF(AND(PRRAS!E579>0,PRRAS!E852=0),1,0)","v":0}]
[222,"Zadovoljena","Ako je iznos na AOP-u 567 veći od nule, a iznos na AOP-u 839 (otplata glavnice primljenih zajmova od ostalih tuzemnih fiancijskih institucija izvan javnog sektora - dugoročnih) je jednak nuli, provjerite AOP 839. Ako je njegov iznos stvarno toliki, zanemarite ovu kontrolu.",-151,0,{"$f":"IF(AND(PRRAS!D580>0,PRRAS!D853=0),1,0)","v":0},{"$f":"IF(AND(PRRAS!E580>0,PRRAS!E853=0),1,0)","v":0}]
[223,"Zadovoljena","Ako je iznos na AOP-u 569 veći od nule, a iznos na AOP-u 842 (otpalta glavnice primljenih zajmova od inozemnih osiguravajućih društava - dugoročnih) je jednak nuli, provjerite AOP 842. Ako je njegov iznos stvarno toliki, zanemarite ovu kontrolu.",-151,0,{"$f":"IF(AND(PRRAS!D582>0,PRRAS!D856=0),1,0)","v":0},{"$f":"IF(AND(PRRAS!E582>0,PRRAS!E856=0),1,0)","v":0}]
[224,"Zadovoljena","Ako je iznos na AOP-u 570 veći od nule, a iznos na AOP-u 843 (otplata glavnice primljenih zajmova od ostalih inozemnih financijskih institucija - dugoročnih) je jednak nuli, provjerite AOP 843. Ako je njegov iznos stvarno toliki, zanemarite ovu kontrolu.",-151,0,{"$f":"IF(AND(PRRAS!D583>0,PRRAS!D857=0),1,0)","v":0},{"$f":"IF(AND(PRRAS!E583>0,PRRAS!E857=0),1,0)","v":0}]
[225,"Zadovoljena","Ako je iznos na AOP-u 572 veći od nule, a iznos na AOP-u 844 (otplata glavnice primljenih zajmova od tuzemnih trgovačkih društava izvan javnog sektora - dugoročnih) je jednak nuli, provjerite AOP 844. Ako je njegov iznos stvarno toliki, zanemarite ovu kontrolu.",-151,0,{"$f":"IF(AND(PRRAS!D585>0,PRRAS!D858=0),1,0)","v":0},{"$f":"IF(AND(PRRAS!E584>0,PRRAS!E858=0),1,0)","v":0}]
[226,"Zadovoljena","Ako je iznos na AOP-u 573 veći od nule, a iznos na AOP-u 845 (otplata glavnice primljenih zajmova od tuzemnih obrtnika - dugoročnih) je jednak nuli, provjerite AOP 845. Ako je njegov iznos stvarno toliki, zanemarite ovu kontrolu.",-151,0,{"$f":"IF(AND(PRRAS!D586>0,PRRAS!D859=0),1,0)","v":0},{"$f":"IF(AND(PRRAS!E586>0,PRRAS!E859=0),1,0)","v":0}]
[227,"Zadovoljena","Ako je iznos na AOP-u 574 veći od nule, a iznos na AOP-u 846 (otplata glavnice primljenih zajmova od inozemnih trgovačkih društava - dugoročnih) je jednak nuli, provjerite AOP 846. Ako je njegov iznos stvarno toliki, zanemarite ovu kontrolu.",-151,0,{"$f":"IF(AND(PRRAS!D587>0,PRRAS!D860=0),1,0)","v":0},{"$f":"IF(AND(PRRAS!E587>0,PRRAS!E860=0),1,0)","v":0}]
[228,"Zadovoljena","Ako je iznos na AOP-u 592 veći od nule, a iznos na AOP-u 861 izdaci za otplatu glavnice za izdane ostale vrijednosne papire u zemlji - dugoročne) je jednak nuli, provjerite AOP 861. Ako je njegov iznos stvarno toliki, zanemarite ovu kontrolu.",-151,0,{"$f":"IF(AND(PRRAS!D605>0,PRRAS!D875=0),1,0)","v":0},{"$f":"IF(AND(PRRAS!E605>0,PRRAS!E875=0),1,0)","v":0}]
[229,"Zadovoljena","Kontrola na broj zaposlenih. Ova kontrola upozorava ako je broj zaposlenih na bilo kojoj stavci zaposlenih (AOP oznake 611 do 614) veći od 1000. Ako je broj zaposlenih stvarno toliki, zanemarite kontrolu.",-151,0,{"$f":"IF(MAX(PRRAS!D625:E628)>1000,1,0)","v":0}]
["BIL - obvezne kontrole",null,null,null,{"$f":"SUM(E238:E260)","v":0}]
[{"$f":"1+A236","v":230},{"$f":"IF(E238=1,\"Nije zadovoljena\", \"Zadovoljena\")","v":"Zadovoljena"},"Osnovna kontrola u bilanci: Imovina = Obveze i vlastiti izvori (AOP 001 = AOP 146) mora biti zadovoljena. Dozvoljeno je odstupanje od 1 kn zbog zaokruživanja.",null,0,{"$f":"IF(ABS(Bil!D12-Bil!D157)>1,1,0)","v":0},{"$f":"IF(ABS(Bil!E12-Bil!E157)>1,1,0)","v":0}]
[{"$f":"1+A238","v":231},"Zadovoljena","AOP oznake 215 i 219 ne mogu biti popunjene istovremeno ni u jednom stupcu obrasca",null,0,{"$f":"IF(AND(Bil!D226<>0,Bil!D230<>0),1,0)","v":0},{"$f":"IF(AND(Bil!E226<>0,Bil!E230<>0),1,0)","v":0}]
[{"$f":"1+A239","v":232},"Zadovoljena","AOP oznake 216 i 220 ne mogu biti popunjene istovremeno ni u jednom stupcu obrasca",null,0,{"$f":"IF(AND(Bil!D227<>0,Bil!D231<>0),1,0)","v":0},{"$f":"IF(AND(Bil!E227<>0,Bil!E231<>0),1,0)","v":0}]
[233,"Zadovoljena","Aop oznake 217 i 221 ne mogu biti popunjene istovremeno ni u jednom stupcu obrasca",null,{"$f":"MAX(F241:I241)","v":0},{"$f":"IF(AND(Bil!D228<>0,Bil!D232<>0),1,0)","v":0},{"$f":"IF(AND(Bil!E228<>0,Bil!E232<>0),1,0)","v":0}]
[234,"Zadovoljena","Vrijednost svih AOP pozicija moraju biti pozitivni brojevi osim AOP-a 205 i 206 koji mogu biti i negativni. Ako ova kontrola nije zadovoljena upisali ste negdje negativan iznos gdje on nije dopušten.",null,{"$f":"MAX(F242:I242)","v":0},{"$f":"IF(MIN(Bil!D12:E215,Bil!D218:E238,Bil!D240:E274,Bil!D276:E283,Bil!D285:E289)<0,1,0)","v":0}]
[235,"Zadovoljena","Vrijednost svih AOP pozicija moraju biti zaokružene, cjelobrojne vrijednosti, ako neka vrijednost nije zaokružena, već upisana u decimalama, kontrola nije zadovoljena, takav obrazac je neispravan",null,{"$f":"MAX(F243:I243)","v":0},{"$f":"IF(SUM(Skriveni!H1481:H1755)<>0,1,0)","v":0}]
[236,{"$f":"IF(E244=1,\"Nije zadovoljena\", \"Zadovoljena\")","v":"Zadovoljena"},"AOP 079 mora biti jednak AOP 228+229 u oba stupca podataka. Dopušteno je odstupanje od 1kn zbog zaokruživanja.",null,{"$f":"MAX(F244:I244)","v":0},{"$f":"IF(ABS(Bil!D90-Bil!D240-Bil!D241)>1,1,0)","v":0},{"$f":"IF(ABS(Bil!E90-Bil!E240-Bil!E241)>1,1,0)","v":0}]
[237,"Zadovoljena","AOP 083 mora biti jednak AOP 230+231 u oba stupca podataka. Dopušteno je odstupanje od 1kn zbog zaokruživanja.",null,0,{"$f":"IF(ABS(Bil!D94-Bil!D242-Bil!D243)>1,1,0)","v":0},{"$f":"IF(ABS(Bil!E94-Bil!E242-Bil!E243)>1,1,0)","v":0}]
[238,"Zadovoljena","AOP 084 mora biti jednak AOP 232+233 u oba stupca podataka. Dopušteno je odstupanje od 1kn zbog zaokruživanja.",null,0,{"$f":"IF(ABS(Bil!D95-Bil!D244-Bil!D245)>1,1,0)","v":0},{"$f":"IF(ABS(Bil!E95-Bil!E244-Bil!E245)>1,1,0)","v":0}]
[239,"Zadovoljena","AOP 085 mora biti jednak AOP 234+235 u oba stupca podataka. Dopušteno je odstupanje od 1kn zbog zaokruživanja.",null,0,{"$f":"IF(ABS(Bil!D96-Bil!D246-Bil!D247)>1,1,0)","v":0},{"$f":"IF(ABS(Bil!E96-Bil!E246-Bil!E247)>1,1,0)","v":0}]
[240,"Zadovoljena","AOP 086 mora biti jednak AOP 236+237 u oba stupca podataka. Dopušteno je odstupanje od 1kn zbog zaokruživanja.",null,0,{"$f":"IF(ABS(Bil!D97-Bil!D248-Bil!D249)>1,1,0)","v":0},{"$f":"IF(ABS(Bil!E97-Bil!E248-Bil!E249)>1,1,0)","v":0}]
[241,"Zadovoljena","AOP 087 mora biti jednak AOP 238+239 u oba stupca podataka. Dopušteno je odstupanje od 1kn zbog zaokruživanja.",null,0,{"$f":"IF(ABS(Bil!D98-Bil!D250-Bil!D251)>1,1,0)","v":0},{"$f":"IF(ABS(Bil!E98-Bil!E250-Bil!E251)>1,1,0)","v":0}]
[242,"Zadovoljena","AOP 088 mora biti jednak AOP 240+241 u oba stupca podataka. Dopušteno je odstupanje od 1kn zbog zaokruživanja.",null,{"$f":"MAX(F250:I250)","v":0},{"$f":"IF(ABS(Bil!D99-Bil!D252-Bil!D253)>1,1,0)","v":0},{"$f":"IF(ABS(Bil!E99-Bil!E252-Bil!E253)>1,1,0)","v":0}]
[243,"Zadovoljena","AOP 089 mora biti jednak AOP 242+243 u oba stupca podataka. Dopušteno je odstupanje od 1kn zbog zaokruživanja.",null,0,{"$f":"IF(ABS(Bil!D100-Bil!D254-Bil!D255)>1,1,0)","v":0},{"$f":"IF(ABS(Bil!E100-Bil!E254-Bil!E255)>1,1,0)","v":0}]
[244,{"$f":"IF(E252=1,\"Nije zadovoljena\", \"Zadovoljena\")","v":"Zadovoljena"},"AOP 090 mora biti jednak AOP 244+245 u oba stupca podataka. Dopušteno je odstupanje od 1kn zbog zaokruživanja.",null,0,{"$f":"IF(ABS(Bil!D101-Bil!D256-Bil!D257)>1,1,0)","v":0},{"$f":"IF(ABS(Bil!E101-Bil!E256-Bil!E257)>1,1,0)","v":0}]
[245,"Zadovoljena","AOP 091 mora biti jednak AOP 246+247 u oba stupca podataka. Dopušteno je odstupanje od 1kn zbog zaokruživanja.",null,0,{"$f":"IF(ABS(Bil!D102-Bil!D258-Bil!D259)>1,1,0)","v":0},{"$f":"IF(ABS(Bil!E102-Bil!E258-Bil!E259)>1,1,0)","v":0}]
[246,"Zadovoljena","AOP 185 mora biti jednak AOP 248+249 u oba stupca podataka. Dopušteno je odstupanje od 1kn zbog zaokruživanja.",null,0,{"$f":"IF(ABS(Bil!D196-Bil!D260-Bil!D261)>1,1,0)","v":0},{"$f":"IF(ABS(Bil!E196-Bil!E260-Bil!E261)>1,1,0)","v":0}]
[247,"Zadovoljena","AOP 186 mora biti jednak AOP 250+251 u oba stupca podataka. Dopušteno je odstupanje od 1kn zbog zaokruživanja.",null,0,{"$f":"IF(ABS(Bil!D197-Bil!D262-Bil!D263)>1,1,0)","v":0},{"$f":"IF(ABS(Bil!E197-Bil!E262-Bil!E263)>1,1,0)","v":0}]
[248,"Zadovoljena","AOP 187 mora biti jednak AOP 252+253 u oba stupca podataka. Dopušteno je odstupanje od 1kn zbog zaokruživanja.",null,0,{"$f":"IF(ABS(Bil!D198-Bil!D264-Bil!D265)>1,1,0)","v":0},{"$f":"IF(ABS(Bil!E198-Bil!E264-Bil!E265)>1,1,0)","v":0}]
[249,"Zadovoljena","AOP 188 mora biti jednak AOP 254+255 u oba stupca podataka. Dopušteno je odstupanje od 1kn zbog zaokruživanja.",null,0,{"$f":"IF(ABS(Bil!D199-Bil!D266-Bil!D267)>1,1,0)","v":0},{"$f":"IF(ABS(Bil!E199-Bil!E266-Bil!E267)>1,1,0)","v":0}]
[250,"Zadovoljena","AOP 189 mora biti jednak AOP 256+257 u oba stupca podataka. Dopušteno je odstupanje od 1kn zbog zaokruživanja.",null,0,{"$f":"IF(ABS(Bil!D200-Bil!D268-Bil!D269)>1,1,0)","v":0},{"$f":"IF(ABS(Bil!E200-Bil!E268-Bil!E269)>1,1,0)","v":0}]
[251,"Zadovoljena","AOP 190 mora biti jednak AOP 258+259 u oba stupca podataka. Dopušteno je odstupanje od 1kn zbog zaokruživanja.",null,0,{"$f":"IF(ABS(Bil!D201-Bil!D270-Bil!D271)>1,1,0)","v":0},{"$f":"IF(ABS(Bil!E201-Bil!E270-Bil!E271)>1,1,0)","v":0}]
[{"$f":"1+A259","v":252},"Zadovoljena","AOP 191 mora biti jednak AOP 260+261 u oba stupca podataka. Dopušteno je odstupanje od 1kn zbog zaokruživanja.",null,0,{"$f":"IF(ABS(Bil!D202-Bil!D272-Bil!D273)>1,1,0)","v":0},{"$f":"IF(ABS(Bil!E202-Bil!E272-Bil!E273)>1,1,0)","v":0}]
["OBVEZE - obvezne kontrole",null,null,null,{"$f":"SUM(E262:E264)","v":0}]
[{"$f":"A260+1","v":253},{"$f":"IF(E262=1,\"Nije zadovoljena\", \"Zadovoljena\")","v":"Zadovoljena"},"Vrijednosti svih AOP oznaka moraju biti zaokružene, cjelobrojne vrijednosti, ako neka vrijednost nije zaokružena, već upisana s decimalama, kontrola nije zadovoljena, takav obrazac je neispravan.",null,{"$f":"MAX(F262:I262)","v":0},{"$f":"IF(SUM(Skriveni!H1756:H1849)=0,0, 1)","v":0}]
[{"$f":"A262+1","v":254},{"$f":"IF(E263=1,\"Nije zadovoljena\", \"Zadovoljena\")","v":"Zadovoljena"},"Obrazac ne smije sadržavati niti jednu negativnu vrijednost, ako je neka vrijednost negatvina, kontrola nije zadovoljena i obrazac je neispravan.",null,{"$f":"MAX(F263:I263)","v":0},{"$f":"IF(MIN(Skriveni!C1756:C1849)<0,1, 0)","v":0}]
[{"$f":"A263+1","v":255},{"$f":"IF(E264=1,\"Nije zadovoljena\", \"Zadovoljena\")","v":"Zadovoljena"},"Na AOP oznaci 036 mora biti zadovoljena i kontrola: AOP 036 = 037+090 ili drukčije rečeno, ukupno stanje svih obveza na kraju razdoblja (AOP 036) mora biti jednako zbroju dospjelih obveza (AOP 037) i nedospjelih obveza (AOP 090). Dozvoljeno je odstupanje od najviše 1 kune zbog zaokruživanja.",null,{"$f":"MAX(F264:G264)","v":0},{"$f":"IF(ABS(Obv!D47-Obv!D48-Obv!D101)>1,1,0)","v":0}]
["P-VRIO - obvezne kontrole",null,null,null,{"$f":"SUM(E266:E269)","v":0}]
[{"$f":"A264+1","v":256},{"$f":"IF(E266=1,\"Nije zadovoljena\", \"Zadovoljena\")","v":"Zadovoljena"},"Vrijednosti svih AOP oznaka moraju biti zaokružene, cjelobrojne vrijednosti, ako neka vrijednost nije zaokružena, već upisana s decimalama, kontrola nije zadovoljena, takav obrazac je neispravan.",null,{"$f":"MAX(F266:I266)","v":0},{"$f":"IF(SUM(Skriveni!H1437:H1755)=0,0, 1)","v":0}]
[{"$f":"A266+1","v":257},{"$f":"IF(E267=1,\"Nije zadovoljena\", \"Zadovoljena\")","v":"Zadovoljena"},"Obrazac ne smije sadržavati niti jednu negativnu vrijednost, ako je neka vrijednost negatvina, kontrola nije zadovoljena i obrazac je neispravan.",null,{"$f":"MAX(F267:I267)","v":0},{"$f":"IF(MIN(Skriveni!H1437:H1755)<0,1, 0)","v":0}]
[{"$f":"A267+1","v":258},{"$f":"IF(E268=1,\"Nije zadovoljena\", \"Zadovoljena\")","v":"Zadovoljena"},"Vrijednost svake AOP oznake koja nije sumarna može imati upisan samo iznos povećanja ili iznos smanjenja (ne mogu oba stupca biti popunjena istovremeno). Ako je neka AOP oznaka popunjena u oba stupca, obrazac je u grešci.",null,{"$f":"MAX(F268:I268)","v":0},{"$f":"IF(SUM(Skriveni!I1437:I1480)>0,1, 0)","v":0}]
[{"$f":"A268+1","v":259},{"$f":"IF(E269=1,\"Nije zadovoljena\", \"Zadovoljena\")","v":"Zadovoljena"},"S obzirom da se ovaj obrazac može predati i prazan (bez ikakvih iznosa), oznaka popunjenosti na referentnoj stranici ne ažurira se automatski kao kod ostalih obrazaca, ako ste ovaj obrazac popunili, ili ga predajete nepopunjenog (nema promjena na vrijednosti imovine i obveza), a dužni ste ga predati, na Referentnoj stranici potrebno je ručno označeno \"DA\", tj. da predajete i obrazac P-VRIO, bez obzira na popunjenost iznosima. Kontrola javlja grešku ako je u bilo koju poziciju upisan iznos a nije označeno \"DA\" na referentnoj stranici.",null,{"$f":"MAX(F269:I269)","v":0},{"$f":"IF(AND(MAX(Skriveni!C1437:C1755)>0,RefStr!B31<>\"DA\"),1,0)","v":0}]
["NT - obvezne kontrole",null,null,null,{"$f":"SUM(E271:E297)","v":0}]
[{"$f":"A269+1","v":260},{"$f":"IF(E271=1,\"Nije zadovoljena\", \"Zadovoljena\")","v":"Zadovoljena"},"Vrijednosti svih AOP oznaka moraju biti zaokružene, cjelobrojne vrijednosti, ako neka vrijednost nije zaokružena, već upisana s decimalama, kontrola nije zadovoljena, takav obrazac je neispravan.",null,{"$f":"MAX(F271:I271)","v":0},{"$f":"IF(SUM(Skriveni!H901:H1299)<>0,1,0)","v":0}]
[{"$f":"A271+1","v":261},"Zadovoljena","Novčana sredstva na kraju razdoblja moraju biti jednaka novčanim sredstvima na početku razdoblja, uvećanim za ukupne primitke i umanjenim za ukupne izdatke (AOP 229=228+226-227)",null,{"$f":"MAX(F272:I272)","v":0},{"$f":"IF(ABS(NT!D240-NT!D239-NT!D237+NT!D238)>1,1,0)","v":0}]
[{"$f":"A272+1","v":262},"Zadovoljena","Obrazac ne smije sadržavati niti jednu negativnu vrijednost, ako je neka vrijednost negatvina, kontrola nije zadovoljena i obrazac je neispravan.",null,0,{"$f":"IF(MIN(Skriveni!C901:C1299)<0,1,0)","v":0}]
[263,"Zadovoljena","AOP 002 mora biti veći ili jednak AOP-u 232",null,0,{"$f":"IF(NT!D244>NT!D13,1,0)","v":0}]
[264,"Zadovoljena","AOP 004 mora biti jednak zbroju AOP-a: 233 do 260. Dopušteno je odstupanje od 1kn zbog zaokruživanja.",null,0,{"$f":"IF(ABS(NT!D15-SUM(NT!D245:D272))>1,1,0)","v":0}]
[265,"Zadovoljena","AOP 005 mora biti veći ili jednak zbroju AOP-a: 261 do 267.",null,0,{"$f":"IF(NT!D16-SUM(NT!D273:D279)<0,1,0)","v":0}]
[266,{"$f":"IF(E277=1,\"Nije zadovoljena\", \"Zadovoljena\")","v":"Zadovoljena"},"AOP 018 mora biti veći ili jednak zbroju AOP-a: 269 + 270",null,0,{"$f":"IF(NT!D29-NT!D281-NT!D282<0,1,0)","v":0}]
[267,"Zadovoljena","AOP 026 mora biti veći ili jednak AOP-u 271. Dopušteno je odstupanje od 1kn zbog zaokruživanja.",null,0,{"$f":"IF(NT!D283>NT!D37,1,0)","v":0}]
[268,"Zadovoljena","AOP 060 mora biti jednak zbroju AOP-a: 272 + 273",null,0,{"$f":"IF(ABS(NT!D71-NT!D284-NT!D285)>1,1,0)","v":0}]
[269,"Zadovoljena","AOP 063 mora biti jednak zbroju AOP-a: 274 do 277. Dopušteno je odstupanje od 1kn zbog zaokruživanja.",null,0,{"$f":"IF(ABS(NT!D74-SUM(NT!D286:D289))>1,1,0)","v":0}]
[270,"Zadovoljena","AOP 065 mora biti jednak zbroju AOP-a: 278 do 283. Dopušteno je odstupanje od 1kn zbog zaokruživanja.",null,0,{"$f":"IF(ABS(NT!D76-SUM(NT!D290:D295))>1,1,0)","v":0}]
[271,"Zadovoljena","AOP 068 mora biti veći ili jednak zbroju AOP-a: 284 do 286.",null,0,{"$f":"IF(NT!D79<SUM(NT!D296:D298),1,0)","v":0}]
[272,"Zadovoljena","AOP 069 mora biti jednak zbroju AOP-a: 287 do 293. Dopušteno je odstupanje od 1kn zbog zaokruživanja",null,0,{"$f":"IF(ABS(NT!D80-SUM(NT!D299:D305))>1,1,0)","v":0}]
[273,"Zadovoljena","AOP 082 mora biti jednak zbroju AOP-a: 294 + 295. Dopušteno je odstupanje od 1kn zbog zaokruživanja",null,0,{"$f":"IF(ABS(NT!D93-SUM(NT!D306:D307))>1,1,0)","v":0}]
[274,"Zadovoljena","AOP 091 mora biti jednak zbroju AOP-a: 296 do 302. Dopušteno je odstupanje od 1kn zbog zaokruživanja",null,0,{"$f":"IF(ABS(NT!D102-SUM(NT!D308:D314))>1,1,0)","v":0}]
[275,"Zadovoljena","AOP 092 mora biti jednak zbroju AOP-a: 303 do 309. Dopušteno je odstupanje od 1kn zbog zaokruživanja",null,0,{"$f":"IF(ABS(NT!D103-SUM(NT!D315:D321))>1,1,0)","v":0}]
[276,"Zadovoljena","AOP 093 mora biti jednak zbroju AOP-a: 310 + 311. Dopušteno je odstupanje od 1kn zbog zaokruživanja",null,0,{"$f":"IF(ABS(NT!D104-SUM(NT!D322:D323))>1,1,0)","v":0}]
[277,"Zadovoljena","AOP 094 mora biti jednak zbroju AOP-a: 312 + 313. Dopušteno je odstupanje od 1kn zbog zaokruživanja",null,0,{"$f":"IF(ABS(NT!D105-SUM(NT!D324:D325))>1,1,0)","v":0}]
[278,"Zadovoljena","AOP 100 mora biti veći ili jednak zbroju AOP-a: 314 + 315",null,0,{"$f":"IF(NT!D111<SUM(NT!D326:D327),1,0)","v":0}]
[279,"Zadovoljena","AOP 101 mora biti veći ili jednak AOP-u 316",null,0,{"$f":"IF(NT!D328>NT!D112,1,0)","v":0}]
[280,"Zadovoljena","AOP 115 mora biti jednak zbroju AOP-a: 317 do 320. Dopušteno je odstupanje od 1kn zbog zaokruživanja",null,0,{"$f":"IF(ABS(NT!D126-SUM(NT!D329:D332))>1,1,0)","v":0}]
[281,"Zadovoljena","AOP 116 mora biti jednak zbroju AOP-a: 321 do 324. Dopušteno je odstupanje od 1kn zbog zaokruživanja",null,0,{"$f":"IF(ABS(NT!D127-SUM(NT!D333:D336))>1,1,0)","v":0}]
[282,"Zadovoljena","AOP 117 mora biti jednak zbroju AOP-a: 325+326. Dopušteno je odstupanje od 1kn zbog zaokruživanja",null,0,{"$f":"IF(ABS(NT!D128-SUM(NT!D337:D338))>1,1,0)","v":0}]
[283,"Zadovoljena","AOP 197 mora biti veći ili jednak zbroju AOP-a: 328 do 341",null,0,{"$f":"IF(NT!D208<SUM(NT!D340:D353),1,0)","v":0}]
[284,"Zadovoljena","AOP 200 mora biti veći ili jednak zbroju AOP-a: 342 do 361",null,0,{"$f":"IF(NT!D211<SUM(NT!D354:D373),1,0)","v":0}]
[285,"Zadovoljena","AOP 203 mora biti veći ili jednak zbroju AOP-a: 363 do 376",null,0,{"$f":"IF(NT!D214<SUM(NT!D375:D388),1,0)","v":0}]
[286,"Zadovoljena","AOP 206 mora biti veći ili jednak zbroju AOP-a: 377 do 398",null,0,{"$f":"IF(NT!D217<SUM(NT!D389:D410),1,0)","v":0}]
["NT - kontrole upozorenja",null,null,null,{"$f":"SUM(E299)","v":0}]
[{"$f":"A297+1","v":287},{"$f":"IF(E299=1,\"Nije zadovoljena\", \"Zadovoljena\")","v":"Zadovoljena"},"Upozorenje: Ako je iznos na AOP-u 026 veći od 1000, iznos na AOP-u 271 bi morao biti barem 75% iznosa na AOP-a 148, Kontrola upozorava ako je ovaj iznos manje od 75%. Provjerite upisani podatak i ispravite ako je iznos krivo upisan.",null,{"$f":"MAX(F299:H299)","v":0},{"$f":"IF(AND(NT!D37>1000,NT!D37*0.75>NT!D283),1,0)","v":0}]
["S-PR-RAS - obvezne kontrole",null,null,null,{"$f":"SUM(E301:E314)","v":0}]
[{"$f":"A299+1","v":288},{"$f":"IF(E301=1,\"Nije zadovoljena\", \"Zadovoljena\")","v":"Zadovoljena"},"AOP 042 mora biti veći ili jednak AOP 043+044. Ako je AOP 042 veći od nule tada barem jedan od AOP-a 043 i 044 mora biti veći od nule.",null,{"$f":"MAX(F301:H301)","v":0},{"$f":"IF(OR(SPRRAS!D55+SPRRAS!D56-SPRRAS!D54>0, SPRRAS!E55+SPRRAS!E56-SPRRAS!E54>0),1,0)","v":0},{"$f":"IF(AND(SPRRAS!D54>0,SPRRAS!D55=0,SPRRAS!D56=0), 1,0)","v":0},{"$f":"IF(AND(SPRRAS!E54>0,SPRRAS!E55=0,SPRRAS!E56=0), 1,0)","v":0}]
[{"$f":"A301+1","v":289},"Zadovoljena","AOP 058 mora biti veći ili jednak AOP-u 059.",null,0,{"$f":"IF(OR(SPRRAS!D71>SPRRAS!D70,SPRRAS!E71>SPRRAS!E70),1,0)","v":0}]
[{"$f":"A302+1","v":290},"Zadovoljena","AOP oznaka 041 mora biti jednaka oznaci 009. Iznimno, AOP oznaka 041 može biti manja od AOP oznake 009, ali ako je AOP 009 popunjen, tada AOP oznaka 041 ne može biti nula.",null,0,{"$f":"IF(OR(SPRRAS!D53>SPRRAS!D20,SPRRAS!E53>SPRRAS!E20,AND(SPRRAS!D53=0,SPRRAS!D20>0),AND(SPRRAS!E53=0,SPRRAS!E20>0)),1,0)","v":0}]
[291,"Zadovoljena","Suma AOP oznaka 048 do 058+060 do 063 mora biti manja ili jednaka AOP oznaci 047.",null,0,{"$f":"IF(OR(SPRRAS!D59-SUM(SPRRAS!D60:D70)-SUM(SPRRAS!D72:D75)<0,SPRRAS!E59-SUM(SPRRAS!E60:E70)-SUM(SPRRAS!E72:E75)<0),1,0)","v":0}]
[292,"Zadovoljena","AOP 002 u oba stupca mora biti veći ili jednak sumi AOP-a 031 do 036.",null,0,{"$f":"IF(OR(SUM(SPRRAS!D43:D48)>SPRRAS!D13,SUM(SPRRAS!E43:E48)>SPRRAS!E13),1,0)","v":0}]
[293,"Zadovoljena","AOP 005 u oba stupca mora biti veći ili jednak sumi AOP-a 037 do 039",null,0,{"$f":"IF(OR(SUM(SPRRAS!D49:D51)>SPRRAS!D16,SUM(SPRRAS!E49:E51)>SPRRAS!E16),1,0)","v":0}]
[294,"Zadovoljena","AOP 006 u oba stupca mora biti jednak AOP-u 040",null,0,{"$f":"IF(OR(SPRRAS!D17<>SPRRAS!D52,SPRRAS!E17<>SPRRAS!E52),1,0)","v":0}]
[295,"Zadovoljena","AOP 013 u oba stupca mora biti veći ili  jednak sumi AOP-a: 065 do 068",null,0,{"$f":"IF(OR(SUM(SPRRAS!D77:D80)>SPRRAS!D24,SUM(SPRRAS!E77:E80)>SPRRAS!E24),1,0)","v":0}]
[296,"Zadovoljena","AOP 015 u oba stupca mora biti veći ili jednak sumi AOP-a: 069+070",null,0,{"$f":"IF(OR(SUM(SPRRAS!D81:D82)>SPRRAS!D26,SUM(SPRRAS!E81:E82)>SPRRAS!E26),1,0)","v":0}]
[297,"Zadovoljena","AOP 022 u oba stupca mora biti veći ili jednak sumi AOP-a: 071 do 073",null,0,{"$f":"IF(OR(SUM(SPRRAS!D83:D85)>SPRRAS!D33,SUM(SPRRAS!E83:E85)>SPRRAS!E33),1,0)","v":0}]
[298,"Zadovoljena","AOP 023 u oba stupca mora biti jednak sumi AOP-a: 074 do 083. Zbog zaokruživanja je dopušteno odstupanje od 1kn.",null,0,{"$f":"IF(OR(ABS(SPRRAS!D34-SUM(SPRRAS!D86:D95))>1,ABS(SPRRAS!E34-SUM(SPRRAS!E86:E95))>1),1,0)","v":0}]
[299,"Zadovoljena","AOP 024 u oba stupca mora biti veći ili jednak AOP-u 084",null,0,{"$f":"IF(OR(SPRRAS!D96>SPRRAS!D35,SPRRAS!E96>SPRRAS!E35),1,0)","v":0}]
[300,"Zadovoljena","AOP 026 u oba stupca mora biti jednak sumi AOP-a: 085 do  089. Zbog zaokruživanja je dopušteno odstupanje od 1kn.",null,0,{"$f":"IF(OR(ABS(SPRRAS!D37-SUM(SPRRAS!D97:D101))>1,ABS(SPRRAS!E37-SUM(SPRRAS!E97:E101))>1),1,0)","v":0}]
[301,"Zadovoljena","Svi iznosi moraju biti zaokružene cjelobrojne vrijednosti, ako neki iznos nije zaokružena cjelobrojna vrijednost ova kontrola nije zadovoljena. Takav obrazac je neispravan.",null,0,{"$f":"IF(SUM(Skriveni!H1850:H1975)<>0,1,0)","v":0}]
["S-PR-RAS - kontrole upozorenja",null,null,null,{"$f":"SUM(E316:E318)","v":0}]
[{"$f":"A314+1","v":302},{"$f":"IF(E316=1,\"Nije zadovoljena\", \"Zadovoljena\")","v":"Zadovoljena"},"AOP oznaka 009 i AOP oznaka 041 bi u principu trebale biti jednake u oba stupca podataka. Kontrola upozorava ako se iznosi razlikuju dopušteno je odstupanje od 1 kn zbog zaokruživanja.",null,{"$f":"MAX(F316:H316)","v":0},{"$f":"IF(ABS(SPRRAS!D20-SPRRAS!D53)>1,1,0)","v":0},{"$f":"IF(ABS(SPRRAS!E20-SPRRAS!E53)>1,1,0)","v":0}]
[{"$f":"A316+1","v":303},{"$f":"IF(E317=1,\"Nije zadovoljena\", \"Zadovoljena\")","v":"Zadovoljena"},"Suma AOP oznaka 048 do 057+059 do 063 mora biti manja ili jednaka AOP oznaci 047. Kontrola upozorava ako je ovaj zbroj veći od AOP oznake 047, što u pravilu ne bi smio biti.",null,{"$f":"MAX(F317:H317)","v":0},{"$f":"IF((SUM(SPRRAS!D60:D69)+SPRRAS!D71)>SPRRAS!D59,1,0)","v":0},{"$f":"IF((SUM(SPRRAS!E60:E69)+SPRRAS!E71)>SPRRAS!E59,1,0)","v":0}]
[{"$f":"A317+1","v":304},{"$f":"IF(E318=1,\"Nije zadovoljena\", \"Zadovoljena\")","v":"Zadovoljena"},"Ako je AOP oznaka 047 popunjena, barem jedna od AOP oznaka 048 do 063 mora biti popunjena. Iznimno, ako su na kontu 32 (AOP oznaka 047) prikazani samo rashodi koji nisu spomenuti u razradi na AOP oznakama 048 do 057, sve ove AOP oznake sve mogu biti nula.",null,{"$f":"MAX(F318:H318)","v":0},{"$f":"IF(AND(SPRRAS!D59>0,SUM(SPRRAS!D60:D75)=0),1,0)","v":0},{"$f":"IF(AND(SPRRAS!E59>0,SUM(SPRRAS!E60:E75)=0),1,0)","v":0}]
["RAS-funkcijski - obvezne kontrole",null,null,null,{"$f":"SUM(E320:E321)","v":0}]
[{"$f":"A318+1","v":305},{"$f":"IF(E320=1,\"Nije zadovoljena\", \"Zadovoljena\")","v":"Zadovoljena"},"Vrijednosti svih AOP oznaka moraju biti zaokružene, cjelobrojne vrijednosti, ako neka vrijednost nije zaokružena, već upisana s decimalama, kontrola nije zadovoljena, takav obrazac je neispravan.",null,{"$f":"MAX(F320:I320)","v":0},{"$f":"IF(SUM(Skriveni!H1300:H1436)<>0,1,0)","v":0}]
[{"$f":"A320+1","v":306},{"$f":"IF(E321=1,\"Nije zadovoljena\", \"Zadovoljena\")","v":"Zadovoljena"},"Obrazac ne smije sadržavati niti jednu negativnu vrijednost, ako je neka vrijednost negatvina, kontrola nije zadovoljena i obrazac je neispravan.",null,{"$f":"MAX(F321:I321)","v":0},{"$f":"IF(MIN(Skriveni!C1300:D1436)<0,1,0)","v":0}]

{"sheet":"Sifre","index":11,"n_rows":863,"n_cols":8,"rows_kept":863,"cut":false,"hidden":false,"merged":[[0,0,0,7],[192,0,192,1],[192,2,192,4],[192,5,192,7],[861,1,861,7],[862,1,862,7],[246,0,246,1],[246,2,246,4],[246,5,246,7],[857,1,857,7],[858,1,858,7],[859,1,859,7],[860,1,860,7],[853,1,853,7],[854,1,854,7],[855,1,855,7],[856,1,856,7],[849,1,849,7],[850,1,850,7],[851,1,851,7],[852,1,852,7],[843,1,843,7],[844,1,844,7],[845,1,845,7],[846,1,846,7],[847,1,847,7],[848,1,848,7],[837,1,837,7],[838,1,838,7],[839,1,839,7],[840,1,840,7],[841,1,841,7],[842,1,842,7],[831,1,831,7],[832,1,832,7],[833,1,833,7],[834,1,834,7],[835,1,835,7],[836,1,836,7],[825,1,825,7],[826,1,826,7],[827,1,827,7],[828,1,828,7],[829,1,829,7],[830,1,830,7],[819,1,819,7],[820,1,820,7],[821,1,821,7],[822,1,822,7],[823,1,823,7],[824,1,824,7],[813,1,813,7],[814,1,814,7],[815,1,815,7],[816,1,816,7],[817,1,817,7],[818,1,818,7],[807,1,807,7],[808,1,808,7],[809,1,809,7],[810,1,810,7],[811,1,811,7],[812,1,812,7],[801,1,801,7],[802,1,802,7],[803,1,803,7],[804,1,804,7],[805,1,805,7],[806,1,806,7],[795,1,795,7],[796,1,796,7],[797,1,797,7],[798,1,798,7],[799,1,799,7],[800,1,800,7],[789,1,789,7],[790,1,790,7],[791,1,791,7],[792,1,792,7],[793,1,793,7],[794,1,794,7],[783,1,783,7],[784,1,784,7],[785,1,785,7],[786,1,786,7],[787,1,787,7],[788,1,788,7],[777,1,777,7],[778,1,778,7],[779,1,779,7],[780,1,780,7],[781,1,781,7],[782,1,782,7],[771,1,771,7],[772,1,772,7],[773,1,773,7],[774,1,774,7],[775,1,775,7],[776,1,776,7],[765,1,765,7],[766,1,766,7],[767,1,767,7],[768,1,768,7],[769,1,769,7],[770,1,770,7],[759,1,759,7],[760,1,760,7],[761,1,761,7],[762,1,762,7],[763,1,763,7],[764,1,764,7],[753,1,753,7],[754,1,754,7],[755,1,755,7],[756,1,756,7],[757,1,757,7],[758,1,758,7],[747,1,747,7],[748,1,748,7],[749,1,749,7],[750,1,750,7],[751,1,751,7],[752,1,752,7],[741,1,741,7],[742,1,742,7],[743,1,743,7],[744,1,744,7],[745,1,745,7],[746,1,746,7],[735,1,735,7],[736,1,736,7],[737,1,737,7],[738,1,738,7],[739,1,739,7],[740,1,740,7],[729,1,729,7],[730,1,730,7],[731,1,731,7],[732,1,732,7],[733,1,733,7],[734,1,734,7],[723,1,723,7],[724,1,724,7],[725,1,725,7],[726,1,726,7],[727,1,727,7],[728,1,728,7],[717,1,717,7],[718,1,718,7],[719,1,719,7],[720,1,720,7],[721,1,721,7],[722,1,722,7],[711,1,711,7],[712,1,712,7],[713,1,713,7],[714,1,714,7],[715,1,715,7],[716,1,716,7],[705,1,705,7],[706,1,706,7],[707,1,707,7],[708,1,708,7],[709,1,709,7],[710,1,710,7],[699,1,699,7],[700,1,700,7],[701,1,701,7],[702,1,702,7],[703,1,703,7],[704,1,704,7],[693,1,693,7],[694,1,694,7],[695,1,695,7],[696,1,696,7],[697,1,697,7],[698,1,698,7],[687,1,687,7],[688,1,688,7],[689,1,689,7],[690,1,690,7],[691,1,691,7],[692,1,692,7],[681,1,681,7],[682,1,682,7],[683,1,683,7],[684,1,684,7],[685,1,685,7],[686,1,686,7],[675,1,675,7],[676,1,676,7],[677,1,677,7],[678,1,678,7],[679,1,679,7],[680,1,680,7],[669,1,669,7],[670,1,670,7],[671,1,671,7],[672,1,672,7],[673,1,673,7],[674,1,674,7],[663,1,663,7],[664,1,664,7],[665,1,665,7],[666,1,666,7],[667,1,667,7],[668,1,668,7],[657,1,657,7],[658,1,658,7],[659,1,659,7],[660,1,660,7],[661,1,661,7],[662,1,662,7],[651,1,651,7],[652,1,652,7],[653,1,653,7],[654,1,654,7],[655,1,655,7],[656,1,656,7],[645,1,645,7],[646,1,646,7],[647,1,647,7],[648,1,648,7],[649,1,649,7],[650,1,650,7],[639,1,639,7],[640,1,640,7],[641,1,641,7],[642,1,642,7],[643,1,643,7],[644,1,644,7],[633,1,633,7],[634,1,634,7],[635,1,635,7],[636,1,636,7],[637,1,637,7],[638,1,638,7],[627,1,627,7],[628,1,628,7],[629,1,629,7],[630,1,630,7],[631,1,631,7],[632,1,632,7],[621,1,621,7],[622,1,622,7],[623,1,623,7],[624,1,624,7],[625,1,625,7],[626,1,626,7],[615,1,615,7],[616,1,616,7],[617,1,617,7],[618,1,618,7],[619,1,619,7],[620,1,620,7],[609,1,609,7],[610,1,610,7],[611,1,611,7],[612,1,612,7],[613,1,613,7],[614,1,614,7],[603,1,603,7],[604,1,604,7],[605,1,605,7],[606,1,606,7],[607,1,607,7],[608,1,608,7],[597,1,597,7],[598,1,598,7],[599,1,599,7],[600,1,600,7],[601,1,601,7],[602,1,602,7],[591,1,591,7],[592,1,592,7],[593,1,593,7],[594,1,594,7],[595,1,595,7],[596,1,596,7],[585,1,585,7],[586,1,586,7],[587,1,587,7],[588,1,588,7],[589,1,589,7],[590,1,590,7],[579,1,579,7],[580,1,580,7],[581,1,581,7],[582,1,582,7],[583,1,583,7],[584,1,584,7],[573,1,573,7],[574,1,574,7],[575,1,575,7],[576,1,576,7],[577,1,577,7],[578,1,578,7],[567,1,567,7],[568,1,568,7],[569,1,569,7],[570,1,570,7],[571,1,571,7],[572,1,572,7],[561,1,561,7],[562,1,562,7],[563,1,563,7],[564,1,564,7],[565,1,565,7],[566,1,566,7],[555,1,555,7],[556,1,556,7],[557,1,557,7],[558,1,558,7],[559,1,559,7],[560,1,560,7],[549,1,549,7],[550,1,550,7],[551,1,551,7],[552,1,552,7],[553,1,553,7],[554,1,554,7],[543,1,543,7],[544,1,544,7],[545,1,545,7],[546,1,546,7],[547,1,547,7],[548,1,548,7],[537,1,537,7],[538,1,538,7],[539,1,539,7],[540,1,540,7],[541,1,541,7],[542,1,542,7],[531,1,531,7],[532,1,532,7],[533,1,533,7],[534,1,534,7],[535,1,535,7],[536,1,536,7],[525,1,525,7],[526,1,526,7],[527,1,527,7],[528,1,528,7],[529,1,529,7],[530,1,530,7],[519,1,519,7],[520,1,520,7],[521,1,521,7],[522,1,522,7],[523,1,523,7],[524,1,524,7],[513,1,513,7],[514,1,514,7],[515,1,515,7],[516,1,516,7],[517,1,517,7],[518,1,518,7],[507,1,507,7],[508,1,508,7],[509,1,509,7],[510,1,510,7],[511,1,511,7],[512,1,512,7],[501,1,501,7],[502,1,502,7],[503,1,503,7],[504,1,504,7],[505,1,505,7],[506,1,506,7],[495,1,495,7],[496,1,496,7],[497,1,497,7],[498,1,498,7],[499,1,499,7],[500,1,500,7],[489,1,489,7],[490,1,490,7],[491,1,491,7],[492,1,492,7],[493,1,493,7],[494,1,494,7],[483,1,483,7],[484,1,484,7],[485,1,485,7],[486,1,486,7],[487,1,487,7],[488,1,488,7],[477,1,477,7],[478,1,478,7],[479,1,479,7],[480,1,480,7],[481,1,481,7],[482,1,482,7],[471,1,471,7],[472,1,472,7],[473,1,473,7],[474,1,474,7],[475,1,475,7],[476,1,476,7],[465,1,465,7],[466,1,466,7],[467,1,467,7],[468,1,468,7],[469,1,469,7],[470,1,470,7],[459,1,459,7],[460,1,460,7],[461,1,461,7],[462,1,462,7],[463,1,463,7],[464,1,464,7],[453,1,453,7],[454,1,454,7],[455,1,455,7],[456,1,456,7],[457,1,457,7],[458,1,458,7],[447,1,447,7],[448,1,448,7],[449,1,449,7],[450,1,450,7],[451,1,451,7],[452,1,452,7],[441,1,441,7],[442,1,442,7],[443,1,443,7],[444,1,444,7],[445,1,445,7],[446,1,446,7],[435,1,435,7],[436,1,436,7],[437,1,437,7],[438,1,438,7],[439,1,439,7],[440,1,440,7],[429,1,429,7],[430,1,430,7],[431,1,431,7],[432,1,432,7],[433,1,433,7],[434,1,434,7],[423,1,423,7],[424,1,424,7],[425,1,425,7],[426,1,426,7],[427,1,427,7],[428,1,428,7],[417,1,417,7],[418,1,418,7],[419,1,419,7],[420,1,420,7],[421,1,421,7],[422,1,422,7],[411,1,411,7],[412,1,412,7],[413,1,413,7],[414,1,414,7],[415,1,415,7],[416,1,416,7],[405,1,405,7],[406,1,406,7],[407,1,407,7],[408,1,408,7],[409,1,409,7],[410,1,410,7],[399,1,399,7],[400,1,400,7],[401,1,401,7],[402,1,402,7],[403,1,403,7],[404,1,404,7],[393,1,393,7],[394,1,394,7],[395,1,395,7],[396,1,396,7],[397,1,397,7],[398,1,398,7],[387,1,387,7],[388,1,388,7],[389,1,389,7],[390,1,390,7],[391,1,391,7],[392,1,392,7],[381,1,381,7],[382,1,382,7],[383,1,383,7],[384,1,384,7],[385,1,385,7],[386,1,386,7],[375,1,375,7],[376,1,376,7],[377,1,377,7],[378,1,378,7],[379,1,379,7],[380,1,380,7],[369,1,369,7],[370,1,370,7],[371,1,371,7],[372,1,372,7],[373,1,373,7],[374,1,374,7],[363,1,363,7],[364,1,364,7],[365,1,365,7],[366,1,366,7],[367,1,367,7],[368,1,368,7],[357,1,357,7],[358,1,358,7],[359,1,359,7],[360,1,360,7],[361,1,361,7],[362,1,362,7],[351,1,351,7],[352,1,352,7],[353,1,353,7],[354,1,354,7],[355,1,355,7],[356,1,356,7],[345,1,345,7],[346,1,346,7],[347,1,347,7],[348,1,348,7],[349,1,349,7],[350,1,350,7],[339,1,339,7],[340,1,340,7],[341,1,341,7],[342,1,342,7],[343,1,343,7],[344,1,344,7],[333,1,333,7],[334,1,334,7],[335,1,335,7],[336,1,336,7],[337,1,337,7],[338,1,338,7],[327,1,327,7],[328,1,328,7],[329,1,329,7],[330,1,330,7],[331,1,331,7],[332,1,332,7],[321,1,321,7],[322,1,322,7],[323,1,323,7],[324,1,324,7],[325,1,325,7],[326,1,326,7],[315,1,315,7],[316,1,316,7],[317,1,317,7],[318,1,318,7],[319,1,319,7],[320,1,320,7],[309,1,309,7],[310,1,310,7],[311,1,311,7],[312,1,312,7],[313,1,313,7],[314,1,314,7],[303,1,303,7],[304,1,304,7],[305,1,305,7],[306,1,306,7],[307,1,307,7],[308,1,308,7],[297,1,297,7],[298,1,298,7],[299,1,299,7],[300,1,300,7],[301,1,301,7],[302,1,302,7],[291,1,291,7],[292,1,292,7],[293,1,293,7],[294,1,294,7],[295,1,295,7],[296,1,296,7],[285,1,285,7],[286,1,286,7],[287,1,287,7],[288,1,288,7],[289,1,289,7],[290,1,290,7],[279,1,279,7],[280,1,280,7],[281,1,281,7],[282,1,282,7],[283,1,283,7],[284,1,284,7],[273,1,273,7],[274,1,274,7],[275,1,275,7],[276,1,276,7],[277,1,277,7],[278,1,278,7],[267,1,267,7],[268,1,268,7],[269,1,269,7],[270,1,270,7],[271,1,271,7],[272,1,272,7],[261,1,261,7],[262,1,262,7],[263,1,263,7],[264,1,264,7],[265,1,265,7],[266,1,266,7],[255,1,255,7],[256,1,256,7],[257,1,257,7],[258,1,258,7],[259,1,259,7],[260,1,260,7],[249,1,249,7],[250,1,250,7],[251,1,251,7],[252,1,252,7],[253,1,253,7],[254,1,254,7],[247,1,247,7],[248,1,248,7],[193,1,193,7],[1,0,1,7],[3,0,3,7],[2,0,2,2],[2,3,2,5],[2,6,2,7]]}
["<–––– Povratak na naslovnu"]
["S obzirom na objedinjavanje svih obrazaca proračuna i proračunskih korisnika u jednu datoteku, kako bi se smanjio broj radnih listova u Excel datoteci šifre općina, šifre djelatnosti i popis razdjela spojeni su u ovaj jedan radni list. Klikom na plavi tekst naziva pojedinog šifrarnika prebacujete na početak tog šifrarnika."]
["Šifreopćina",null,null,"Oznake razdjela",null,null,"Šifre djelatnosti (NKD 2007)"]
["Šifra općine / grada upisuje se prema standardnim troznamenkastim šiframa bez kontrolne znamekne. U ovom šifrarniku šifre su dane abecednim redom naziva naselja. U obrazac se upisuje samo šifra općine / grada, a šifra županije se automatski izračunava."]
["Šifra","Naziv općine /  grada",null,"Šifra","Naziv općine /  grada",null,"Šifra","Naziv općine /  grada"]
[1,"Andrijaševci",null,185,"Klakar",null,88,"Proložac"]
[2,"Antunovac",null,186,"Klana",null,298,"Promina"]
[3,"Babina Greda",null,187,"Klanjec",null,358,"Pučišća"]
[4,"Bakar",null,189,"Klenovnik",null,359,"Pula"]
[5,"Bale",null,190,"Klinča Sela",null,360,"Punat"]
[6,"Barban",null,192,"Klis",null,361,"Punitovci"]
[7,"Barilovići",null,193,"Kloštar Ivanić",null,362,"Pušća"]
[8,"Baška",null,194,"Kloštar Podravski",null,363,"Rab"]
[9,"Baška Voda",null,195,"Kneževi Vinogradi",null,364,"Radoboj"]
[10,"Bebrina",null,196,"Knin",null,536,"Rakovec"]
[11,"Bedekovčina",null,622,"Kolan",null,365,"Rakovica"]
[550,"Bedenica",null,197,"Komiža",null,366,"Rasinja"]
[12,"Bednja",null,198,"Konavle",null,368,"Raša"]
[13,"Beli Manastir",null,199,"Končanica",null,369,"Ravna Gora"]
[15,"Belica",null,200,"Konjščina",null,371,"Ražanac"]
[16,"Belišće",null,201,"Koprivnica",null,372,"Rešetari"]
[17,"Benkovac",null,202,"Koprivnički Bregi",null,556,"Ribnik"]
[18,"Berek",null,203,"Koprivnički Ivanec",null,373,"Rijeka"]
[19,"Beretinec",null,204,"Korčula",null,582,"Rogoznica"]
[20,"Bibinje",null,538,"Kostrena",null,374,"Rovinj"]
[621,"Bilice",null,205,"Koška",null,375,"Rovišće"]
[21,"Bilje",null,206,"Kotoriba",null,376,"Rugvica"]
[22,"Biograd na Moru",null,208,"Kraljevec na Sutli",null,591,"Runovići"]
[310,"Biskupija",null,209,"Kraljevica",null,377,"Ružić"]
[547,"Bistra",null,211,"Krapina",null,378,"Saborsko"]
[23,"Bizovac",null,212,"Krapinske Toplice",null,379,"Sali"]
[24,"Bjelovar",null,533,"Krašić",null,380,"Samobor"]
[25,"Blato",null,545,"Kravarsko",null,381,"Satnica Đakovačka"]
[26,"Bogdanovci",null,213,"Križ",null,382,"Seget"]
[27,"Bol",null,214,"Križevci",null,383,"Selca"]
[29,"Borovo",null,215,"Krk",null,385,"Selnica"]
[30,"Bosiljevo",null,216,"Krnjak",null,386,"Semeljci"]
[32,"Bošnjaci",null,217,"Kršan",null,387,"Senj"]
[33,"Brckovljani",null,572,"Kukljica",null,562,"Severin"]
[34,"Brdovec",null,219,"Kula Norinska",null,388,"Sibinj"]
[77,"Brela",null,553,"Kumrovec",null,570,"Sikirevci"]
[35,"Brestovac",null,220,"Kutina",null,389,"Sinj"]
[36,"Breznica",null,221,"Kutjevo",null,390,"Sirač"]
[151,"Breznički Hum",null,222,"Labin",null,391,"Sisak"]
[37,"Brinje",null,223,"Lanišće",null,393,"Skrad"]
[38,"Brod Moravice",null,225,"Lasinja",null,394,"Skradin"]
[39,"Brodski Stupnik",null,226,"Lastovo",null,395,"Slatina"]
[40,"Brtonigla",null,586,"Lećevica",null,396,"Slavonski Brod"]
[41,"Budinščina",null,227,"Legrad",null,397,"Slavonski Šamac"]
[42,"Buje",null,228,"Lekenik",null,399,"Slivno"]
[567,"Bukovlje",null,229,"Lepoglava",null,400,"Slunj"]
[43,"Buzet",null,230,"Levanjska Varoš",null,402,"Smokvica"]
[44,"Cerna",null,231,"Lipik",null,405,"Sokolovac"]
[46,"Cernik",null,232,"Lipovljani",null,406,"Solin"]
[47,"Cerovlje",null,234,"Lišane Ostrovičke",null,407,"Sopje"]
[48,"Cestica",null,235,"Ližnjan",null,409,"Split"]
[49,"Cetingrad",null,236,"Lobor",null,410,"Sračinec"]
[50,"Cista Provo",null,237,"Lokve",null,411,"Stankovci"]
[51,"Civljane",null,587,"Lokvičići",null,412,"Stara Gradiška"]
[52,"Cres",null,624,"Lopar",null,413,"Stari Grad"]
[53,"Crikvenica",null,239,"Lovas",null,414,"Stari Jankovci"]
[54,"Crnac",null,240,"Lovinac",null,415,"Stari Mikanovci"]
[55,"Čabar",null,242,"Lovran",null,416,"Starigrad"]
[56,"Čačinci",null,243,"Lovreć",null,418,"Staro Petrovo Selo"]
[57,"Čađavica",null,244,"Ludbreg",null,419,"Ston"]
[58,"Čaglin",null,548,"Luka",null,606,"Strahoninec"]
[60,"Čakovec",null,245,"Lukač",null,421,"Strizivojna"]
[61,"Čavle",null,600,"Lumbarda",null,422,"Stubičke Toplice"]
[63,"Čazma",null,246,"Lupoglav",null,551,"Stupnik"]
[64,"Čeminac",null,247,"Ljubešćica",null,423,"Sućuraj"]
[65,"Čepin",null,248,"Mače",null,424,"Suhopolje"]
[66,"Darda",null,578,"Magadenovac",null,425,"Sukošan"]
[67,"Daruvar",null,555,"Majur",null,426,"Sunja"]
[68,"Davor",null,249,"Makarska",null,427,"Supetar"]
[603,"Dekanovec",null,250,"Mala Subotica",null,592,"Sutivan"]
[69,"Delnice",null,251,"Mali Bukovec",null,607,"Sveta Marija"]
[70,"Desinić",null,252,"Mali Lošinj",null,432,"Sveta Nedelja"]
[71,"Dežanovac",null,253,"Malinska-Dubašnica",null,436,"Sveta Nedelja"]
[72,"Dicmo",null,254,"Marčana",null,437,"Sveti Đurđ"]
[74,"Dobrinj",null,256,"Marija Bistrica",null,428,"Sveti Filip i Jakov"]
[75,"Domašinec",null,539,"Marija Gorica",null,438,"Sveti Ilija"]
[78,"Donja Dubrava",null,257,"Marijanci",null,429,"Sveti Ivan Zelina"]
[576,"Donja Motičina",null,258,"Marina",null,439,"Sveti Ivan Žabno"]
[79,"Donja Stubica",null,610,"Markušica",null,440,"Sveti Juraj na Bregu"]
[80,"Donja Voća",null,259,"Martinska Ves",null,430,"Sveti Križ Začretje"]
[81,"Donji Andrijevci",null,260,"Maruševec",null,431,"Sveti Lovreč"]
[82,"Donji Kraljevec",null,261,"Matulji",null,441,"Sveti Martin na Muri"]
[83,"Donji Kukuruzari",null,263,"Medulin",null,442,"Sveti Petar Orehovec"]
[84,"Donji Lapac",null,264,"Metković",null,433,"Sveti Petar u Šumi"]
[85,"Donji Martijanec",null,265,"Mihovljan",null,435,"Svetvinčenat"]
[86,"Donji Miholjac",null,266,"Mikleuš",null,564,"Šandrovac"]
[89,"Donji Vidovec",null,267,"Milna",null,608,"Šenkovec"]
[568,"Dragalić",null,268,"Mljet",null,443,"Šestanovac"]
[90,"Draganić",null,270,"Molve",null,444,"Šibenik"]
[91,"Draž",null,273,"Mošćenička Draga",null,445,"Škabrnje"]
[92,"Drenovci",null,274,"Motovun",null,614,"Šodolovci"]
[94,"Drenje",null,275,"Mrkopalj",null,447,"Šolta"]
[95,"Drniš",null,87,"Muć",null,449,"Špišić Bukovica"]
[96,"Drnje",null,276,"Mursko Središće",null,450,"Štefanje"]
[97,"Dubrava",null,617,"Murter",null,628,"Štitar"]
[549,"Dubravica",null,278,"Našice",null,452,"Štrigova"]
[598,"Dubrovačko Primorje",null,279,"Nedelišće",null,631,"Tar-Vabriga"]
[98,"Dubrovnik",null,612,"Negoslavci",null,453,"Tinjan"]
[99,"Duga Resa",null,280,"Nerežišća",null,454,"Tisno"]
[100,"Dugi Rat",null,281,"Netretić",null,575,"Tkon"]
[101,"Dugo Selo",null,295,"Nijemci",null,456,"Tompojevci"]
[585,"Dugopolje",null,282,"Nin",null,457,"Topusko"]
[102,"Dvor",null,283,"Nova Bukovica",null,458,"Tordinci"]
[103,"Đakovo",null,284,"Nova Gradiška",null,557,"Tounj"]
[104,"Đelekovec",null,285,"Nova Kapela",null,459,"Tovarnik"]
[105,"Đulovac",null,287,"Nova Rača",null,626,"Tribunj"]
[106,"Đurđenovac",null,288,"Novalja",null,460,"Trilj"]
[107,"Đurđevac",null,554,"Novi Golubovec",null,461,"Trnava"]
[108,"Đurmanec",null,289,"Novi Marof",null,462,"Trnovec Bartolovečki"]
[110,"Erdut",null,290,"Novi Vinodolski",null,463,"Trogir"]
[111,"Ernestinovo",null,537,"Novigrad",null,601,"Trpanj"]
[113,"Ervenik",null,291,"Novigrad",null,464,"Trpinja"]
[114,"Farkaševac",null,292,"Novigrad Podravski",null,593,"Tučepi"]
[619,"Fažana",null,561,"Novo Virje",null,466,"Tuhelj"]
[115,"Ferdinandovac",null,293,"Novska",null,467,"Udbina"]
[116,"Feričanci",null,294,"Nuštar",null,468,"Umag"]
[629,"Funtana",null,296,"Obrovac",null,469,"Unešić"]
[117,"Fužine",null,297,"Ogulin",null,471,"Valpovo"]
[571,"Galovac",null,588,"Okrug",null,472,"Varaždin"]
[118,"Garčin",null,299,"Okučani",null,473,"Varaždinske Toplice"]
[119,"Garešnica",null,300,"Omiš",null,474,"Vela Luka"]
[120,"Generalski Stol",null,301,"Omišalj",null,475,"Velika"]
[121,"Glina",null,302,"Opatija",null,541,"Velika Gorica"]
[122,"Gola",null,303,"Oprisavci",null,476,"Velika Kopanica"]
[123,"Goričan",null,304,"Oprtalj",null,477,"Velika Ludina"]
[124,"Gorjani",null,306,"Opuzen",null,478,"Velika Pisanica"]
[618,"Gornja Reka",null,307,"Orahovica",null,565,"Velika Trnovitica"]
[125,"Gornja Stubica",null,308,"Orebić",null,558,"Veliki Bukovec"]
[569,"Gornja Vrba",null,605,"Orehovica",null,480,"Veliki Grđevac"]
[127,"Gornji Bogićevci",null,309,"Oriovac",null,481,"Veliko Trgovišće"]
[129,"Gornji Kneginec",null,542,"Orle",null,483,"Veliko Trojstvo"]
[604,"Gornji Mihaljevec",null,311,"Oroslavje",null,484,"Vidovec"]
[130,"Gospić",null,312,"Osijek",null,485,"Viljevo"]
[131,"Gračac",null,313,"Otočac",null,486,"Vinica"]
[132,"Gračišće",null,314,"Otok",null,487,"Vinkovci"]
[134,"Gradac",null,535,"Otok (Vinkovci)",null,488,"Vinodolska Općina"]
[135,"Gradec",null,315,"Ozalj",null,489,"Vir"]
[136,"Gradina",null,316,"Pag",null,490,"Virje"]
[137,"Gradište",null,317,"Pakoštane",null,491,"Virovitica"]
[138,"Grožnjan",null,318,"Pakrac",null,492,"Vis"]
[139,"Grubišno Polje",null,320,"Pašman",null,493,"Visoko"]
[140,"Gundinci",null,321,"Pazin",null,494,"Viškovci"]
[141,"Gunja",null,323,"Perušić",null,495,"Viškovo"]
[510,"Gvozd",null,324,"Peteranec",null,497,"Višnjan"]
[144,"Hercegovac",null,325,"Petlovac",null,498,"Vižinada"]
[145,"Hlebine",null,326,"Petrijanec",null,579,"Vladislavci"]
[146,"Hrašćina",null,327,"Petrijevci",null,499,"Voćin"]
[148,"Hrvace",null,328,"Petrinja",null,500,"Vodice"]
[149,"Hrvatska Dubica",null,329,"Petrovsko",null,502,"Vodnjan"]
[150,"Hrvatska Kostajnica",null,330,"Pićan",null,584,"Vođinci"]
[152,"Hum Na Sutli",null,581,"Pirovac",null,503,"Vojnić"]
[153,"Hvar",null,331,"Pisarovina",null,504,"Vratišinec"]
[154,"Ilok",null,332,"Pitomača",null,505,"Vrbanja"]
[155,"Imotski",null,333,"Plaški",null,506,"Vrbje"]
[156,"Ivanec",null,334,"Pleternica",null,507,"Vrbnik"]
[158,"Ivanić-Grad",null,455,"Plitvička Jezera",null,508,"Vrbovec"]
[159,"Ivankovo",null,335,"Ploče",null,509,"Vrbovsko"]
[161,"Ivanska",null,337,"Podbablje",null,511,"Vrgorac"]
[609,"Jagodnjak",null,338,"Podcrkavlje",null,512,"Vrhovine"]
[163,"Jakovlje",null,339,"Podgora",null,513,"Vrlika"]
[164,"Jakšić",null,340,"Podgorač",null,514,"Vrpolje"]
[165,"Jalžabet",null,271,"Podravska Moslavina",null,516,"Vrsar"]
[599,"Janjina",null,616,"Podravske Sesvete",null,625,"Vrsi"]
[166,"Jarmina",null,341,"Podstrana",null,517,"Vuka"]
[167,"Jasenice",null,342,"Podturen",null,518,"Vukovar"]
[168,"Jasenovac",null,343,"Pojezerje",null,519,"Zabok"]
[169,"Jastrebarsko",null,544,"Pokupsko",null,520,"Zadar"]
[170,"Jelenje",null,344,"Polača",null,595,"Zadvarje"]
[171,"Jelsa",null,345,"Poličnik",null,521,"Zagorska Sela"]
[552,"Jesenje",null,346,"Popovac",null,133,"Zagreb"]
[172,"Josipdol",null,347,"Popovača",null,522,"Zagvozd"]
[173,"Kali",null,348,"Poreč",null,543,"Zaprešić"]
[559,"Kalinovac",null,349,"Posedarje",null,523,"Zažablje"]
[560,"Kalnik",null,350,"Postira",null,524,"Zdenci"]
[623,"Kamanje",null,573,"Povljana",null,525,"Zemunik Donji"]
[175,"Kanfanar",null,351,"Požega",null,526,"Zlatar"]
[176,"Kapela",null,352,"Pregrada",null,527,"Zlatar-Bistrica"]
[177,"Kaptol",null,354,"Preko",null,528,"Zmijavci"]
[178,"Karlobag",null,355,"Prelog",null,566,"Zrinski Topolovac"]
[179,"Karlovac",null,356,"Preseka",null,530,"Žakanje"]
[596,"Karojba",null,589,"Prgomet",null,531,"Žminj"]
[180,"Kastav",null,620,"Pribislavec",null,540,"Žumberak"]
[181,"Kaštela",null,590,"Primorski Dolac",null,602,"Župa Dubrovačka"]
[597,"Kaštelir - Labinci",null,357,"Primošten",null,534,"Županja"]
[183,"Kijevo",null,583,"Privlaka"]
[184,"Kistanje",null,574,"Privlaka"]
[]
["Šifarnik razdjela",null,"<–––– Povratak na Referentnu stranicu",null,null,"<–––– Povratak na vrh lista"]
["Razdjel","Opis oznake razdjela"]
["010","HRVATSKI SABOR"]
["013","URED PREDSJEDNIKA REPUBLIKE HRVATSKE PO PRESTANKU OBNAŠANJA"]
["015","URED PREDSJEDNIKA REPUBLIKE HRVATSKE"]
["017","USTAVNI SUD REPUBLIKE HRVATSKE"]
["018","AGENCIJA ZA ZAŠTITU TRŽIŠNOG NATJECANJA"]
["020","VLADA REPUBLIKE HRVATSKE"]
["025","MINISTARSTVO FINANCIJA"]
["026","DRŽAVNI URED ZA TRGOVINSKU POLITIKU"]
["027","RH SIGURNOSNO-OBAVJEŠTAJNA AGENCIJA"]
["028","DRŽAVNI URED ZA SREDIŠNJU JAVNU NABAVU"]
["029","DRŽAVNI URED ZA UPRAVLJANJE DRŽAVNOM IMOVINOM"]
["030","MINISTARSTVO OBRANE"]
["032","DRŽAVNI URED ZA HRVATE IZVAN REPUBLIKE HRVATSKE"]
["033","DRŽAVNI URED ZA OBNOVU I STAMBENO ZBRINJAVANJE"]
["040","MINISTARSTVO UNUTARNJIH POSLOVA"]
["041","MINISTARSTVO BRANITELJA"]
["048","MINISTARSTVO VANJSKIH I EUROPSKIH POSLOVA"]
["049","MINISTARSTVO GOSPODARSTVA"]
["051","MINISTARSTVO PODUZETNIŠTVA I OBRTA"]
["055","MINISTARSTVO KULTURE"]
["060","MINISTARSTVO POLJOPRIVREDE"]
["061","MINISTARSTVO REGIONALNOGA RAZVOJA I FONDOVA EUROPSKE UNIJE"]
["065","MINISTARSTVO POMORSTVA, PROMETA I INFRASTRUKTURE"]
["076","MINISTARSTVO GRADITELJSTVA I PROSTORNOGA UREĐENJA"]
["077","MINISTARSTVO ZAŠTITE OKOLIŠA I PRIRODE"]
["080","MINISTARSTVO ZNANOSTI, OBRAZOVANJA I SPORTA"]
["086","MINISTARSTVO RADA I MIROVINSKOGA SUSTAVA"]
["090","MINISTARSTVO TURIZMA"]
["095","MINISTARSTVO UPRAVE"]
["096","MINISTARSTVO ZDRAVLJA"]
["102","MINISTARSTVO SOCIJALNE POLITIKE I MLADIH"]
["106","HRVATSKA AKADEMIJA ZNANOSTI I UMJETNOSTI"]
["110","MINISTARSTVO PRAVOSUĐA"]
["120","URED PUČKOG PRAVOBRANITELJA"]
["121","PRAVOBRANITELJ ZA DJECU"]
["122","PRAVOBRANITELJ/ICA ZA RAVNOPRAVNOST SPOLOVA"]
["123","PRAVOBRANITELJ ZA OSOBE S INVALIDITETOM"]
["160","DRŽAVNI ZAVOD ZA STATISTIKU"]
["185","DRŽAVNI URED ZA REVIZIJU"]
["196","DRŽAVNA KOMISIJA ZA KONTROLU POSTUPAKA JAVNE NABAVE"]
["225","DRŽAVNI INSPEKTORAT"]
["230","KOMISIJA ZA ODNOSE S VJERSKIM ZAJEDNICAMA"]
["235","DIGITALNI INFORMACIJSKO-DOKUMENTACIJSKI URED"]
["240","URED VIJEĆA ZA NACIONALNU SIGURNOST"]
["241","OPERATIVNO-TEHNIČKI CENTAR ZA NADZOR TELEKOMUNIKACIJA"]
["242","ZAVOD ZA SIGURNOST INFORMACIJSKIH SUSTAVA"]
["250","AGENCIJA ZA ZAŠTITU OSOBNIH PODATAKA"]
["256","DRŽAVNI ZAVOD ZA RADIOLOŠKU I NUKLEARNU SIGURNOST"]
["257","AGENCIJA ZA REGULACIJU TRŽIŠTA ŽELJEZNIČKIH USLUGA"]
["258","POVJERENIK ZA INFORMIRANJE"]
[]
[]
["Šifarnik djelatnosti",null,"<–––– Povratak na Referentnu stranicu",null,null,"<–––– Povratak na vrh lista"]
["Šifra","Opis šifre djelatnosti (prema NKD2007)"]
[111,"Uzgoj žitarica (osim riže), mahunarki i uljanog sjemenja"]
[112,"Uzgoj riže"]
[113,"Uzgoj povrća, dinja i lubenica, korjenastog i gomoljastog povrća"]
[114,"Uzgoj šećerne trske"]
[115,"Uzgoj duhana"]
[116,"Uzgoj predivog bilja "]
[119,"Uzgoj ostalih jednogodišnjih usjeva "]
[121,"Uzgoj grožđa "]
[122,"Uzgoj tropskog i suptropskog voća"]
[123,"Uzgoj agruma"]
[124,"Uzgoj jezgričavog i koštuničavog voća"]
[125,"Uzgoj bobičastog, orašastog i ostalog voća "]
[126,"Uzgoj uljanih plodova"]
[127,"Uzgoj usjeva za pripremanje napitaka"]
[128,"Uzgoj bilja za uporabu u farmaciji, aromatskog, začinskog i ljekovitog bilja "]
[129,"Uzgoj ostalih višegodišnjih usjeva "]
[130,"Uzgoj sadnog materijala i ukrasnog bilja"]
[141,"Uzgoj muznih krava"]
[142,"Uzgoj ostalih goveda i bivola"]
[143,"Uzgoj konja, magaraca, mula i mazgi"]
[144,"Uzgoj deva i ljama"]
[145,"Uzgoj ovaca i koza"]
[146,"Uzgoj svinja"]
[147,"Uzgoj peradi"]
[149,"Uzgoj ostalih životinja"]
[150,"Mješovita proizvodnja"]
[161,"Pomoćne djelatnosti za uzgoj usjeva"]
[162,"Pomoćne djelatnosti za uzgoj životinja"]
[163,"Djelatnosti koje se obavljaju nakon žetve usjeva (priprema usjeva za primarna tržišta)"]
[164,"Dorada sjemena za sjemenski materijal"]
[170,"Lov, stupičarenje i uslužne djelatnosti povezane s njima"]
[210,"Uzgoj šuma i ostale djelatnosti u šumarstvu povezane s njime"]
[220,"Sječa drva "]
[230,"Skupljanje šumskih plodova i proizvoda, osim šumskih sortimenata"]
[240,"Pomoćne usluge u šumarstvu"]
[311,"Morski ribolov"]
[312,"Slatkovodni ribolov"]
[321,"Morska akvakultura"]
[322,"Slatkovodna akvakultura"]
[510,"Vađenje kamenog ugljena"]
[520,"Vađenje lignita"]
[610,"Vađenje sirove nafte "]
[620,"Vađenje prirodnog plina"]
[710,"Vađenje željeznih ruda"]
[721,"Vađenje uranovih i torijevih ruda"]
[729,"Vađenje ostalih ruda obojenih metala"]
[811,"Vađenje ukrasnoga kamena i kamena za gradnju, vapnenca, gipsa, krede i škriljevca"]
[812,"Djelatnosti šljunčara i pješčara; vađenje gline i kaolina"]
[891,"Vađenje minerala za kemikalije i gnojiva"]
[892,"Vađenje treseta"]
[893,"Vađenje soli"]
[899,"Vađenje ostalih ruda i kamena, d. n."]
[910,"Pomoćne djelatnosti za vađenje nafte i prirodnog plina"]
[990,"Pomoćne djelatnosti za ostalo rudarstvo i vađenje"]
[1011,"Prerada i konzerviranje mesa"]
[1012,"Prerada i konzerviranje mesa peradi"]
[1013,"Proizvodnja proizvoda od mesa i mesa peradi"]
[1020,"Prerada i konzerviranje riba, rakova i školjki "]
[1031,"Prerada i konzerviranje krumpira"]
[1032,"Proizvodnja sokova od voća i povrća"]
[1039,"Ostala prerada i konzerviranje voća i povrća"]
[1041,"Proizvodnja ulja i masti"]
[1042,"Proizvodnja margarina i sličnih jestivih masti"]
[1051,"Djelatnosti mljekara i proizvođača sira"]
[1052,"Proizvodnja sladoleda"]
[1061,"Proizvodnja mlinskih proizvoda"]
[1062,"Proizvodnja škroba i škrobnih proizvoda"]
[1071,"Proizvodnja kruha; proizvodnja svježih peciva, slastičarskih proizvoda i kolača"]
[1072,"Proizvodnja dvopeka, keksa i srodnih proizvoda; proizvodnja trajnih peciva, slastičarskih proizvoda i kolača"]
[1073,"Proizvodnja makarona, njoka, kuskusa i slične tjestenine"]
[1081,"Proizvodnja šećera"]
[1082,"Proizvodnja kakao, čokoladnih i bombonskih proizvoda"]
[1083,"Prerada čaja i kave"]
[1084,"Proizvodnja začina i drugih dodataka hrani"]
[1085,"Proizvodnja gotove hrane i jela"]
[1086,"Proizvodnja homogeniziranih prehrambenih pripravaka i dijetetske hrane"]
[1089,"Proizvodnja ostalih prehrambenih proizvoda, d. n. "]
[1091,"Proizvodnja pripremljene stočne hrane"]
[1092,"Proizvodnja pripremljene hrane za kućne ljubimce"]
[1101,"Destiliranje, pročišćavanje i miješanje alkoholnih pića"]
[1102,"Proizvodnja vina od grožđa"]
[1103,"Proizvodnja jabukovače i ostalih voćnih vina"]
[1104,"Proizvodnja ostalih nedestiliranih fermentiranih pića"]
[1105,"Proizvodnja piva"]
[1106,"Proizvodnja slada"]
[1107,"Proizvodnja osvježavajućih napitaka; proizvodnja mineralne i drugih flaširanih voda"]
[1200,"Proizvodnja duhanskih proizvoda"]
[1310,"Priprema i predenje tekstilnih vlakana"]
[1320,"Tkanje tekstila"]
[1330,"Dovršavanje tekstila"]
[1391,"Proizvodnja pletenih i kukičanih tkanina"]
[1392,"Proizvodnja gotovih tekstilnih proizvoda, osim odjeće"]
[1393,"Proizvodnja tepiha i sagova "]
[1394,"Proizvodnja užadi, konopaca, upletenoga konca i mreža"]
[1395,"Proizvodnja netkanog tekstila i proizvoda od netkanog tekstila, osim odjeće"]
[1396,"Proizvodnja ostaloga tehničkog i industrijskog tekstila"]
[1399,"Proizvodnja ostalog tekstila, d. n."]
[1411,"Proizvodnja kožne odjeće"]
[1412,"Proizvodnja radne odjeće "]
[1413,"Proizvodnja ostale vanjske odjeće"]
[1414,"Proizvodnja rublja"]
[1419,"Proizvodnja ostale odjeće i pribora za odjeću "]
[1420,"Proizvodnja proizvoda od krzna"]
[1431,"Proizvodnja pletenih i kukičanih čarapa"]
[1439,"Proizvodnja ostale pletene i kukičane odjeće"]
[1511,"Štavljenje i obrada kože; dorada i bojenje krzna"]
[1512,"Proizvodnja putnih i ručnih torba i slično, sedlarskih i remenarskih proizvoda"]
[1520,"Proizvodnja obuće"]
[1610,"Piljenje i blanjanje drva"]
[1621,"Proizvodnja furnira i ostalih ploča od drva"]
[1622,"Proizvodnja sastavljenog parketa"]
[1623,"Proizvodnja ostale građevne stolarije i elemenata"]
[1624,"Proizvodnja ambalaže od drva"]
[1629,"Proizvodnja ostalih proizvoda od drva, proizvoda od pluta, slame i pletarskih materijala"]
[1711,"Proizvodnja celuloze"]
[1712,"Proizvodnja papira i kartona"]
[1721,"Proizvodnja valovitog papira i kartona te ambalaže od papira i kartona"]
[1722,"Proizvodnja robe za kućanstvo i higijenu te toaletnih potrepština od papira"]
[1723,"Proizvodnja uredskog materijala od papira"]
[1724,"Proizvodnja zidnih tapeta"]
[1729,"Proizvodnja ostalih proizvoda od papira i kartona"]
[1811,"Tiskanje novina"]
[1812,"Ostalo tiskanje "]
[1813,"Usluge pripreme za tisak i objavljivanje"]
[1814,"Knjigoveške i srodne usluge "]
[1820,"Umnožavanje snimljenih zapisa"]
[1910,"Proizvodnja proizvoda koksnih peći"]
[1920,"Proizvodnja rafiniranih naftnih proizvoda"]
[2011,"Proizvodnja industrijskih plinova"]
[2012,"Proizvodnja koloranata i pigmenata"]
[2013,"Proizvodnja ostalih anorganskih osnovnih kemikalija"]
[2014,"Proizvodnja ostalih organskih osnovnih kemikalija"]
[2015,"Proizvodnja gnojiva i dušičnih spojeva"]
[2016,"Proizvodnja plastike u primarnim oblicima"]
[2017,"Proizvodnja sintetičkoga kaučuka u primarnim oblicima"]
[2020,"Proizvodnja pesticida i drugih agrokemijskih proizvoda"]
[2030,"Proizvodnja boja, lakova i sličnih premaza, grafičkih boja i kitova"]
[2041,"Proizvodnja sapuna i deterdženata, sredstava za čišćenje i poliranje"]
[2042,"Proizvodnja parfema i toaletno-kozmetičkih preparata"]
[2051,"Proizvodnja eksploziva"]
[2052,"Proizvodnja ljepila "]
[2053,"Proizvodnja eteričnih ulja"]
[2059,"Proizvodnja ostalih kemijskih proizvoda, d. n. "]
[2060,"Proizvodnja umjetnih vlakana"]
[2110,"Proizvodnja osnovnih farmaceutskih proizvoda"]
[2120,"Proizvodnja farmaceutskih pripravaka"]
[2211,"Proizvodnja vanjskih i unutrašnjih guma za vozila; protektiranje vanjskih guma"]
[2219,"Proizvodnja ostalih proizvoda od gume"]
[2221,"Proizvodnja ploča, listova, cijevi i profila od plastike"]
[2222,"Proizvodnja ambalaže od plastike"]
[2223,"Proizvodnja proizvoda od plastike za građevinarstvo"]
[2229,"Proizvodnja ostalih proizvoda od plastike"]
[2311,"Proizvodnja ravnog stakla"]
[2312,"Oblikovanje i obrada ravnog stakla"]
[2313,"Proizvodnja šupljeg stakla"]
[2314,"Proizvodnja staklenih vlakana"]
[2319,"Proizvodnja i obrada ostalog stakla uključujući tehničku robu od stakla"]
[2320,"Proizvodnja vatrostalnih proizvoda"]
[2331,"Proizvodnja keramičkih pločica i ploča"]
[2332,"Proizvodnja opeke, crijepa i ostalih proizvoda od pečene gline za građevinarstvo"]
[2341,"Proizvodnja keramičkih proizvoda za kućanstvo i ukrasnih predmeta"]
[2342,"Proizvodnja sanitarne keramike "]
[2343,"Proizvodnja keramičkih izolatora i izolacijskog pribora"]
[2344,"Proizvodnja ostalih tehničkih proizvoda od keramike"]
[2349,"Proizvodnja ostalih proizvoda od keramike"]
[2351,"Proizvodnja cementa"]
[2352,"Proizvodnja vapna i gipsa "]
[2361,"Proizvodnja proizvoda od betona za građevinarstvo"]
[2362,"Proizvodnja proizvoda od gipsa za građevinarstvo"]
[2363,"Proizvodnja gotove betonske smjese"]
[2364,"Proizvodnja žbuke"]
[2365,"Proizvodnja fibro-cementa"]
[2369,"Proizvodnja ostalih proizvoda od betona, cementa i gipsa "]
[2370,"Rezanje, oblikovanje i obrada kamena"]
[2391,"Proizvodnja brusnih proizvoda"]
[2399,"Proizvodnja ostalih nemetalnih mineralnih proizvoda, d. n."]
[2410,"Proizvodnja sirovog željeza, čelika i ferolegura"]
[2420,"Proizvodnja čeličnih cijevi i pribora"]
[2431,"Hladno vučenje šipki"]
[2432,"Hladno valjanje uskih vrpci"]
[2433,"Hladno oblikovanje i profiliranje "]
[2434,"Hladno vučenje žice"]
[2441,"Proizvodnja plemenitih metala"]
[2442,"Proizvodnja aluminija"]
[2443,"Proizvodnja olova, cinka i kositra"]
[2444,"Proizvodnja bakra"]
[2445,"Proizvodnja ostalih obojenih metala"]
[2446,"Obrada nuklearnoga goriva"]
[2451,"Lijevanje željeza"]
[2452,"Lijevanje čelika"]
[2453,"Lijevanje lakih metala"]
[2454,"Lijevanje ostalih obojenih metala"]
[2511,"Proizvodnja metalnih konstrukcija i njihovih dijelova"]
[2512,"Proizvodnja vrata i prozora od metala"]
[2521,"Proizvodnja radijatora i kotlova za centralno grijanje"]
[2529,"Proizvodnja ostalih metalnih cisterni, rezervoara i sličnih posuda "]
[2530,"Proizvodnja parnih kotlova, osim kotlova za centralno grijanje toplom vodom"]
[2540,"Proizvodnja oružja i streljiva"]
[2550,"Kovanje, prešanje, štancanje i valjanje metala; metalurgija praha"]
[2561,"Obrada i prevlačenje metala"]
[2562,"Strojna obrada metala"]
[2571,"Proizvodnja sječiva"]
[2572,"Proizvodnja brava i okova"]
[2573,"Proizvodnja alata"]
[2591,"Proizvodnja čeličnih bačava i sličnih posuda "]
[2592,"Proizvodnja ambalaže od lakih metala"]
[2593,"Proizvodnja proizvoda od žice, lanaca i opruga"]
[2594,"Proizvodnja zakovica i vijčane robe"]
[2599,"Proizvodnja ostalih gotovih proizvoda od metala, d. n."]
[2611,"Proizvodnja elektroničkih komponenata "]
[2612,"Proizvodnja punih elektroničkih ploča"]
[2620,"Proizvodnja računala i periferne opreme"]
[2630,"Proizvodnja komunikacijske opreme"]
[2640,"Proizvodnja elektroničkih uređaja za široku potrošnju"]
[2651,"Proizvodnja instrumenata i aparata za mjerenje, ispitivanje i navigaciju"]
[2652,"Proizvodnja satova "]
[2660,"Proizvodnja opreme za zračenje, elektromedicinske i elektroterapeutske opreme"]
[2670,"Proizvodnja optičkih instrumenata i fotografske opreme"]
[2680,"Proizvodnja magnetskih i optičkih medija"]
[2711,"Proizvodnja elektromotora, generatora i transformatora"]
[2712,"Proizvodnja uređaja za distribuciju i kontrolu električne energije"]
[2720,"Proizvodnja baterija i akumulatora"]
[2731,"Proizvodnja kablova od optičkih vlakana"]
[2732,"Proizvodnja ostalih elektroničkih i električnih žica i kablova"]
[2733,"Proizvodnja elektroinstalacijskog materijala"]
[2740,"Proizvodnja električne opreme za rasvjetu"]
[2751,"Proizvodnja električnih aparata za kućanstvo"]
[2752,"Proizvodnja neelektričnih aparata za kućanstvo"]
[2790,"Proizvodnja ostale električne opreme"]
[2811,"Proizvodnja motora i turbina, osim motora za zrakoplove i motorna vozila"]
[2812,"Proizvodnja hidrauličnih pogonskih uređaja"]
[2813,"Proizvodnja ostalih crpki i kompresora"]
[2814,"Proizvodnja ostalih slavina i ventila"]
[2815,"Proizvodnja ležajeva, prijenosnika te prijenosnih i pogonskih elemenata"]
[2821,"Proizvodnja peći i plamenika"]
[2822,"Proizvodnja uređaja za dizanje i prenošenje"]
[2823,"Proizvodnja uredskih strojeva i opreme (osim proizvodnje računala i periferne opreme)"]
[2824,"Proizvodnja mehaniziranoga ručnog alata"]
[2825,"Proizvodnja rashladne i ventilacijske opreme, osim za kućanstvo"]
[2829,"Proizvodnja ostalih strojeva za opće namjene, d. n."]
[2830,"Proizvodnja strojeva za poljoprivredu i šumarstvo"]
[2841,"Proizvodnja strojeva za obradu metala"]
[2849,"Proizvodnja ostalih alatnih strojeva"]
[2891,"Proizvodnja strojeva za metalurgiju"]
[2892,"Proizvodnja strojeva za rudnike, kamenolome i građevinarstvo"]
[2893,"Proizvodnja strojeva za industriju hrane, pića i duhana"]
[2894,"Proizvodnja strojeva za industriju tekstila, odjeće i kože"]
[2895,"Proizvodnja strojeva za industriju papira i kartona"]
[2896,"Proizvodnja strojeva za plastiku i gumu"]
[2899,"Proizvodnja ostalih strojeva za posebne namjene, d. n."]
[2910,"Proizvodnja motornih vozila"]
[2920,"Proizvodnja karoserija za motorna vozila, prikolica i poluprikolica"]
[2931,"Proizvodnja električne i elektroničke opreme za motorna vozila "]
[2932,"Proizvodnja ostalih dijelova i pribora za motorna vozila "]
[3011,"Gradnja brodova i plutajućih objekata"]
[3012,"Gradnja čamaca za razonodu i sportskih čamaca"]
[3020,"Proizvodnja željezničkih lokomotiva i tračničkih vozila"]
[3030,"Proizvodnja zrakoplova i svemirskih letjelica te srodnih prijevoznih sredstava i opreme"]
[3040,"Proizvodnja vojnih borbenih vozila"]
[3091,"Proizvodnja motocikala"]
[3092,"Proizvodnja bicikala i invalidskih kolica"]
[3099,"Proizvodnja ostalih prijevoznih sredstava, d. n. "]
[3101,"Proizvodnja namještaja za poslovne i prodajne prostore"]
[3102,"Proizvodnja kuhinjskog namještaja"]
[3103,"Proizvodnja madraca"]
[3109,"Proizvodnja ostalog namještaja"]
[3211,"Proizvodnja novca"]
[3212,"Proizvodnja nakita i srodnih proizvoda"]
[3213,"Proizvodnja imitacije nakita (bižuterije) i srodnih proizvoda"]
[3220,"Proizvodnja glazbenih instrumenata"]
[3230,"Proizvodnja sportske opreme"]
[3240,"Proizvodnja igara i igračaka"]
[3250,"Proizvodnja medicinskih i stomatoloških instrumenata i pribora"]
[3291,"Proizvodnja metla i četaka"]
[3299,"Ostala prerađivačka industrija, d. n. "]
[3311,"Popravak proizvoda od metala"]
[3312,"Popravak strojeva"]
[3313,"Popravak elektroničke i optičke opreme"]
[3314,"Popravak električne opreme"]
[3315,"Popravak i održavanje brodova i čamaca"]
[3316,"Popravak i održavanje zrakoplova i svemirskih letjelica"]
[3317,"Popravak i održavanje ostalih prijevoznih sredstava"]
[3319,"Popravak ostale opreme"]
[3320,"Instaliranje industrijskih strojeva i opreme"]
[3511,"Proizvodnja električne energije"]
[3512,"Prijenos električne energije"]
[3513,"Distribucija električne energije"]
[3514,"Trgovina električnom energijom"]
[3521,"Proizvodnja plina"]
[3522,"Distribucija plinovitih goriva distribucijskom mrežom"]
[3523,"Trgovina plinom distribucijskom mrežom"]
[3530,"Opskrba parom i klimatizacija"]
[3600,"Skupljanje, pročišćavanje i opskrba vodom"]
[3700,"Uklanjanje otpadnih voda"]
[3811,"Skupljanje neopasnog otpada"]
[3812,"Skupljanje opasnog otpada"]
[3821,"Obrada i zbrinjavanje neopasnog otpada"]
[3822,"Obrada i zbrinjavanje opasnog otpada"]
[3831,"Rastavljanje olupina"]
[3832,"Oporaba posebno izdvojenih materijala"]
[3900,"Djelatnosti sanacije okoliša te ostale djelatnosti gospodarenja otpadom"]
[4110,"Organizacija izvedbe projekata za zgrade"]
[4120,"Gradnja stambenih i nestambenih zgrada"]
[4211,"Gradnja cesta i autocesta"]
[4212,"Gradnja željezničkih pruga i podzemnih željeznica"]
[4213,"Gradnja mostova i tunela"]
[4221,"Gradnja cjevovoda za tekućine i plinove"]
[4222,"Gradnja vodova za električnu struju i telekomunikacije"]
[4291,"Gradnja vodnih građevina"]
[4299,"Gradnja ostalih građevina niskogradnje, d. n."]
[4311,"Uklanjanje građevina"]
[4312,"Pripremni radovi na gradilištu"]
[4313,"Pokusno bušenje i sondiranje terena za gradnju"]
[4321,"Elektroinstalacijski radovi"]
[4322,"Uvođenje instalacija vodovoda, kanalizacije i plina i instalacija za grijanje i klimatizaciju "]
[4329,"Ostali građevinski instalacijski radovi"]
[4331,"Fasadni i štukaturski radovi"]
[4332,"Ugradnja stolarije"]
[4333,"Postavljanje podnih i zidnih obloga"]
[4334,"Soboslikarski i staklarski radovi"]
[4339,"Ostali završni građevinski radovi"]
[4391,"Radovi na krovištu"]
[4399,"Ostale specijalizirane građevinske djelatnosti, d. n."]
[4511,"Trgovina automobilima i motornim vozilima lake kategorije "]
[4519,"Trgovina ostalim motornim vozilima"]
[4520,"Održavanje i popravak motornih vozila"]
[4531,"Trgovina na veliko dijelovima i priborom za motorna vozila "]
[4532,"Trgovina na malo dijelovima i priborom za motorna vozila"]
[4540,"Trgovina motociklima, dijelovima i priborom za motocikle te održavanje i popravak motocikala"]
[4611,"Posredovanje u trgovini poljoprivrednim sirovinama, živom stokom, tekstilnim sirovinama i poluproizvodima"]
[4612,"Posredovanje u trgovini gorivima, rudama, metalima i industrijskim kemijskim proizvodima"]
[4613,"Posredovanje u trgovini drvom i građevinskim materijalom"]
[4614,"Posredovanje u trgovini strojevima, industrijskom opremom, brodovima i zrakoplovima"]
[4615,"Posredovanje u trgovini namještajem, proizvodima za kućanstvo i željeznom robom"]
[4616,"Posredovanje u trgovini tekstilom, odjećom, krznom, obućom i kožnim proizvodima"]
[4617,"Posredovanje u trgovini hranom, pićima i duhanom"]
[4618,"Posredovanje u trgovini specijaliziranoj za određene proizvode"]
[4619,"Posredovanje u trgovini raznovrsnim proizvodima"]
[4621,"Trgovina na veliko žitaricama, sirovim duhanom, sjemenjem i stočnom hranom"]
[4622,"Trgovina na veliko cvijećem i sadnicama"]
[4623,"Trgovina na veliko živom stokom"]
[4624,"Trgovina na veliko sirovim i štavljenim kožama"]
[4631,"Trgovina na veliko voćem i povrćem"]
[4632,"Trgovina na veliko mesom i mesnim proizvodima"]
[4633,"Trgovina na veliko mlijekom, mliječnim proizvodima, jajima, jestivim uljima i mastima"]
[4634,"Trgovina na veliko pićima"]
[4635,"Trgovina na veliko duhanskim proizvodima"]
[4636,"Trgovina na veliko šećerom, čokoladom i bombonima"]
[4637,"Trgovina na veliko kavom, čajem, kakaom i začinima"]
[4638,"Trgovina na veliko ostalom hranom uključujući ribe, rakove i školjke"]
[4639,"Nespecijalizirana trgovina na veliko hranom, pićima i duhanskim proizvodima"]
[4641,"Trgovina na veliko tekstilom"]
[4642,"Trgovina na veliko odjećom i obućom"]
[4643,"Trgovina na veliko električnim aparatima za kućanstvo"]
[4644,"Trgovina na veliko porculanom, staklom i sredstvima za čišćenje"]
[4645,"Trgovina na veliko parfemima i kozmetikom"]
[4646,"Trgovina na veliko farmaceutskim proizvodima"]
[4647,"Trgovina na veliko namještajem, sagovima i opremom za rasvjetu"]
[4648,"Trgovina na veliko satovima i nakitom"]
[4649,"Trgovina na veliko ostalim proizvodima za kućanstvo"]
[4651,"Trgovina na veliko računalima, perifernom opremom i softverom"]
[4652,"Trgovina na veliko elektroničkim i telekomunikacijskim dijelovima i opremom"]
[4661,"Trgovina na veliko poljoprivrednim strojevima, opremom i priborom"]
[4662,"Trgovina na veliko alatnim strojevima"]
[4663,"Trgovina na veliko strojevima za rudnike i građevinarstvo"]
[4664,"Trgovina na veliko strojevima za tekstilnu industriju te strojevima za šivanje i pletenje"]
[4665,"Trgovina na veliko uredskim namještajem"]
[4666,"Trgovina na veliko ostalim uredskim strojevima i opremom"]
[4669,"Trgovina na veliko ostalim strojevima i opremom"]
[4671,"Trgovina na veliko krutim, tekućim i plinovitim gorivima i srodnim proizvodima"]
[4672,"Trgovina na veliko metalima i metalnim rudama"]
[4673,"Trgovina na veliko drvom, građevinskim materijalom i sanitarnom opremom"]
[4674,"Trgovina na veliko željeznom robom, instalacijskim materijalom i opremom za vodovod i grijanje"]
[4675,"Trgovina na veliko kemijskim proizvodima"]
[4676,"Trgovina na veliko ostalim poluproizvodima"]
[4677,"Trgovina na veliko ostacima i otpacima"]
[4690,"Nespecijalizirana trgovina na veliko "]
[4711,"Trgovina na malo u nespecijaliziranim prodavaonicama pretežno hranom, pićima i duhanskim proizvodima "]
[4719,"Ostala trgovina na malo u nespecijaliziranim prodavaonicama"]
[4721,"Trgovina na malo voćem i povrćem u specijaliziranim prodavaonicama"]
[4722,"Trgovina na malo mesom i mesnim proizvodima u specijaliziranim prodavaonicama"]
[4723,"Trgovina na malo ribama, rakovima i školjkama u specijaliziranim prodavaonicama"]
[4724,"Trgovina na malo kruhom, pecivom, kolačima, tjesteninama, bombonima i slatkišima u specijaliziranim prodavaonicama"]
[4725,"Trgovina na malo pićima u specijaliziranim prodavaonicama"]
[4726,"Trgovina na malo duhanskim proizvodima u specijaliziranim prodavaonicama"]
[4729,"Ostala trgovina na malo prehrambenim proizvodima u specijaliziranim prodavaonicama"]
[4730,"Trgovina na malo motornim gorivima i mazivima u specijaliziranim prodavaonicama"]
[4741,"Trgovina na malo računalima, perifernim jedinicama i softverom u specijaliziranim prodavaonicama"]
[4742,"Trgovina na malo telekomunikacijskom opremom u specijaliziranim prodavaonicama"]
[4743,"Trgovina na malo audio i videoopremom u specijaliziranim prodavaonicama"]
[4751,"Trgovina na malo tekstilom u specijaliziranim prodavaonicama"]
[4752,"Trgovina na malo željeznom robom, bojama i staklom u specijaliziranim prodavaonicama"]
[4753,"Trgovina na malo sagovima i prostiračima za pod, zidnim i podnim oblogama u specijaliziranim prodavaonicama"]
[4754,"Trgovina na malo električnim aparatima za kućanstvo u specijaliziranim prodavaonicama"]
[4759,"Trgovina na malo namještajem, opremom za rasvjetu i ostalim proizvodima za kućanstvo u specijaliziranim prodavaonicama"]
[4761,"Trgovina na malo knjigama u specijaliziranim prodavaonicama"]
[4762,"Trgovina na malo novinama, papirnatom robom i pisaćim priborom u specijaliziranim prodavaonicama"]
[4763,"Trgovina na malo glazbenim i videozapisima u specijaliziranim prodavaonicama"]
[4764,"Trgovina na malo sportskom opremom u specijaliziranim prodavaonicama"]
[4765,"Trgovina na malo igrama i igračkama u specijaliziranim prodavaonicama"]
[4771,"Trgovina na malo odjećom u specijaliziranim prodavaonicama"]
[4772,"Trgovina na malo obućom i proizvodima od kože "]
[4773,"Ljekarne "]
[4774,"Trgovina na malo medicinskim pripravcima i ortopedskim pomagalima u specijaliziranim prodavaonicama"]
[4775,"Trgovina na malo kozmetičkim i toaletnim proizvodima u specijaliziranim prodavaonicama"]
[4776,"Trgovina na malo cvijećem, sadnicama, sjemenjem, gnojivom, kućnim ljubimcima i hranom za kućne ljubimce u specijaliziranim prodavaonicama"]
[4777,"Trgovina na malo satovima i nakitom u specijaliziranim prodavaonicama"]
[4778,"Ostala trgovina na malo novom robom u specijaliziranim prodavaonicama"]
[4779,"Trgovina na malo rabljenom robom u specijaliziranim prodavaonicama"]
[4781,"Trgovina na malo hranom, pićima i duhanskim proizvodima na štandovima i tržnicama"]
[4782,"Trgovina na malo tekstilom, odjećom i obućom na štandovima i tržnicama"]
[4789,"Trgovina na malo ostalom robom na štandovima i tržnicama"]
[4791,"Trgovina na malo preko pošte ili interneta"]
[4799,"Ostala trgovina na malo izvan prodavaonica, štandova i tržnica"]
[4910,"Željeznički prijevoz putnika, međugradski"]
[4920,"Željeznički prijevoz robe"]
[4931,"Gradski i prigradski kopneni prijevoz putnika"]
[4932,"Taksi služba"]
[4939,"Ostali kopneni prijevoz putnika, d. n."]
[4941,"Cestovni prijevoz robe"]
[4942,"Usluge preseljenja"]
[4950,"Cjevovodni transport"]
[5010,"Pomorski i obalni prijevoz putnika"]
[5020,"Pomorski i obalni prijevoz robe"]
[5030,"Prijevoz putnika unutrašnjim vodenim putovima"]
[5040,"Prijevoz robe unutrašnjim vodenim putovima"]
[5110,"Zračni prijevoz putnika"]
[5121,"Zračni prijevoz robe"]
[5122,"Svemirski prijevoz"]
[5210,"Skladištenje robe"]
[5221,"Uslužne djelatnosti u vezi s kopnenim prijevozom"]
[5222,"Uslužne djelatnosti u vezi s vodenim prijevozom"]
[5223,"Uslužne djelatnosti u vezi sa zračnim prijevozom"]
[5224,"Prekrcaj tereta"]
[5229,"Ostale prateće djelatnosti u prijevozu"]
[5310,"Djelatnosti pružanja univerzalnih poštanskih usluga"]
[5320,"Djelatnosti pružanja ostalih poštanskih i kurirskih usluga"]
[5510,"Hoteli i sličan smještaj"]
[5520,"Odmarališta i slični objekti za kraći odmor"]
[5530,"Kampovi i prostori za kampiranje"]
[5590,"Ostali smještaj"]
[5610,"Djelatnosti restorana i ostalih objekata za pripremu i usluživanje hrane"]
[5621,"Djelatnosti keteringa"]
[5629,"Ostale djelatnosti pripreme i usluživanja hrane"]
[5630,"Djelatnosti pripreme i usluživanja pića"]
[5811,"Izdavanje knjiga"]
[5812,"Izdavanje imenika i popisa korisničkih adresa"]
[5813,"Izdavanje novina"]
[5814,"Izdavanje časopisa i periodičnih publikacija"]
[5819,"Ostala izdavačka djelatnost"]
[5821,"Izdavanje računalnih igara"]
[5829,"Izdavanje ostalog softvera"]
[5911,"Proizvodnja filmova, videofilmova i televizijskog programa"]
[5912,"Djelatnosti koje slijede nakon proizvodnje filmova, videofilmova i televizijskog programa"]
[5913,"Distribucija filmova, videofilmova i televizijskog programa"]
[5914,"Djelatnosti prikazivanja filmova"]
[5920,"Djelatnosti snimanja zvučnih zapisa i izdavanja glazbenih zapisa"]
[6010,"Emitiranje radijskog programa"]
[6020,"Emitiranje televizijskog programa"]
[6110,"Djelatnosti žičane telekomunikacije"]
[6120,"Djelatnosti bežične telekomunikacije"]
[6130,"Djelatnosti satelitske telekomunikacije"]
[6190,"Ostale telekomunikacijske djelatnosti"]
[6201,"Računalno programiranje"]
[6202,"Savjetovanje u vezi s računalima"]
[6203,"Upravljanje računalnom opremom i sustavom"]
[6209,"Ostale uslužne djelatnosti u vezi s informacijskom tehnologijom i računalima"]
[6311,"Obrada podataka, usluge poslužitelja i djelatnosti povezane s njima"]
[6312,"Internetski portali"]
[6391,"Djelatnosti novinskih agencija"]
[6399,"Ostale informacijske uslužne djelatnosti, d. n."]
[6411,"Središnje bankarstvo"]
[6419,"Ostalo novčarsko posredovanje"]
[6420,"Djelatnosti holding-društava"]
[6430,"Uzajamni fondovi (trustovi), ostali fondovi i slični financijski subjekti"]
[6491,"Financijski leasing"]
[6492,"Ostalo kreditno posredovanje"]
[6499,"Ostale financijske uslužne djelatnosti, osim osiguranja i mirovinskih fondova, d. n."]
[6511,"Životno osiguranje"]
[6512,"Ostalo osiguranje"]
[6520,"Reosiguranje"]
[6530,"Mirovinski fondovi"]
[6611,"Poslovanje financijskih tržišta"]
[6612,"Djelatnosti posredovanja u poslovanju vrijednosnim papirima i robnim ugovorima"]
[6619,"Ostale pomoćne djelatnosti kod financijskih usluga, osim osiguranja i mirovinskih fondova"]
[6621,"Procjena rizika i štete"]
[6622,"Djelatnosti agenata i posrednika osiguranja "]
[6629,"Ostale pomoćne djelatnosti u osiguranju i mirovinskim fondovima"]
[6630,"Djelatnosti upravljanja fondovima"]
[6810,"Kupnja i prodaja vlastitih nekretnina"]
[6820,"Iznajmljivanje i upravljanje vlastitim nekretninama ili nekretninama uzetim u zakup (leasing)"]
[6831,"Agencije za poslovanje nekretninama"]
[6832,"Upravljanje nekretninama uz naplatu ili na osnovi ugovora"]
[6910,"Pravne djelatnosti"]
[6920,"Računovodstvene, knjigovodstvene i revizijske djelatnosti; porezno savjetovanje"]
[7010,"Upravljačke djelatnosti"]
[7021,"Odnosi s javnošću i djelatnosti priopćivanja"]
[7022,"Savjetovanje u vezi s poslovanjem i ostalim upravljanjem"]
[7111,"Arhitektonske djelatnosti"]
[7112,"Inženjerstvo i s njim povezano tehničko savjetovanje"]
[7120,"Tehničko ispitivanje i analiza"]
[7211,"Istraživanje i eksperimentalni razvoj u biotehnologiji"]
[7219,"Ostalo istraživanje i eksperimentalni razvoj u prirodnim, tehničkim i tehnološkim znanostima"]
[7220,"Istraživanje i eksperimentalni razvoj u društvenim i humanističkim znanostima"]
[7311,"Agencije za promidžbu (reklamu i propagandu)"]
[7312,"Oglašavanje preko medija"]
[7320,"Istraživanje tržišta i ispitivanje javnoga mnijenja"]
[7410,"Specijalizirane dizajnerske djelatnosti"]
[7420,"Fotografske djelatnosti"]
[7430,"Prevoditeljske djelatnosti i usluge tumača"]
[7490,"Ostale stručne, znanstvene i tehničke djelatnosti, d. n."]
[7500,"Veterinarske djelatnosti"]
[7711,"Iznajmljivanje i davanje u zakup (leasing) automobila i motornih vozila lake kategorije"]
[7712,"Iznajmljivanje i davanje u zakup (leasing) kamiona "]
[7721,"Iznajmljivanje i davanje u zakup (lea­sing) opreme za rekreaciju i sport"]
[7722,"Iznajmljivanje videokaseta i diskova"]
[7729,"Iznajmljivanje i davanje u zakup (leasing) ostalih predmeta za osobnu uporabu i kućanstvo"]
[7731,"Iznajmljivanje i davanje u zakup (leasing) poljoprivrednih strojeva i opreme"]
[7732,"Iznajmljivanje i davanje u zakup (leasing) strojeva i opreme za građevinarstvo i inženjerstvo"]
[7733,"Iznajmljivanje i davanje u zakup (leasing) uredskih strojeva i opreme (uključujući računala)"]
[7734,"Iznajmljivanje i davanje u zakup (leasing) plovnih prijevoznih sredstava"]
[7735,"Iznajmljivanje i davanje u zakup (leasing) zračnih prijevoznih sredstava"]
[7739,"Iznajmljivanje i davanje u zakup (leasing) ostalih strojeva, opreme i materijalnih dobara, d. n."]
[7740,"Davanje u zakup (leasing) prava na uporabu intelektualnog vlasništva i sličnih proizvoda, osim radova koji su zaštićeni autorskim pravima"]
[7810,"Djelatnosti agencija za zapošljavanje"]
[7820,"Djelatnosti agencija za privremeno zapošljavanje"]
[7830,"Ostalo ustupanje ljudskih resursa"]
[7911,"Djelatnosti putničkih agencija"]
[7912,"Djelatnosti organizatora putovanja (turoperatora)"]
[7990,"Ostale rezervacijske usluge i djelatnosti povezane s njima"]
[8010,"Djelatnosti privatne zaštite"]
[8020,"Usluge zaštite uz pomoć sigurnosnih sustava"]
[8030,"Istražne djelatnosti"]
[8110,"Upravljanje zgradama"]
[8121,"Osnovno čišćenje zgrada"]
[8122,"Ostale djelatnosti čišćenja zgrada i objekata"]
[8129,"Ostale djelatnosti čišćenja"]
[8130,"Uslužne djelatnosti uređenja i održavanja krajolika"]
[8211,"Kombinirane uredske administrativne uslužne djelatnosti"]
[8219,"Fotokopiranje, priprema dokumenata i ostale specijalizirane uredske pomoćne djelatnosti"]
[8220,"Djelatnosti pozivnih centara"]
[8230,"Organizacija sastanaka i poslovnih sajmova"]
[8291,"Djelatnosti agencija za prikupljanje i naplatu računa te kreditnih ureda"]
[8292,"Djelatnosti pakiranja"]
[8299,"Ostale poslovne pomoćne uslužne djelatnosti, d. n."]
[8411,"Opće djelatnosti javne uprave"]
[8412,"Reguliranje djelatnosti subjekata koji pružaju zdravstvenu zaštitu, usluge u obrazovanju i kulturi i druge društvene usluge, osim obveznoga socijalnog osiguranja"]
[8413,"Reguliranje i poboljšavanje poslovanja u gospodarstvu"]
[8421,"Vanjski poslovi"]
[8422,"Poslovi obrane"]
[8423,"Sudske i pravosudne djelatnosti"]
[8424,"Poslovi javnog reda i sigurnosti"]
[8425,"Djelatnosti vatrogasne službe"]
[8430,"Djelatnosti obveznoga socijalnog osiguranja"]
[8510,"Predškolsko obrazovanje"]
[8520,"Osnovno obrazovanje"]
[8531,"Opće srednje obrazovanje"]
[8532,"Tehničko i strukovno srednje obrazovanje"]
[8541,"Obrazovanje nakon srednjeg koje nije visoko"]
[8542,"Visoko obrazovanje "]
[8551,"Obrazovanje i poučavanje u području sporta i rekreacije"]
[8552,"Obrazovanje i poučavanje u području kulture"]
[8553,"Djelatnosti vozačkih škola"]
[8559,"Ostalo obrazovanje i poučavanje, d. n."]
[8560,"Pomoćne uslužne djelatnosti u obrazovanju"]
[8610,"Djelatnosti bolnica"]
[8621,"Djelatnosti opće medicinske prakse"]
[8622,"Djelatnosti specijalističke medicinske prakse"]
[8623,"Djelatnosti stomatološke prakse"]
[8690,"Ostale djelatnosti zdravstvene zaštite"]
[8710,"Djelatnosti ustanova za njegu"]
[8720,"Djelatnosti socijalne skrbi sa smještajem za osobe s teškoćama u razvoju, duševno bolesne osobe i osobe ovisne o alkoholu, drogama ili drugim opojnim sredstvima "]
[8730,"Djelatnosti socijalne skrbi sa smještajem za starije osobe i osobe s invaliditetom"]
[8790,"Ostale djelatnosti socijalne skrbi sa smještajem"]
[8810,"Djelatnosti socijalne skrbi bez smještaja za starije osobe i osobe s invaliditetom"]
[8891,"Djelatnosti dnevne skrbi o djeci"]
[8899,"Ostale djelatnosti socijalne skrbi bez smještaja, d. n."]
[9001,"Izvođačka umjetnost"]
[9002,"Pomoćne djelatnosti u izvođačkoj umjetnosti"]
[9003,"Umjetničko stvaralaštvo"]
[9004,"Rad umjetničkih objekata"]
[9101,"Djelatnosti knjižnica i arhiva"]
[9102,"Djelatnosti muzeja"]
[9103,"Rad povijesnih mjesta i građevina te sličnih zanimljivosti za posjetitelje"]
[9104,"Djelatnosti botaničkih i zooloških vrtova i prirodnih rezervata"]
[9200,"Djelatnosti kockanja i klađenja"]
[9311,"Rad sportskih objekata"]
[9312,"Djelatnosti sportskih klubova"]
[9313,"Fitnes centri"]
[9319,"Ostale sportske djelatnosti"]
[9321,"Djelatnosti zabavnih i tematskih parkova"]
[9329,"Ostale zabavne i rekreacijske djelatnosti"]
[9411,"Djelatnosti poslovnih organizacija i organizacija poslodavaca"]
[9412,"Djelatnosti strukovnih članskih organizacija"]
[9420,"Djelatnosti sindikata"]
[9491,"Djelatnosti vjerskih organizacija"]
[9492,"Djelatnosti političkih organizacija"]
[9499,"Djelatnosti ostalih članskih organizacija, d. n."]
[9511,"Popravak računala i periferne opreme"]
[9512,"Popravak komunikacijske opreme"]
[9521,"Popravak elektroničkih uređaja za široku potrošnju"]
[9522,"Popravak aparata za kućanstvo te opreme za kuću i vrt"]
[9523,"Popravak obuće i proizvoda od kože"]
[9524,"Popravak namještaja i pokućstva"]
[9525,"Popravak satova i nakita"]
[9529,"Popravak ostalih predmeta za osobnu uporabu i kućanstvo "]
[9601,"Pranje i kemijsko čišćenje tekstila i krznenih proizvoda"]
[9602,"Frizerski saloni i saloni za uljepšavanje"]
[9603,"Pogrebne i srodne djelatnosti"]
[9604,"Djelatnosti za njegu i održavanje tijela"]
[9609,"Ostale osobne uslužne djelatnosti, d. n."]
[9700,"Djelatnosti kućanstava koja zapošljavaju poslugu"]
[9810,"Djelatnosti privatnih kućanstava koja proizvode različitu robu za vlastite potrebe"]
[9820,"Djelatnosti privatnih kućanstava koja obavljaju različite usluge za vlastite potrebe"]
[9900,"Djelatnosti izvanteritorijalnih organizacija i tijela"]

{"sheet":"Prom","index":12,"n_rows":28,"n_cols":2,"rows_kept":28,"cut":false,"hidden":false,"merged":[[27,1,27,2],[0,0,0,2],[1,1,1,2],[2,1,2,2],[7,1,7,2],[6,1,6,2],[5,1,5,2],[4,1,4,2],[3,1,3,2],[14,1,14,2],[17,1,17,2],[8,1,8,2],[9,1,9,2],[12,1,12,2],[11,1,11,2],[10,1,10,2],[13,1,13,2],[16,1,16,2],[26,1,26,2],[22,1,22,2],[15,1,15,2],[20,1,20,2],[25,1,25,2],[23,1,23,2],[21,1,21,2],[19,1,19,2],[24,1,24,2],[18,1,18,2]]}
["Na ovom radnom listu dat će se popis svih, i najmanjih promjena Excel datoteke iz verzije u verziju (bilo da su nastale zbog promjene zakonskih propisa, ispravka pogrešaka u Excel datoteci, dodatnim kontrolama ili poboljšanjima obrasca. "]
["Verzija","Opis promjene u odnosu na prethodnu verziju"]
["2.0.0.","Svi obrasci proračuna i proračunskih korisnika objedinjeni su zbog potreba kontrola između obrazaca te lakšu kontrolu obveznosti (koja razina je obvezna podnositi koji obrazac)."]
["2.0.0.","Uvedena su polja \"Datum od\" i \"Datum do\" svakog pojedinog razdoblja kako bi se moglo posebno prepoznati obveznike koji nisu poslovali cijelo navedeno razdoblje (novootvoreni obveznici i obveznici koji zbog statusnih promjena gube pravnu osobnost)."]
["2.0.0.","Programskim kućama koje izrađuju aplikacije za punjenje obrazaca olakšan je postao jer se za sve obrasce i sve vrste posla unosi jedno jedinstveno zaglavlje, u svakom obrascu AOP oznake upisane su u koloni \"C\", dok svi iznosi (bez obzira na broj kolona) počinju u koloni \"D\", u 12. retku. Od ovoga se više neće odstupati osim ako ne bude nikakve druge mogućnosti da se unesu potrebne promjene."]
["2.0.1.","Popravljeni su pogrešni naslovi nekih obrazaca. Dodana je kontrola da se u poštanski broj ne može unijeti nešto što nije broj između 10000 i 60000. Popravljena je kontrola upozorenja na S-PR-RAS obrascu koja je krivo izračunavala razradu konta 32 (kontrola pod rednim brojem 90)"]
["2.0.2.","Ispravljena kontrola u PR-RAS obrascu koja je AOP 010 zbrajala u AOP oznaku 003, umjesto da je oduzimala od sume svih ostalih AOP oznaka."]
["2.0.3.","Ispravljena kontrola upozorenja na broj zaposlenih u PR-RAS obrascu preko 1000 kada to nije. Ispravljena kontrola koja je za polugodište javljala pogrešku da se za razinu 23 ne predaje obrazac Obveze. Svi obveznici (ne više samo oni kojima je razdjel ujedno i glava) razina 11 i 12 trebaju upisati razdjel, a ostali obveznici ne mogu."]
["2.0.3.","Upisom razine 11 ili 12 u zaglavlju obrasca obveze automatski se pojavljuje oznaka da je obrazac mjesečni, a ne kvartalni. Promijenjeni su opisi obveznosti predaje prema razinama, grupirani na mjesečnu obvezu, kvartalnu, polugodišnju i godišnju. Na obrazac obveze, na dnu obrasca dodana crta za potpis zakonskog predstavnika (za dostavu obrasca nadležnim ministarstvima)."]
["2.0.3.","Proširene upute tekstom o upotrebi ove Excel datoteke za dostavu podataka nadležnim ministarstvima ili za neke druge potrebe."]
["2.0.4.","Popravljena kontrola broj 36 u PR-RAS-u koja je provjeravala pogrešne AOP pozicije. \nPopravljena kontrola koja je javljala pogrešku ako je bio popunjen polugodišnji obrazac NT za razine 22 i 23."]
["2.0.5.","Popravljena kontrola broj 9 u kojoj je za razinu 23 traženo da bude upisan i obrazac NT, a stvarno ne treba biti."]
["2.0.6.","Popravljene kontrole broj 7 i 12 (obveznost predaje po razinama 13 i 42) te kontrola 63 - iznosi planiranog za razdoblje i planiranog za cijelu godinu u obrascu PR-RAS moraju biti identični kod godišnjeg obrasca, a za ostala razdoblja iznos planirano za razdoblje mora biti manji ili jednak planiranom za cijelu godinu. "]
["2.0.7.","Popravljena je kontrola broj 63 koja govori da planirano za razdoblje ne može biti veće od planiranoga za godinu. Iznimno, ovakvo stanje dopušteno je kod sumarnih AOP oznaka u kojima se neka vrijednost oduzima (primjerice AOP oznaka 222 ili 223) jer se računaju automatski."]
["2.0.8.","Popravljene kontrole popunjenosti obrazaca za razine 13, 31, 41 i 42 na godišnjoj razini. Dodan je razdjel 095, Izbrisan je razdjel 065 (sa starim nazivom, ostao samo s novim), promijenjen opis kontrole P-VRIO obrasca (naglašavanje da se oznaka DA ili NE na referentnoj stranici mora upisati ručno)."]
["2.0.9.","Dodana mogućnost odabira svih razdoblje za 2010. godinu, dodani novi razdjeli za 2010."]
["2.1.0.","Popravljen je prikaz datuma od i do na nekim obrascima koji se je poremetio ubacivanjem novih razdoblja za 2010."]
["2.1.0.","Dorađena su poslovna pravila o popunjavanju obrasca, kolona planirano za razdoblje i planirano ukupno popunjavaju se samo na trećoj razini kontnog plana, a ne na četvrtoj kako je bilo ranije, te je obrazac dorađen u skladu s tim pravilom."]
["2.5.0.","Omogućen je unos samo obrasca Obveze (mjesečne) za razdoblja siječanj i veljaču 2011. Ostali obrasci će se mijenjati i čekaju se izmjene. Zbog toga je Obveze dobio novu šifru vrste posla."]
["2.9.0.","Omogućen unos obrazaca za I. kvartal 2011. godine - nepotpune kontrole."]
["2.9.1.","Omogućen unos obrasca Obveze za travanj 2011. godine"]
["3.0.0.","Dodane nove logičke kontrole za sve vrste obrazaca. Omogućen odabir svih razdoblja u 2011. godini."]
["3.0.1.","Dodan popis novih razdjela za 2012. godinu. Omogućen unos razdoblja i za 2012. godinu (nema više mogućnosti za unos razdoblja ranijih od 2011. godine)."]
["3.0.2.","Dodan razdjel 032 - Državni ured za Hrvate izvan Republike Hrvatske."]
["3.0.3.","Dodan razdjel 029 - Državni ured za upravljanje državnom imovinom. Dodana razdoblja za 2013. godinu. Dorađena je kontrola 14 - dodana je iznimka za obveznike koji su počeli s radom tokom godine, a ne od 1.1. Kod tih obveznika kontrola vrijedi samo za kolonu tekuće godine. Popravljena je kontrola 241 u koloni tekuće godine. Dodano je objašnjenje za prikaz datuma izvještavanja i datuma rada obveznika u 2. pasusu Uputa. Dodana je verzija Excel datoteke i na referentnu stranicu radi lakše provjere verzije."]
["3.0.4.","Dodan razdjel 033 - DRŽAVNI URED ZA OBNOVU I STAMBENO ZBRINJAVANJE. Dodane su nove kontrole koje provjeravaju jesu li korisnici popunili AOP oznake koje prema razini ne bi smjeli popuniti, tj. na kojima ne mogu imati upisan podatak različit od nule (kontrole 160 do 167). Ispravljena je formula za AOP 003 u PR-RAS obrascu, Porez i prirez na dohodak (AOP 004 do 009 - 010 - 011). Do sada je bilo pogrešno Porez i prirez na dohodak (AOP 004 do 009 - 010 + 011)"]
["3.0.5.","Ispraljena nova kontrola za razinu 31, umjesto 553 do 570, ova razina stvarno ne može imati popunjene AOP oznake 553 do 557."]
["3.0.6.","Dodana nova razdoblja za 2014. godinu te je dorađen popis razdjela i glava (omogućen samo unos onih koji su postojali u 2013. ili su otvoreni početkom 2014. godine)."]